{"text_format":"1","workbook":"xlsx","n_sheets":10,"sheets":["Instructions","Your Details","Single Line  Data Entry","Bulk Data Entry","CSV Data and Data Submission","DataBase","Waste Types","Conversion Factors","Facility Information","Version Control"],"not_rendered":{"charts":0,"images":20,"macros":1,"external_links":0,"defined_names":19,"comments":0,"pivot_tables":0},"unopened":[],"bounds":{"document_bytes":16777216,"sheet_cells":100000,"rows_first":2000,"rows_last":500,"rows_between":2000,"halvings":0,"cell_chars":16384,"cell_head_chars":4096},"cells_cut":0,"cells_raw":0,"read":"whole","date_system":"1900"}

{"sheet":"Instructions","index":0,"n_rows":99,"n_cols":3,"rows_kept":99,"cut":false,"hidden":false,"merged":[]}
[]
[]
[]
[null,"1. Purpose"]
[null,1.1000000000000001,"This worksheet has been developed to enable Victorian Health Services to collect and analyse waste data in a consistent manner. "]
[null,1.2,"This worksheet is intended solely for use by Victorian Health Services. "]
[]
[null,"2. General Information"]
[null,2.1,"General"]
[null,"a.","All Data Entry Fields are Mandatory unless Marked Optional"]
[null,"b.","Majority of data entry is via drop-down menus. Simply click on the cell in which data is to be entered and a box with a down arrow will appear.  Click on this and a list will appear.  Scroll down and select from this list by clicking. "]
[]
[null,2.2000000000000002,"Health Service Details"]
[null,"a","The name of the Health Service must be entered on the front page ( \"Cover Sheet\") and will saved for future use.  The user's name is also required to make an initial (the fist letter of first, middle and last names) for the data entry system."]
[]
[null,2.2999999999999998,"Health Service Waste Data"]
[null,"a","Health Services can enter data  via the \"Single Line Data Entry\"  tab or via the \"Bulk Data Entry\" tool."]
[]
[null,"3. Data Entry"]
[null,3.1,"Create Records with \"Single Line Data Entry\" Tool"]
[null,null,"Service and billing Period Details. Health service data can be selected via the use of dropdown lists, or by using the search panes."]
[null,null,"·  Service  Selection via the use of dropdown lists."]
[null,null,"        ·   Click on field to prompt list, select list using dropdown indicator"]
[null,null,"        ·   Scroll to find your health service and select using mouse"]
[null,null,"·   Site data selection via the use of dropdown lists."]
[null,null,"    ·   Click on field to prompt list, select list using dropdown indicator"]
[null,null,"    ·   Scroll to find your site and select using mouse"]
[null,null,"·  Service or Site  Selection via the use of search."]
[null,null,"    ·   Click on the search button to bring up the search pane"]
[null,null,"    ·   Enter a search term in the Service Name field"]
[null,null,"    ·   Click \"Search\""]
[null,null,"    ·   Choose result from dropdown list"]
[null,null,"    ·   To use click \"Use & Exit\""]
[null,null,"    ·  Your Selection Fields will automatically be populated"]
[null,null,"    ·  In the event you select a facility that is incompatible with other choices, you will be prompted to either correct your choice or browse"]
[]
[]
[null,null,"GLN and Address"]
[null,null,"GLN and Address are automatically populated by selecting the Site."]
[]
[null,null,"Waste Stream & Type Data"]
[null,null,"Waste Stream is mandatory and can only be entered through the use of the list provided."]
[null,null,"·  Waste Stream via the use of the dropdown list."]
[null,null,"        ·   Click on the Waste Stream field to bring up the list of available Waste Streams"]
[null,null,"        ·   Click on field to prompt list, select list using dropdown indicator"]
[null,null,"        ·   Select appropriate stream using mouse"]
[]
[null,null,"Bin Name is mandatory and should be entered through the use of the list provided, although custom entry is available."]
[null,null,"·  Bin Name via the use of the dropdown list."]
[null,null,"        ·  Following the selection of a Waste Stream Click on the Bin Name field to bring up the list of available Bins."]
[null,null,"        ·   Select appropriate bin using mouse"]
[null,null,"Type/Unit is mandatory and should be entered through the use of the list provided, although custom entry is available."]
[null,null,"·  Type/Unit via the use of the dropdown list."]
[null,null,"        ·  Following the selection of a Waste Stream & Bin Name Click on the Type/Unit field to bring up the list of available Bins type/units."]
[null,null,"        ·   Click on field to prompt list, select list using dropdown indicator"]
[null,null,"        ·   Select appropriate bin using mouse"]
[]
[null,null,"·  \"Bin Name\" & \"Type/Unit\" via custom Entry"]
[null,null,"        ·  Following the selection of a Waste Stream attempt to select an appropriate bin using the dropdown list."]
[null,null,"        ·   If a selection of a bin name is made, appropriate fields will pre-populate in the user form required."]
[null,null,"        ·  Following the selection of a Waste Stream Click  the custom entry button."]
[null,null,"        ·  Enter a Bin Name (if required), a density and a literage for the custom entry."]
[null,null,"        ·  Select \"Use Values\" to use or exit to discard."]
[]
[null,null,"Vendor, Cost & Quantity Data"]
[null,null,"Vendor"]
[null,null,"·  Enter name of the waste service provider in the vendor field"]
[null,null,"        ·   Click on \"Vendor\" field"]
[null,null,"        ·   Type vendor name"]
[null,null,"Invoice Number"]
[null,null,"·  Enter the Invoice Number associated with waste Record"]
[null,null,"        ·   Click on \"Invoice Number\"  field"]
[null,null,"        ·   Type invoice number"]
[null,null,"Cost"]
[null,null,"·  Enter the cost associated with waste Record"]
[null,null,"        ·   Click on the \"Cost\"  field"]
[null,null,"        ·   Type cost associated with the record - IMPORTANT: THIS COST IS NOT THE OVERALL COST, RATHER THE COST ASSOCIATED WITH THE LINE ITEM BEING ENETERED"]
[null,null,"Quantity"]
[null,null,"·  Enter the Quantity associated with waste Record"]
[null,null,"        ·   Click on the \"QTY  field"]
[null,null,"        ·   Type quantity associated with the record."]
[]
[null,null,"Create the Record"]
[null,null,"·  Create the record for later export s part of a CSV file record"]
[null,null,"        ·   Click the \"Add\" button"]
[null,null,"        ·   Enter any missing/incomplete/illegal field entries if prompted to do so."]
[]
[null,3.2,"Create Records with \"Bulk Data Entry\" Tool"]
[null,null,"·  Create the record for later export s part of a CSV file record"]
[null,null,"        ·   Copy and pase compliant records under the heading columns in the tool"]
[null,null,"        ·   Click the \"Process Data\" button"]
[null,null,"        ·   The tool will stop if an error/unmatched filed is discovered.  To continue, correct the data and click the \"Process Data\" button"]
[]
[null,"3. Submit Records"]
[null,null,"·  Submit the generated data"]
[null,null,"        ·   Select the CSV Data tab"]
[null,null,"        ·   Click the \"Submit\" button"]
[null,null,"        ·   Allow software to open your the mail client."]
[null,null,"        ·   Send email to the pre-filled address"]

{"sheet":"Your Details","index":1,"n_rows":29,"n_cols":13,"rows_kept":29,"cut":false,"hidden":false,"merged":[[1,2,1,16],[25,5,25,8],[16,4,16,5],[18,4,18,5],[20,4,20,5],[12,2,12,5],[13,8,13,10],[22,2,24,7],[19,8,19,14],[17,12,17,14]]}
["0003"]
[null,null,"Victorian Public Healthcare Services Waste Reporting Tool"]
[]
[]
[]
[]
[]
[]
[null,"Your Details"]
[]
[]
[null,null,"Your Health Service:"]
[null,null,"Albury Wodonga Health",null,null,null,{"$f":"IF(ISBLANK(C13),0,1)","v":1}]
[null,null,null,null,null,null,null,null,null,null,null,null,"DHHS Contact:"]
[null,null,null,null,null,null,null,null,null,null,null,null,"Tiernan Humphrys"]
[null,null,null,null,null,null,null,null,null,null,null,null,"Manager Environmental Sustainability"]
[null,null,null,"Your First Name","a",null,null,null,null,null,null,null,"p. 03 9096 2057"]
[null,null,null,null,null,null,null,null,null,null,null,null,"sustainability@dhhs.vic.gov.au"]
[null,null,null,"Your Middle Name","b"]
[null,null,null,null,null,null,null,null,"Data is Submitted  to the DHHS via the CSV Data & Data Submission Tab"]
[null,null,null,"Your Surname","c"]
[]
[null,null,"Your name is used to make a unique identifier for the file that you will send to the Database.  The Unique identifier is constructed from the first letter of each name.  Your name will not be shared directly "]
[]
[]
[]
[]
[]
[null,false]

{"sheet":"Single Line  Data Entry","index":2,"n_rows":31,"n_cols":21,"rows_kept":31,"cut":false,"hidden":false,"merged":[[18,10,18,11],[22,10,22,11],[22,13,22,14],[1,2,1,16],[22,7,22,8],[14,8,14,9],[14,2,14,6],[22,3,22,5],[12,2,12,4],[12,7,12,9],[18,4,18,5],[18,7,18,8],[9,1,9,2]]}
["0136"]
[null,null,"Victorian Public Healthcare Services Waste Reporting Tool"]
[]
[]
[]
[]
[]
[]
[]
[null,"Waste Data Entry -",null,{"$f":"LEFT('Your Details'!E17,1)&LEFT('Your Details'!E19,1)&LEFT('Your Details'!E21,1)","v":"abc"},null,null,null,null,null,null,null,null,null,null,null,null,null,{"$f":"IF(ISBLANK('Your Details'!C13),C13,'Your Details'!C13)","v":"Albury Wodonga Health"}]
[]
[null,null,"Service Name",null,null,null,null,"Site Name",null,null,null,null,"Period Start",null,null,"Period End"]
[null,null,"Ambulance Victoria",null,null,null,null,null,null,null,{"$f":"IF(ISBLANK(C13),0,(COUNTIF(OFFSET(DataBase!$C$1,MATCH(C13,DataBase!$C:$C,0)-1,1,COUNTIF(DataBase!$C:$C,C13),1),H13)))","v":0},null,{"$f":"TEXT(\"01/\"&MONTH(TODAY()-30)&\"/\"&YEAR(TODAY()-30),\"dd/mm/yyyy\")","v":"01/03/2018"},1,null,{"$f":"TEXT(\"28/\"&MONTH(TODAY()-30)&\"/\"&YEAR(TODAY()-30),\"dd/mm/yyyy\")","v":"28/03/2018"},1]
[null,null,"Address",null,null,null,null,null,"GLN"]
[null,null,{"$f":"VLOOKUP(H13,DataBase!D:F,3,FALSE)","v":{"$error":"#N/A"}},null,null,null,null,null,{"$f":"VLOOKUP($H$13,DataBase!D:F,2,FALSE)","v":{"$error":"#N/A"}}]
[]
[]
[null,null,null,null,"Waste Category",null,null,"Waste Sub Type",null,null,"Unit of Measure"]
[null,null,null,null,null,null,null,null,null,null,null,null,{"$f":"IF(H19 = \"Please Select\",0,(COUNTIF(OFFSET('Waste Types'!$C:$C,MATCH(E19,'Waste Types'!$C:$C,0)-1,1,COUNTIF('Waste Types'!$C:$C,E19),1),H19)))","v":{"$error":"#N/A"}}]
[null,null,null,null,null,null,null,"density:",{"$f":"IF(H19=\"\",0,VLOOKUP(H19,'Waste Types'!D:E,2,FALSE))","v":0},null,"m3:",{"$f":"IF(K19 = \"Please Select\",0,VLOOKUP(K19,'Conversion Factors'!$A:$F,3,FALSE))","v":{"$error":"#N/A"}},"UOM",{"$f":"IF(K19 = \"Please Select\",0,VLOOKUP(K19,'Waste Types'!$J:$K,2,FALSE))","v":{"$error":"#N/A"}}]
[null,null,null,null,null,null,null,{"$f":"H19","v":0},null,null,"fullness Factor",{"$f":"VLOOKUP(K19,'Conversion Factors'!$A:$F,5,FALSE)","v":{"$error":"#N/A"}}]
[null,null,null,"Vendor",null,null,null,"Invoice Number",null,null,"Quantity",null,null,"Cost Ex GST"]
[null,null,null,null,null,null,{"$f":"IF(ISBLANK(D23),0,1)","v":0},null,null,{"$f":"IF(ISBLANK(H23),0,1)","v":0},null,null,{"$f":"IF(ISBLANK(K23),0,1)","v":0},null,null,{"$f":"IF(ISBLANK(N23),0,1)","v":0}]
[null,null,null,null,null,"(Optional)",null,null,"(Optional)",null,"kg",{"$f":"K23*L20*I20","v":{"$error":"#N/A"}}]
[]
[]
[]
[]
[]
["GLN","Data Provider Classification","Service Provider","Invoice Number","Customer Name","Site Name","Site Address","Waste Stream","Period Start Date","Period End Date","Period Days","Bin Name","Bin Count/Quantity","Bin Count/Quantity UOM","Bin Volume","Bin Volume UOM","Bin Conversion Factor Density","Bin Conversion Factor Density UOM","Bin Conversion Factor Fullness","Nett Weight of Waste(kg)","Cost(ex GST)"]
[{"$f":"I15","v":{"$error":"#N/A"}},{"$f":"D10","v":"abc"},{"$f":"D23","v":0},{"$f":"H23","v":0},{"$f":"C13","v":"Ambulance Victoria"},{"$f":"H13","v":0},{"$f":"C15","v":{"$error":"#N/A"}},{"$f":"E19 & \" \" & H19","v":" "},{"$f":"TEXT(M13,\"dd/mm/yyy\")","v":"01/03/2018"},{"$f":"TEXT(P13,\"dd/mm/yyyy\")","v":"28/03/2018"},{"$f":"J31-I31","v":27},{"$f":"K19","v":0},{"$f":"K23","v":0},{"$f":"N20","v":{"$error":"#N/A"}},{"$f":"IF(K19=\"kg\",\"\",L20)","v":{"$error":"#N/A"}},"m3",{"$f":"IF(K19=\"kg\",\"\",I20)","v":0},"kg/m3",{"$f":"IF(K19=\"kg\",\"\",L21)","v":{"$error":"#N/A"}},{"$f":"IF(K19=\"kg\",K23,L24*S31)","v":{"$error":"#N/A"}},{"$f":"N23","v":0}]

{"sheet":"Bulk Data Entry","index":3,"n_rows":5,"n_cols":22,"rows_kept":5,"cut":false,"hidden":false,"merged":[]}
[]
[null,null,"Victorian Public Healthcare Services Waste Reporting Tool"]
[1,2,3,4,5,6,7,8,9,10,11,12,13,14,15,16,17,18,19,20,21,22]
[]
[null,"GLN","Period Start","Period End","Waste Category","Waste Sub Type","Unit of Measure","QTY","Invoice Number","Vendor","COST"]

{"sheet":"CSV Data and Data Submission","index":4,"n_rows":0,"n_cols":0,"rows_kept":0,"cut":false,"hidden":false,"merged":[]}

{"sheet":"DataBase","index":5,"n_rows":202,"n_cols":6,"rows_kept":202,"cut":false,"hidden":false,"merged":[]}
["Service Names",null,"Campus Names (Service/Campus - SERVICE)","Campus Names (Service/Campus - CAMPUS)","GLN","Address"]
["Please Select",null,"Please Select","Please Select","Please Select","Please Select"]
["Albury Wodonga Health",null,"Albury Wodonga Health","Albury Hospital",1000000000024,"4 Watson St WODONGA"]
["Alexandra District Hospital",null,"Albury Wodonga Health","Wodonga Hospital",1000000000025,"53-81 Vermont St, WODONGA"]
["Alfred Health",null,"Alexandra District Hospital","Alexandra District Hospital",9339626000004,"24 Cooper Street ALEXANDRA"]
["Alpine Health",null,"Alfred Health","Caulfield Hospital",9339626005375,"260-292 Kooyong Road CAULFIELD"]
["Ambulance Victoria",null,"Alfred Health","Sandringham Hospital",9339626005382,"193 Bluff Road SANDRINGHAM"]
["Austin Health",null,"Alfred Health","The Alfred Hospital",9339626005368,"55 Commercial Road MELBOURNE"]
["Bairnsdale Regional Health Service",null,"Alfred Health","Alfred Health - unallocated data",9339626000165]
["Ballarat Health Services",null,"Alpine Health","Bright Hospital",9339626000301,"32-36 Cobden Street BRIGHT"]
["Barwon Health",null,"Alpine Health","Hawthorn Village Hostel",1000000000054,"1 Rotary Drive BRIGHT"]
["Bass Coast Health",null,"Alpine Health","Mount Beauty Hospital",9339626001179,"Service entrance Tawonga Crescent MOUNT BEAUTY"]
["Beaufort and Skipton Health Service",null,"Alpine Health","Myrtleford Hospital",9339626001209,"Service entrance Standish Street MYRTLEFORD"]
["Beechworth Health Service",null,"Ambulance Victoria","Ambulance Victoria",9339626007225,"375 Manningham Road DONCASTER"]
["Benalla Health",null,"Austin Health","Austin Health satellite sites",1000000000001,""]
["Bendigo Health",null,"Austin Health","Austin Hospital",9339626000042,"145 Studley Road HEIDELBERG"]
["Boort District Health",null,"Austin Health","Heidelberg Repatriation Hospital",9339626000790,"300 Waterdale Road HEIDELBERG HEIGHTS"]
["Calvery Health Care Bethlehem",null,"Austin Health","Royal Talbot Rehabilitation Centre",9339626001490,"1 Yarra Boulevard KEW"]
["Casterton Memorial Hospital",null,"Austin Health","Austin Health - unallocated data",9377778609652]
["Castlemaine Health",null,"Bairnsdale Regional Health Service","Bairnsdale Regional Health Service",9339626000066,"122 Day Street BAIRNSDALE"]
["Central Gippsland Health Service",null,"Ballarat Health Services","Ballarat Base Hospital",9339626006327,"Drummond Street BALLARAT"]
["Cobram District Health",null,"Ballarat Health Services","Dental 53 Herford St",1000000000044,"53 Hertoford St Sebastopol"]
["Cohuna District Health",null,"Ballarat Health Services","Eastern View Psych Centre",1000000000050,"40 Stawell St Ballarat"]
["Colac Area Health",null,"Ballarat Health Services","Eureka Complex",1000000000045,"Balmoral Drive Ballarat (159 Kenny St Ballarat)"]
["Dental Health Services Victoria",null,"Ballarat Health Services","Eureka Linen",1000000000047,"Lonsdale St Ballarat"]
["Djerriwarrh Health Services",null,"Ballarat Health Services","Eyres House",1000000000048,"810 Ligar St Ballarat"]
["East Grampians Health Service",null,"Ballarat Health Services","GICS 804 Sturt St",1000000000051,"804 Sturt St Ballarat"]
["East Wimmera Health Service",null,"Ballarat Health Services","Midlands Complex",1000000000046,"701-703 Norman St Ballarat"]
["Eastern Health",null,"Ballarat Health Services","Pleasant Homes Mother Baby Unit",1000000000049,"28-34 Pleasant St South Ballarat"]
["Echuca Regional Health",null,"Ballarat Health Services","Queen Elizabeth Campus",9339626000073,"102 Ascot Street South BALLARAT"]
["Edenhope & District Memorial Hospital",null,"Ballarat Health Services","Queen Elizabeth Village ",1000000000042," Lot 2 Gillies St Wendouree"]
["Gippsland Southern Health Service",null,"Ballarat Health Services","safety Link 16 eastwood st ",1000000000052,"16 Eastwood St Ballarat"]
["Goulburn Valley Health",null,"Ballarat Health Services","Sebastopol Complex",1000000000041,"131 Morgan St Sebastopol (85 Edwards St Sebastopol)"]
["Heathcote Health",null,"Ballarat Health Services","Sebastopol Complex Jack Lonsdale Lodge",1000000000053,"131 Morgan St Sebastopol (85 Edwards St Sebastopol)"]
["Hepburn Health Service",null,"Barwon Health","Barwon Health Minor Sites",9339626012120,""]
["Hesse Rural Health Service",null,"Barwon Health","McKellar Centre",9339626000127,"45 Ballarat Road GEELONG"]
["Heywood Rural Health",null,"Barwon Health","University Hospital Geelong",9339626000110,"272-322 Ryrie St GEELONG"]
["Inglewood & Districts Health Service",null,"Barwon Health","Barwon Health - unallocated data",9339626000103]
["Kerang District Health",null,"Bass Coast Health","Wonthaggi Hospital",9339626004538,"Graham Street WONTHAGGI"]
["Kilmore & District Hospital",null,"Beaufort and Skipton Health Service","Beaufort Hospital",9339626000189,"28 Havelock Street BEAUFORT"]
["Kooweerup Regional Health Service",null,"Beaufort and Skipton Health Service","Skipton Hospital",9339626000196,"Blake Street SKIPTON"]
["Kyabram and District Health Services",null,"Beaufort and Skipton Health Service","Beaufort and Skipton - Unallocated data",9339626000172]
["Kyneton District Health Service",null,"Beechworth Health Service","Beechworth Health Service",9339626000202,"52 Sydney Rd BEECHWORTH"]
["Latrobe Regional Hospital",null,"Benalla Health","Benalla Health",9339626000219,"45-53 Coster Street BENALLA"]
["Lorne Community Hospital",null,"Bendigo Health","375 Barnard St facility - Breastscreen",1000000000005]
["Maldon Hospital",null,"Bendigo Health","ACC retained buildings",1000000000003]
["Mallee Track Health & Community Service",null,"Bendigo Health","Anne Caudle Centre - New Bendigo Hospital",9339626000257,"BENDIGO HEALTH - SUPPLY LOADING DOCK - 37 DROUGHT STREET BENDIGO"]
["Mansfield District Hospital",null,"Bendigo Health","Atkins Street Facility",1000000000004]
["Maryborough District Health Service",null,"Bendigo Health","Bendigo Hospital",9339626000233,"100 Barnard St BENDIGO"]
["Melbourne Health",null,"Bendigo Health","Condon St facility - John Bomford Centre",9339626000240,"Condon Street BENDIGO"]
["Mercy Health",null,"Bendigo Health","Echuca 214 facility – Echuca CMHS office    ",1000000000033]
["Mildura Base Hospital",null,"Bendigo Health","Gibson Street Campus - Joan Pinder Nursing Home",1000000000007]
["Monash Health",null,"Bendigo Health","Gibson Street Campus - Stella Anderson Nursing Home",1000000000008]
["Moyne Health Services",null,"Bendigo Health","Golden Square Campus - Carshalton House",1000000000009]
["Nathalia District Hospital",null,"Bendigo Health","Golden Square Campus - Golden Oaks Nursing Home",1000000000010]
["Northeast Health Wangaratta",null,"Bendigo Health","Golden Square campus - Unit 1 @ APARC",1000000000034]
["Northern Health",null,"Bendigo Health","Havlin St campus - HART & RHT offices",1000000000011]
["Numurkah District Health Service",null,"Bendigo Health","NBH Tenants - Aust Clinical Labs",1000000000006]
["Omeo District Hospital",null,"Bendigo Health","Simpkin facility",1000000000012]
["Orbost Regional Health",null,"Bendigo Health","Swan Hill facility – Swan Hill CMHS office",1000000000037]
["Otway Health",null,"Bendigo Health","Vahland facility",1000000000013]
["Peninsula Health",null,"Boort District Health","Boort District Health",9339626000288,"31 Kiniry Street BOORT"]
["Peter MacCallum Cancer Centre",null,"Calvary Health Care Bethlehem","Calvary Health Care Bethlehem",9339626000332]
["Portland District Health",null,"Casterton Memorial Hospital","Casterton Memorial Hospital",9339626000370,"63 - 69 Russell Street CASTERTON"]
["Robinvale District Health Services",null,"Castlemaine Health","Castlemaine Health",9339626001162,"142 Cornish Street CASTLEMAINE"]
["Rochester & Elmore District Health Service",null,"Central Gippsland Health Service","Heyfield Hospital",9339626001964,"14 Licola Road HEYFIELD"]
["Royal Children's Hospital",null,"Central Gippsland Health Service","Maffra Campus",9339626000400,"48 Kent Street MAFFRA"]
["Royal Victorian Eye & Ear Hospital",null,"Central Gippsland Health Service","Sale Campus",9339626000417,"155 Guthridge Parade SALE"]
["Royal Women’s Hospital",null,"Central Gippsland Health Service","Stretton Park Hostel",9339626001971,"89-103 Kent Street MAFFRA"]
["Rural Northwest Health",null,"Cobram District Health","Cobram District  Health",9339626000424,"24-32 Broadway St COBRAM"]
["Seymour District Memorial Hospital",null,"Cohuna District Health","Cohuna District Health",9339626000431,"144-158 King George St COHUNA"]
["South Gippsland Hospital",null,"Colac Area Health","Colac District Hospital",9339626000448,"2-28 Connor Street COLAC"]
["South West Healthcare",null,"Dental Health Services Victoria","Dental Health Services Victoria",9339626000509,"720 Swanston Street CARLTON"]
["St Vincent's Health",null,"Djerriwarrh Health Services","Djerriwarrh Health Services",9339626000516,"35 Grant st BACCHUS MARSH"]
["Stawell Regional Health",null,"East Grampians Health Service","East Grampians Health Service",9339626000547,"Girdlestone Street ARARAT"]
["Swan Hill District Health",null,"East Wimmera Health Service","Birchip Campus",9339626000585,"26 Duncan Street BIRCHIP"]
["Tallangatta Health Service",null,"East Wimmera Health Service","Charlton Campus",9339626000592,"4 Learmonth Street CHARLTON"]
["Terang and Mortlake Health Services",null,"East Wimmera Health Service","Donald Campus",9339626000608,"Aitken Avenue DONALD"]
["Timboon & District Healthcare Service",null,"East Wimmera Health Service","St Arnaud Campus",9339626000615,"52 North Western Road ST ARNAUD"]
["Upper Murray Health & Community Services",null,"East Wimmera Health Service","Wycheproof Campus",9339626000622,"Grandview Street WYCHEPROOF"]
["West Gippsland Healthcare Group",null,"East Wimmera Health Service","East Wimmera HS - unallocated data",9339626000578]
["West Wimmera Health Service",null,"Eastern Health","Aged Care",1000000000030]
["Western District Health Service",null,"Eastern Health","Box Hill Hospital",9339626001483,"Box Hill Hospital Nelson Road BOX HILL"]
["Western Health",null,"Eastern Health","Eastern Health",1000000000029]
["Wimmera Health Care Group",null,"Eastern Health","Healesville Hospital",9339626000783,"Healesville Hospital 377 Maroondah Hwy HEALESVILLE"]
["Yarram and District Health Service",null,"Eastern Health","Maroondah Hospital",9339626001063,"Maroondah Hospital Davey Drive RINGWOOD EAST"]
["Yarrawonga Health",null,"Eastern Health","Minor sites",1000000000031]
["Yea & District Memorial Hospital",null,"Eastern Health","The Angliss Hospital",9339626000028,"Angliss Hospital Edward Street FERNTREE GULLY"]
["Health Purchasing Victoria",null,"Eastern Health","The Peter James Centre",9339626001377,"Peter James Centre Cnr Burwood Hwy and Mahoneys Road BURWOOD EAST"]
["Victorian Portfolio",null,"Eastern Health","Wantirna Health",9339626006020,"251 Mountain Highway WANTIRNA"]
[null,null,"Eastern Health","Yarra Ranges Health",9339626005498,"25 Market St Loading Dock LILYDALE"]
[null,null,"Eastern Health","Eastern Health - unallocated data",9339626000295]
[null,null,"Echuca Regional Health","Echuca Regional Health",9339626000639,"17 Francis Street ECHUCA"]
[null,null,"Edenhope & District Memorial Hospital","Edenhope & District Memorial Hospital",9339626000646,"128-134 Elizabeth Street EDENHOPE"]
[null,null,"Gippsland Southern Health Service","Korumburra Hospital",9339626000707,"Hillside Lodge Bridge Road KORUMBURRA"]
[null,null,"Gippsland Southern Health Service","Leongatha Hospital",9339626000714,"66 Koonwarra Road LEONGATHA"]
[null,null,"Goulburn Valley Health","Community Health @ GV Health",1000000000014,""]
[null,null,"Goulburn Valley Health","Shepparton Hospital",9339626000738,"Monash St SHEPPARTON"]
[null,null,"Goulburn Valley Health","Shepparton minor sites",1000000000023,""]
[null,null,"Goulburn Valley Health","Tatura Hospital",9339626000745,"Monash St SHEPPARTON"]
[null,null,"Goulburn Valley Health","Waranga Memorial Hospital",1000000000015,""]
[null,null,"Goulburn Valley Health","Waranga minor sites",1000000000016,""]
[null,null,"Healthcote Health","Heathcote Hospital",9339626001094,"39 Hospital St HEATHCOTE"]
[null,null,"Hepburn Health Service","Creswick Hospital",9339626000820,"Napier Street CRESWICK"]
[null,null,"Hepburn Health Service","Daylesford Hospital",9339626000837,"Hodge Street DAYLESFORD"]
[null,null,"Hepburn Health Service","Hepburn Health Minor Sites",9339626012137,""]
[null,null,"Hepburn Health Service","Hepburn Health - unallocated data",9339626000806,""]
[null,null,"Hesse Rural Health Service","Hesse Rural Health",9339626000851,"8 Gosney St WINCHELSEA"]
[null,null,"Heywood Rural Health","Heywood Rural Health Service",9339626000868,"21 Barclay St HEYWOOD"]
[null,null,"Inglewood & Districts Health Service","Inglewood & Districts Health Services",9339626000882,"3 Hospital Street INGLEWOOD"]
[null,null,"Kerang District Health","Kerang District Health",9339626000929,"13 Burgoyne Street KERANG"]
[null,null,"Kilmore & District Hospital","Kilmore & District Hospital",9339626000936,"Rutledge St KILMORE"]
[null,null,"Kooweerup Regional Health Service","Kooweerup Regional Health Service",9339626000950,"Rossiter Road KOOWEERUP"]
[null,null,"Kyabram and District Health Services","Kyabram and District Health Services",9339626000974,"86-96 Fenaughty Street KYABRAM"]
[null,null,"Kyneton District Health Service","Kyneton District Health Service",9339626000981,"7-25 Caroline Chisholm Dr KYNETON"]
[null,null,"Latrobe Regional Hospital","Latrobe Regional Hospital",9339626001001,"Princes Highway TRARALGON"]
[null,null,"Lorne Community Hospital","Lorne Community Hospital",9339626001018,"Albert St LORNE"]
[null,null,"Maldon Hospital","Maldon Hospital",9339626001025,"Chapel Street MALDON"]
[null,null,"Mallee Track Health & Community Service","Mallee Track Health & Community Service",9339626001032,"28 Britt Street OUYEN"]
[null,null,"Mansfield District Hospital","Mansfield District Hospital",9339626001056,"53 Highett St MANSFIELD"]
[null,null,"Maryborough District Health Service","Maryborough District Health Service",9339626001070,"75 to 87 Clarendon Street MARYBOROUGH"]
[null,null,"Melbourne Health","Melbourne Health minor sites",1000000000017,""]
[null,null,"Melbourne Health","RMH Parkville",9377779147740,"RMH Grattan Street PARKVILLE"]
[null,null,"Melbourne Health","RMH Royal Park",9339626006334,"RMH Grattan Street PARKVILLE"]
[null,null,"Melbourne Health","Melbourne Health - unallocated data",9339626001919]
[null,null,"Mercy Health","Mercy for Women",9339626002657,"163 Studley Road HEIDELBERG"]
[null,null,"Mercy Health","O'Connell Family Centre",9377779091562,"6 Mont Albert Rd CANTERBURY"]
[null,null,"Mercy Health","Werribee CCU",1000000000018,"131-135 Synnot St, WERRIBEE"]
[null,null,"Mercy Health","Werribee Mercy Hospital",9377779153741,"300 Princes Hwy WERRIBEE"]
[null,null,"Mercy Health","Mercy Health - unallocated data",9377779153734]
[null,null,"Mildura Base Hospital","Mildura Hospital",9339626001148,"Ontario Avenue MILDURA"]
[null,null,"Monash Health","Casey Hospital",9339626000363,"62-70 Kangan Dr BERWICK"]
[null,null,"Monash Health","Cranbourne Integrated Care Centre",9339626000479,"140 - 154 Sladen Street CRANBOURNE"]
[null,null,"Monash Health","Dandenong Hospital",9339626000493,"135 David Street DANDENONG"]
[null,null,"Monash Health","Kingston Centre",9339626000943,"Warringal Road CHELTENHAM"]
[null,null,"Monash Health","Monash Medical Centre Clayton",9339626002961,"Loading dock 1 246 clayton road CLAYTON"]
[null,null,"Monash Health","Moorabbin Hospital",9339626001155,"Centre Road BENTLEIGH EAST"]
[null,null,"Monash Health","Monash Health - unallocated data",9377779117767]
[null,null,"Moyne Health Services","Moyne Health Services",9339626001193,"Villiers St PORT FAIRY"]
[null,null,"Nathalia District Hospital","Nathalia District Hospital",9339626001216,"36-44 McDonell St NATHALIA"]
[null,null,"Northeast Health Wangaratta","Northeast Health Wangaratta",9339626001278,"35-47 Green Street WANGARATTA"]
[null,null,"Northern Health","Broadmeadows Health Service",9339626000318,"35 Johnstone St BROADMEADOWS"]
[null,null,"Northern Health","Bundoora Extended Care Centre",9339626000325,"1231 Plenty Rd, BUNDOORA"]
[null,null,"Northern Health","Craigieburn Health Service",9339626006341,"350 Craigieburn Road West CRAIGIEBURN"]
[null,null,"Northern Health","Northern Hospital",9339626001698,"185 Cooper St EPPING"]
[null,null,"Northern Health","Panch Health Service",9377779091791,"300 Bell St PRESTON"]
[null,null,"Northern Health","Northern Health - unallocated data",9339626001285]
[null,null,"Numurkah District Health Service","Numurkah Hospital",9339626001292,"2 Katamatite Rd NUMURKAH"]
[null,null,"Omeo District Hospital","Omeo District Hospital",9339626001308,"Easton Street OMEO"]
[null,null,"Orbost Regional Health","Orbost Regional Health",9339626001315,"104 - 107 Boundary Road ORBOST"]
[null,null,"Otway Health","Otway Health",9339626001339,"75 McLachlan St APOLLO BAY"]
[null,null,"Peninsula Health","Adult Prevention and Recovery Care - APARC",9339626013059,"87-91 Beach Street"]
[null,null,"Peninsula Health","Chelsea Heights Health Service",9339626001346,"Wells Road"]
[null,null,"Peninsula Health","Frankston Community Care Unit",9339626013066,"4 Spray Street"]
[null,null,"Peninsula Health","Frankston Hospital",9339626000684,"2 Hastings Road FRANKSTON"]
[null,null,"Peninsula Health","Golf Links Road",9339626013042,"125 Golf Links Road"]
[null,null,"Peninsula Health","Hastings Community Health Centre",9339626013073,"185 High Street"]
[null,null,"Peninsula Health","Mornington Centre",9339626013028,"Building 1 24 Separation Street"]
[null,null,"Peninsula Health","Mount Eliza Centre",9339626001186,"Jacksons Road MOUNT ELIZA"]
[null,null,"Peninsula Health","Rosebud Hospital",9339626001469,"1527 Nepean Highway ROSEBUD"]
[null,null,"Peninsula Health","Youth Prevention and Recovery Care - YPARC",9339626013080,"21-23 Yuille Street"]
[null,null,"Peninsula Health","Peninsula CMHS",9339626001353,"Building PA - Playne Street"]
[null,null,"Peninsula Health","Peninsula Health - unallocated data",9339626001346]
[null,null,"Peter MacCallum Cancer Centre","Peter MacCallum Cancer Centre",9339626007232,"VCCC Building, Gate 1, 14 Flemington Rd MELBOURNE"]
[null,null,"Portland District Health","Portland District Health",9339626001384,"Bentinck Street PORTLAND"]
[null,null,"Robinvale District Health Services","Robinvale District Health Services",9339626001438,"128 Latje Rd ROBINVALE"]
[null,null,"Rochester & Elmore District Health Service","Rochester and Elmore District Health Service",9339626001452,"Pascoe Street ROCHESTER"]
[null,null,"Royal Children's Hospital","Royal Children's Hospital",9377778867762,"RCH 50 Flemington Road PARKVILLE"]
[null,null,"Royal Victorian Eye & Ear Hospital","Royal Victorian Eye and Ear",9377779151877,"32 Gisborne St EAST MELBOURNE"]
[null,null,"Royal Women’s Hospital","Royal Women’s Hospital",9339626001506,"RWH Grattan Street PARKVILLE"]
[null,null,"Rural Northwest Health","Beulah Hospital",9339626000271,"Cnr Henty Hwy & Bell St BEULAH"]
[null,null,"Rural Northwest Health","Hopetoun Campus",9339626000875,"12 Mitchell Place HOPETOUN"]
[null,null,"Rural Northwest Health","Warracknabeal Campus",9339626001766,"18 Dimboola Road WARRACKNABEAL"]
[null,null,"Seymour District Memorial Hospital","Seymour District Memorial Hospital",9339626001544,"Brettoneux St SEYMOUR"]
[null,null,"South Gippsland Hospital","South Gippsland Hospital",9339626001551,"87 Station Road FOSTER"]
[null,null,"South West Healthcare","South West Healthcare",9339626001568,"Ryot Street WARRNAMBOOL"]
[null,null,"St Vincent's Health","Caritas Christi Hospice Kew",9344836000461,"104 Studley Park Road MELBOURNE"]
[null,null,"St Vincent's Health","St George's Hospital",9344836000126,"283 Cotham Road MELBOURNE"]
[null,null,"St Vincent's Health","St Vincent's Hospital Melbourne",9344836000072,"41 Victoria Parade MELBOURNE"]
[null,null,"St Vincent's Health","St Vincent's minor sites",1000000000021,""]
[null,null,"St Vincent's Health","St Vincent's - unallocated data",9339626001612,""]
[null,null,"Stawell Regional Health","Stawell Regional Health",9377778984186,"Sloane Street STAWELL"]
[null,null,"Swan Hill District Health","Swan Hill District Health",9339626001926,"Splatt Street SWAN HILL"]
[null,null,"Tallangatta Health Service","Tallangatta Health Service",9339626001643,"25 Barree Street TALLANGATTA"]
[null,null,"Terang and Mortlake Health Services","Terang and Mortlake Health Services",9339626001650,"66-68 High Street\n66-68 High Street TERANG"]
[null,null,"Timboon & District Healthcare Service","Timboon & District Healthcare",9339626001704,"Hospital Road TIMBOON"]
[null,null,"Upper Murray Health & Community Services","Upper Murray Health and Community Services",9339626001735,"Kiell Street CORRYONG"]
[null,null,"West Gippsland Healthcare Group","West Gippsland Healthcare Group",9339626001780,"41 Landsborough Street WARRAGUL"]
[null,null,"West Wimmera Health Service","West Wimmera Health Service",9339626001803,"45-47 Neslon St NHILL"]
[null,null,"Western District Health Service","Western District Health Service",9339626001810,"Foster Street HAMILTON"]
[null,null,"Western Health","Footscray Hospital",9377779147641,"Gordon Street FOOTSCRAY"]
[null,null,"Western Health","Hazeldean Transitional Care Facility",9339626012045,"211 Osborne Street WILLIAMSTOWN"]
[null,null,"Western Health","Sunbury Day Procedure Centre",9339626002954,"7 Macedon Street SUNBURY"]
[null,null,"Western Health","Sunshine Hospital",9377779147658,"Furlong Road ST ALBANS"]
[null,null,"Western Health","Western Health Minor Sites",1000000000022,""]
[null,null,"Western Health","Williamstown Hospital",9377779147665,"Railway Crescent WILLIAMSTOWN"]
[null,null,"Wimmera Health Care Group","Wimmera Health Care Group",9339626001834,"83 Baillie Street HORSHAM"]
[null,null,"Yarram and District Health Service","Yarram and District Health Service",9339626001889,"Devon Street YARRAM"]
[null,null,"Yarrawonga Health","Yarrawonga Hospital",9339626001896,"33 Piper St YARRAWONGA"]
[null,null,"Yea & District Memorial Hospital","Yea and District Memorial Hospital",9339626001902,"45 Station St YEA"]
[null,null,"Health Purchasing Victoria","Victorian Portfolio",9999999999999]
[null,null,"Victorian Portfolio","Victorian Portfolio",9999999999999]

{"sheet":"Waste Types","index":6,"n_rows":180,"n_cols":11,"rows_kept":180,"cut":false,"hidden":false,"merged":[]}
[]
["Waste Type UID",null,"Broad Activity Group","Broad Activity","Density kg/m3",null,"EDMS Activity",null,"Waste Sub Type","EDMS Bin Name","UOM"]
["Clinical waste",null,"Clinical waste","Anatomical",227,null,"Clinical waste Anatomical",null,"Clinical wasteAnatomical","kg","kg"]
["General waste",null,"Clinical waste","Clinical waste",227,null,"Clinical waste Clinical waste",null,"Clinical wasteAnatomical","Laprosmart L64 (count)","ea"]
["Recycling",null,"Clinical waste","Cytotoxic",227,null,"Clinical waste Cytotoxic",null,"Clinical wasteAnatomical","L64 delivery fee","ea"]
["Secure documents",null,"Clinical waste","Pharmaceutical",227,null,"Clinical waste Pharmaceutical",null,"Clinical wasteClinical waste","kg","kg"]
["Liquid waste",null,"Clinical waste","Quarantine",227,null,"Clinical waste Quarantine",null,"Clinical wasteClinical waste","Clinismart C64 (count)","ea"]
[null,null,"Clinical waste","Sharps",227,null,"Clinical waste Sharps",null,"Clinical wasteClinical waste","C64 delivery fee","ea"]
[null,null,"General waste","Bins",115,null,"General waste Bins",null,"Clinical wasteCytotoxic","kg","kg"]
[null,null,"General waste","Compactor",348,null,"General waste Compactor",null,"Clinical wasteCytotoxic","Cytosmart CY64 (count)","ea"]
[null,null,"General waste","Continence aids",170,null,"General waste Continence aids",null,"Clinical wasteCytotoxic","CY64 delivery fee","ea"]
[null,null,"General waste","Enviropoles - butt bins",170,null,"General waste Enviropoles - butt bins",null,"Clinical wastePharmaceutical","kg","kg"]
[null,null,"General waste","Hygiene waste",170,null,"General waste Hygiene waste",null,"Clinical wastePharmaceutical","Pharmasmart P64 (count)","ea"]
[null,null,"General waste","Nappy disposal",170,null,"General waste Nappy disposal",null,"Clinical wastePharmaceutical","P64 delivery fee","ea"]
[null,null,"General waste","Sanitary waste",87,null,"General waste Sanitary waste",null,"Clinical wasteQuarantine","kg","kg"]
[null,null,"General waste","Skips",87,null,"General waste Skips",null,"Clinical wasteSharps","kg","kg"]
[null,null,"Liquid waste","Grease traps",950,null,"Liquid waste Grease traps",null,"Clinical wasteSharps","Sharpsmart S14 (count)","ea"]
[null,null,"Recycling","Batteries",900,null,"Recycling Batteries",null,"Clinical wasteSharps","Sharpsmart S22 (count)","ea"]
[null,null,"Recycling","Cardboard",55,null,"Recycling Cardboard",null,"Clinical wasteSharps","Sharpsmart S32 (count)","ea"]
[null,null,"Recycling","Commingled",110,null,"Recycling Commingled",null,"Clinical wasteSharps","S14 delivery fee","ea"]
[null,null,"Recycling","E-waste",230,null,"Recycling E-waste",null,"Clinical wasteSharps","S22 delivery fee","ea"]
[null,null,"Recycling","Fluorescent tubes",285,null,"Recycling Fluorescent tubes",null,"Clinical wasteSharps","S32 delivery fee","kg"]
[null,null,"Recycling","Mattresses",50,null,"Recycling Mattresses",null,"General wasteBins","kg","kg"]
[null,null,"Recycling","Metals",120,null,"Recycling Metals",null,"General wasteBins","120L MGB (count)","ea"]
[null,null,"Recycling","Mixed paper/cardboard",131,null,"Recycling Mixed paper/cardboard",null,"General wasteBins","240L MGB (count)","ea"]
[null,null,"Recycling","Mobile phones",230,null,"Recycling Mobile phones",null,"General wasteBins","660L MGB (count)","ea"]
[null,null,"Recycling","Organics - food waste",350,null,"Recycling Organics - food waste",null,"General wasteBins","1100L MGB (count)","ea"]
[null,null,"Recycling","Organics - green waste",91,null,"Recycling Organics - green waste",null,"General wasteCompactor","kg","kg"]
[null,null,"Recycling","other plastics",78,null,"Recycling Other plastics",null,"General wasteCompactor","Service fee","ea"]
[null,null,"Recycling","Paper",228,null,"Recycling Paper",null,"General wasteContinence aids","kg","kg"]
[null,null,"Recycling","Polystyrene foam",21,null,"Recycling Polystyrene foam",null,"General wasteContinence aids","120L MGB (count)","ea"]
[null,null,"Recycling","PVC medical",78,null,"Recycling PVC medical",null,"General wasteContinence aids","240L MGB (count)","ea"]
[null,null,"Recycling","Sterilization wraps",78,null,"Recycling Sterilization wraps",null,"General wasteEnviropoles - butt bins","kg","kg"]
[null,null,"Recycling","Toner & print cartridges",190,null,"Recycling Toner & print cartridges",null,"General wasteEnviropoles - butt bins","Enviropoles (count)","ea"]
[null,null,"Recycling","Wood/pallets",156,null,"Recycling Wood/pallets",null,"General wasteHygiene waste","kg","kg"]
[null,null,"Recycling","X-ray",300,null,"Recycling X-ray",null,"General wasteHygiene waste","Service fee","ea"]
[null,null,"Secure documents","Confidential paper",228,null,"Secure documents Confidential paper",null,"General wasteHygiene waste","120L MGB (count)","ea"]
[null,null,null,null,null,null,null,null,"General wasteHygiene waste","240L MGB (count)","ea"]
[null,null,null,null,null,null,null,null,"General wasteNappy disposal","kg","kg"]
[null,null,null,null,null,null,null,null,"General wasteNappy disposal","Service fee","ea"]
[null,null,null,null,null,null,null,null,"General wasteNappy disposal","120L MGB (count)","ea"]
[null,null,null,null,null,null,null,null,"General wasteNappy disposal","240L MGB (count)","ea"]
[null,null,null,null,null,null,null,null,"General wasteSanitary waste","kg","kg"]
[null,null,null,null,null,null,null,null,"General wasteSanitary waste","Service fee","ea"]
[null,null,null,null,null,null,null,null,"General wasteSanitary waste","Sanipod (count)","ea"]
[null,null,null,null,null,null,null,null,"General wasteSanitary waste","12L Sanitary bin (count)","ea"]
[null,null,null,null,null,null,null,null,"General wasteSanitary waste","22L Sanitary bin (count)","ea"]
[null,null,null,null,null,null,null,null,"General wasteSkips","kg","kg"]
[null,null,null,null,null,null,null,null,"General wasteSkips","Service fee","ea"]
[null,null,null,null,null,null,null,null,"General wasteSkips","1.5 m³ skip (count)","ea"]
[null,null,null,null,null,null,null,null,"General wasteSkips","2.25 m³ skip (count)","ea"]
[null,null,null,null,null,null,null,null,"General wasteSkips","3 m³ skip (count)","ea"]
[null,null,null,null,null,null,null,null,"General wasteSkips","4.5 m³ skip (count)","ea"]
[null,null,null,null,null,null,null,null,"Liquid wasteGrease traps","Litres (trap)","L"]
[null,null,null,null,null,null,null,null,"Liquid wasteGrease traps","kg","kg"]
[null,null,null,null,null,null,null,null,"Liquid wasteGrease traps","Service fee","ea"]
[null,null,null,null,null,null,null,null,"RecyclingBatteries","kg","kg"]
[null,null,null,null,null,null,null,null,"RecyclingBatteries","Service fee","ea"]
[null,null,null,null,null,null,null,null,"RecyclingBatteries","120L MGB (count)","ea"]
[null,null,null,null,null,null,null,null,"RecyclingBatteries","240L MGB (count)","ea"]
[null,null,null,null,null,null,null,null,"RecyclingCardboard","kg","kg"]
[null,null,null,null,null,null,null,null,"RecyclingCardboard","Service fee","ea"]
[null,null,null,null,null,null,null,null,"RecyclingCardboard","120L MGB (count)","ea"]
[null,null,null,null,null,null,null,null,"RecyclingCardboard","240L MGB (count)","ea"]
[null,null,null,null,null,null,null,null,"RecyclingCardboard","660L MGB (count)","ea"]
[null,null,null,null,null,null,null,null,"RecyclingCardboard","1100L MGB (count)","ea"]
[null,null,null,null,null,null,null,null,"RecyclingCardboard","Baler, small (count)","ea"]
[null,null,null,null,null,null,null,null,"RecyclingCardboard","Baler, medium (count)","ea"]
[null,null,null,null,null,null,null,null,"RecyclingCardboard","Baler, large (count)","ea"]
[null,null,null,null,null,null,null,null,"RecyclingCardboard","1.5 m³ skip (count)","ea"]
[null,null,null,null,null,null,null,null,"RecyclingCardboard","3 m³ skip (count)","ea"]
[null,null,null,null,null,null,null,null,"RecyclingCommingled","kg","kg"]
[null,null,null,null,null,null,null,null,"RecyclingCommingled","Service fee","ea"]
[null,null,null,null,null,null,null,null,"RecyclingCommingled","120L MGB (count)","ea"]
[null,null,null,null,null,null,null,null,"RecyclingCommingled","240L MGB (count)","ea"]
[null,null,null,null,null,null,null,null,"RecyclingCommingled","660L MGB (count)","ea"]
[null,null,null,null,null,null,null,null,"RecyclingCommingled","1100L MGB (count)","ea"]
[null,null,null,null,null,null,null,null,"RecyclingCommingled","1.5 m³ skip (count)","ea"]
[null,null,null,null,null,null,null,null,"RecyclingCommingled","3 m³ skip (count)","ea"]
[null,null,null,null,null,null,null,null,"RecyclingE-waste","kg","kg"]
[null,null,null,null,null,null,null,null,"RecyclingE-waste","Service fee","ea"]
[null,null,null,null,null,null,null,null,"RecyclingE-waste","1.5 m³ skip (count)","ea"]
[null,null,null,null,null,null,null,null,"RecyclingE-waste","3 m³ skip (count)","ea"]
[null,null,null,null,null,null,null,null,"RecyclingE-waste","4.5 m³ skip (count)","ea"]
[null,null,null,null,null,null,null,null,"RecyclingFluorescent tubes","kg","kg"]
[null,null,null,null,null,null,null,null,"RecyclingFluorescent tubes","Service fee","ea"]
[null,null,null,null,null,null,null,null,"RecyclingFluorescent tubes","2.2 m³ stillage (count)","ea"]
[null,null,null,null,null,null,null,null,"RecyclingMattresses","kg","kg"]
[null,null,null,null,null,null,null,null,"RecyclingMattresses","1.5 m³ skip (count)","ea"]
[null,null,null,null,null,null,null,null,"RecyclingMattresses","3 m³ skip (count)","ea"]
[null,null,null,null,null,null,null,null,"RecyclingMattresses","4.5 m³ skip (count)","ea"]
[null,null,null,null,null,null,null,null,"RecyclingMattresses","6 m³ skip (count)","ea"]
[null,null,null,null,null,null,null,null,"RecyclingMetals","kg","kg"]
[null,null,null,null,null,null,null,null,"RecyclingMetals","60L MGB (count)","ea"]
[null,null,null,null,null,null,null,null,"RecyclingMetals","120L MGB (count)","ea"]
[null,null,null,null,null,null,null,null,"RecyclingMetals","1.5 m³ skip (count)","ea"]
[null,null,null,null,null,null,null,null,"RecyclingMetals","3 m³ skip (count)","ea"]
[null,null,null,null,null,null,null,null,"RecyclingMixed paper/cardboard","kg","kg"]
[null,null,null,null,null,null,null,null,"RecyclingMixed paper/cardboard","Service fee","ea"]
[null,null,null,null,null,null,null,null,"RecyclingMixed paper/cardboard","120L MGB (count)","ea"]
[null,null,null,null,null,null,null,null,"RecyclingMixed paper/cardboard","240L MGB (count)","ea"]
[null,null,null,null,null,null,null,null,"RecyclingMixed paper/cardboard","660L MGB (count)","ea"]
[null,null,null,null,null,null,null,null,"RecyclingMixed paper/cardboard","1100L MGB (count)","ea"]
[null,null,null,null,null,null,null,null,"RecyclingMixed paper/cardboard","1.5 m³ skip (count)","ea"]
[null,null,null,null,null,null,null,null,"RecyclingMixed paper/cardboard","3 m³ skip (count)","ea"]
[null,null,null,null,null,null,null,null,"RecyclingMobile phones","kg","kg"]
[null,null,null,null,null,null,null,null,"RecyclingMobile phones","Service fee","ea"]
[null,null,null,null,null,null,null,null,"RecyclingOrganics - food waste","kg","kg"]
[null,null,null,null,null,null,null,null,"RecyclingOrganics - food waste","Service fee","ea"]
[null,null,null,null,null,null,null,null,"RecyclingOrganics - food waste","120L MGB (count)","ea"]
[null,null,null,null,null,null,null,null,"RecyclingOrganics - food waste","240L MGB (count)","ea"]
[null,null,null,null,null,null,null,null,"RecyclingOrganics - green waste","kg","kg"]
[null,null,null,null,null,null,null,null,"RecyclingOrganics - green waste","Service fee","ea"]
[null,null,null,null,null,null,null,null,"RecyclingOrganics - green waste","120L MGB (count)","ea"]
[null,null,null,null,null,null,null,null,"RecyclingOrganics - green waste","240L MGB (count)","ea"]
[null,null,null,null,null,null,null,null,"RecyclingOrganics - green waste","660L MGB (count)","ea"]
[null,null,null,null,null,null,null,null,"RecyclingOrganics - green waste","1.5 m³ skip (count)","ea"]
[null,null,null,null,null,null,null,null,"RecyclingOrganics - green waste","3 m³ skip (count)","ea"]
[null,null,null,null,null,null,null,null,"RecyclingOrganics - green waste","4.5 m³ skip (count)","ea"]
[null,null,null,null,null,null,null,null,"RecyclingOther plastics","kg","kg"]
[null,null,null,null,null,null,null,null,"RecyclingOther plastics","Service fee","ea"]
[null,null,null,null,null,null,null,null,"RecyclingOther plastics","1 m³ bulkbag (count)","ea"]
[null,null,null,null,null,null,null,null,"RecyclingPaper","kg","kg"]
[null,null,null,null,null,null,null,null,"RecyclingPaper","Service fee","ea"]
[null,null,null,null,null,null,null,null,"RecyclingPaper","120L MGB (count)","ea"]
[null,null,null,null,null,null,null,null,"RecyclingPaper","240L MGB (count)","ea"]
[null,null,null,null,null,null,null,null,"RecyclingPolystyrene foam","kg","kg"]
[null,null,null,null,null,null,null,null,"RecyclingPolystyrene foam","1 m³ bulkbag (count)","ea"]
[null,null,null,null,null,null,null,null,"RecyclingPVC medical","kg","kg"]
[null,null,null,null,null,null,null,null,"RecyclingPVC medical","240L MGB (count)","ea"]
[null,null,null,null,null,null,null,null,"RecyclingSterilization wraps","kg","kg"]
[null,null,null,null,null,null,null,null,"RecyclingSterilization wraps","Service fee","ea"]
[null,null,null,null,null,null,null,null,"RecyclingSterilization wraps","1 m³ bulkbag (count)","ea"]
[null,null,null,null,null,null,null,null,"RecyclingToner & print cartridges","kg","kg"]
[null,null,null,null,null,null,null,null,"RecyclingToner & print cartridges","Service fee","ea"]
[null,null,null,null,null,null,null,null,"RecyclingToner & print cartridges","120L MGB (count)","ea"]
[null,null,null,null,null,null,null,null,"RecyclingToner & print cartridges","240L MGB (count)","ea"]
[null,null,null,null,null,null,null,null,"RecyclingWood/pallets","kg","kg"]
[null,null,null,null,null,null,null,null,"RecyclingWood/pallets","Service fee","ea"]
[null,null,null,null,null,null,null,null,"RecyclingWood/pallets","1.5 m³ skip (count)","ea"]
[null,null,null,null,null,null,null,null,"RecyclingWood/pallets","3 m³ skip (count)","ea"]
[null,null,null,null,null,null,null,null,"RecyclingWood/pallets","4.5 m³ skip (count)","ea"]
[null,null,null,null,null,null,null,null,"RecyclingX-ray","kg","kg"]
[null,null,null,null,null,null,null,null,"RecyclingX-ray","120L MGB (count)","ea"]
[null,null,null,null,null,null,null,null,"RecyclingX-ray","240L MGB (count)","ea"]
[null,null,null,null,null,null,null,null,"Secure documentsConfidential paper","kg","kg"]
[null,null,null,null,null,null,null,null,"Secure documentsConfidential paper","Service fee","ea"]
[null,null,null,null,null,null,null,null,"Secure documentsConfidential paper","120L MGB @ dock (count)","ea"]
[null,null,null,null,null,null,null,null,"Secure documentsConfidential paper","240L MGB @ dock (count)","ea"]
[null,null,null,null,null,null,null,null,"Secure documentsConfidential paper","120L MGB from ward (count)","ea"]
[null,null,null,null,null,null,null,null,"Secure documentsConfidential paper","240L MGB from ward (count)","ea"]
[null,null,null,null,null,null,null,null,"General wasteBins","Custom Value","ea"]
[null,null,null,null,null,null,null,null,"General wasteCompactor","Custom Value","ea"]
[null,null,null,null,null,null,null,null,"General wasteContinence aids","Custom Value","ea"]
[null,null,null,null,null,null,null,null,"General wasteEnviropoles - butt bins","Custom Value","ea"]
[null,null,null,null,null,null,null,null,"General wasteHygiene waste","Custom Value","ea"]
[null,null,null,null,null,null,null,null,"General wasteNappy disposal","Custom Value","ea"]
[null,null,null,null,null,null,null,null,"General wasteSanitary waste","Custom Value","ea"]
[null,null,null,null,null,null,null,null,"General wasteSkips","Custom Value","ea"]
[null,null,null,null,null,null,null,null,"Liquid wasteGrease traps","Custom Value","ea"]
[null,null,null,null,null,null,null,null,"RecyclingBatteries","Custom Value","ea"]
[null,null,null,null,null,null,null,null,"RecyclingCardboard","Custom Value","ea"]
[null,null,null,null,null,null,null,null,"RecyclingCommingled","Custom Value","ea"]
[null,null,null,null,null,null,null,null,"RecyclingE-waste","Custom Value","ea"]
[null,null,null,null,null,null,null,null,"RecyclingFluorescent tubes","Custom Value","ea"]
[null,null,null,null,null,null,null,null,"RecyclingMattresses","Custom Value","ea"]
[null,null,null,null,null,null,null,null,"RecyclingMetals","Custom Value","ea"]
[null,null,null,null,null,null,null,null,"RecyclingMixed paper/cardboard","Custom Value","ea"]
[null,null,null,null,null,null,null,null,"RecyclingMobile phones","Custom Value","ea"]
[null,null,null,null,null,null,null,null,"RecyclingOrganics - green waste","Custom Value","ea"]
[null,null,null,null,null,null,null,null,"RecyclingOrganics - food waste","Custom Value","ea"]
[null,null,null,null,null,null,null,null,"RecyclingOther plastics","Custom Value","ea"]
[null,null,null,null,null,null,null,null,"RecyclingPaper","Custom Value","ea"]
[null,null,null,null,null,null,null,null,"RecyclingPolystyrene foam","Custom Value","ea"]
[null,null,null,null,null,null,null,null,"RecyclingPVC medical","Custom Value","ea"]
[null,null,null,null,null,null,null,null,"RecyclingSterilization wraps","Custom Value","ea"]
[null,null,null,null,null,null,null,null,"RecyclingToner & print cartridges","Custom Value","ea"]
[null,null,null,null,null,null,null,null,"RecyclingWood/pallets","Custom Value","ea"]
[null,null,null,null,null,null,null,null,"RecyclingX-ray","Custom Value","ea"]
[null,null,null,null,null,null,null,null,"Secure documentsConfidential paper","Custom Value","ea"]

{"sheet":"Conversion Factors","index":7,"n_rows":44,"n_cols":5,"rows_kept":44,"cut":false,"hidden":false,"merged":[]}
["     Unit","Unit of Measure (UOM)","Volume (m3)","Unit Mass per Item (Kg)","Fullness Factor"]
["kg","kg",1,1,1]
["20L Pail (count)","ea",0.02,0,0.8]
["60L MGB (count)","ea",0.06,0,0.8]
["120L MGB (count)","ea",0.12,0,0.8]
["240L MGB (count)","ea",0.24,0,0.8]
["660L MGB (count)","ea",0.66,0,0.8]
["1100L MGB (count)","ea",1.1000000000000001,0,0.8]
["Clinismart C64 (count)","ea",5.5E-2,0,0.6]
["Cytosmart CY64 (count)","ea",5.5E-2,0,0.6]
["Laprosmart L64 (count)","ea",5.5E-2,0,0.6]
["Pharmasmart P64 (count)","ea",5.5E-2,0,0.6]
["Sharpsmart S14 (count)","ea",6.4999999999999997E-3,0,0.8]
["Sharpsmart S22 (count)","ea",1.4500000000000001E-2,0,0.8]
["Sharpsmart S32 (count)","ea",2.35E-2,0,0.8]
["C64 delivery fee","ea",0,0,0]
["CY64 delivery fee","ea",0,0,0]
["L64 delivery fee","ea",0,0,0]
["P64 delivery fee","ea",0,0,0]
["S14 delivery fee","ea",0,0,0]
["S22 delivery fee","ea",0,0,0]
["S32 delivery fee","ea",0,0,0]
["1.5 m³ skip (count)","ea",1.5,0,1]
["2.25 m³ skip (count)","ea",2.25,0,1]
["3 m³ skip (count)","ea",3,0,1]
["4.5 m³ skip (count)","ea",4.5,0,1]
["6 m³ skip (count)","ea",6,0,1]
["Enviropoles (count)","ea",1.2E-2,0,0.8]
["Sanipods (count)","ea",1.2E-2,0,0.8]
["1 m³ bulkbag (count)","ea",1,0,1]
["2.2 m³ stillage (count)","ea",2.2000000000000002,0,0.8]
["Litres (trap)","L",1E-3,0,0.15]
["Service fee","ea",0,0,0]
["Rental fee","ea",0,0,0]
["Rebate","ea",0,0,0]
["12L Sanitary bin (count)","ea",1.2E-2,0,0.8]
["22L Sanitary bin (count)","ea",2.1999999999999999E-2,0,0.8]
["Baler, small (count)","ea",1.2727272700000001,0,1]
["Baler, medium (count)","ea",1.8181818000000001,0,1]
["Baler, large (count)","ea",4.5454545399999997,0,1]
["120L MGB @ dock (count)","ea",0.12,0,0.8]
["240L MGB @ dock (count)","ea",0.24,0,0.8]
["120L MGB from ward (count)","ea",0.12,0,0.6]
["240L MGB from ward (count)","ea",0.24,0,0.6]

{"sheet":"Facility Information","index":8,"n_rows":2186,"n_cols":4,"rows_kept":2186,"cut":false,"hidden":false,"merged":[]}
["Service","Campus","GLN","Address"]
[{"$f":"DataBase!C3","v":"Albury Wodonga Health"},{"$f":"DataBase!D3","v":"Albury Hospital"},{"$f":"DataBase!E3","v":1000000000024},{"$f":"DataBase!F3","v":"4 Watson St WODONGA"}]
[{"$f":"DataBase!C5","v":"Alexandra District Hospital"},{"$f":"DataBase!D5","v":"Alexandra District Hospital"},{"$f":"DataBase!E5","v":9339626000004},{"$f":"DataBase!F5","v":"24 Cooper Street ALEXANDRA"}]
[{"$f":"DataBase!C6","v":"Alfred Health"},{"$f":"DataBase!D6","v":"Caulfield Hospital"},{"$f":"DataBase!E6","v":9339626005375},{"$f":"DataBase!F6","v":"260-292 Kooyong Road CAULFIELD"}]
[{"$f":"DataBase!C7","v":"Alfred Health"},{"$f":"DataBase!D7","v":"Sandringham Hospital"},{"$f":"DataBase!E7","v":9339626005382},{"$f":"DataBase!F7","v":"193 Bluff Road SANDRINGHAM"}]
[{"$f":"DataBase!C8","v":"Alfred Health"},{"$f":"DataBase!D8","v":"The Alfred Hospital"},{"$f":"DataBase!E8","v":9339626005368},{"$f":"DataBase!F8","v":"55 Commercial Road MELBOURNE"}]
[{"$f":"DataBase!C9","v":"Alfred Health"},{"$f":"DataBase!D9","v":"Alfred Health - unallocated data"},{"$f":"DataBase!E9","v":9339626000165},{"$f":"DataBase!F9","v":0}]
[{"$f":"DataBase!C10","v":"Alpine Health"},{"$f":"DataBase!D10","v":"Bright Hospital"},{"$f":"DataBase!E10","v":9339626000301},{"$f":"DataBase!F10","v":"32-36 Cobden Street BRIGHT"}]
[{"$f":"DataBase!C11","v":"Alpine Health"},{"$f":"DataBase!D11","v":"Hawthorn Village Hostel"},{"$f":"DataBase!E11","v":1000000000054},{"$f":"DataBase!F11","v":"1 Rotary Drive BRIGHT"}]
[{"$f":"DataBase!C12","v":"Alpine Health"},{"$f":"DataBase!D12","v":"Mount Beauty Hospital"},{"$f":"DataBase!E12","v":9339626001179},{"$f":"DataBase!F12","v":"Service entrance Tawonga Crescent MOUNT BEAUTY"}]
[{"$f":"DataBase!C13","v":"Alpine Health"},{"$f":"DataBase!D13","v":"Myrtleford Hospital"},{"$f":"DataBase!E13","v":9339626001209},{"$f":"DataBase!F13","v":"Service entrance Standish Street MYRTLEFORD"}]
[{"$f":"DataBase!C14","v":"Ambulance Victoria"},{"$f":"DataBase!D14","v":"Ambulance Victoria"},{"$f":"DataBase!E14","v":9339626007225},{"$f":"DataBase!F14","v":"375 Manningham Road DONCASTER"}]
[{"$f":"DataBase!C15","v":"Austin Health"},{"$f":"DataBase!D15","v":"Austin Health satellite sites"},{"$f":"DataBase!E15","v":1000000000001},{"$f":"DataBase!F15","v":""}]
[{"$f":"DataBase!C16","v":"Austin Health"},{"$f":"DataBase!D16","v":"Austin Hospital"},{"$f":"DataBase!E16","v":9339626000042},{"$f":"DataBase!F16","v":"145 Studley Road HEIDELBERG"}]
[{"$f":"DataBase!C17","v":"Austin Health"},{"$f":"DataBase!D17","v":"Heidelberg Repatriation Hospital"},{"$f":"DataBase!E17","v":9339626000790},{"$f":"DataBase!F17","v":"300 Waterdale Road HEIDELBERG HEIGHTS"}]
[{"$f":"DataBase!C18","v":"Austin Health"},{"$f":"DataBase!D18","v":"Royal Talbot Rehabilitation Centre"},{"$f":"DataBase!E18","v":9339626001490},{"$f":"DataBase!F18","v":"1 Yarra Boulevard KEW"}]
[{"$f":"DataBase!C19","v":"Austin Health"},{"$f":"DataBase!D19","v":"Austin Health - unallocated data"},{"$f":"DataBase!E19","v":9377778609652},{"$f":"DataBase!F19","v":0}]
[{"$f":"DataBase!C20","v":"Bairnsdale Regional Health Service"},{"$f":"DataBase!D20","v":"Bairnsdale Regional Health Service"},{"$f":"DataBase!E20","v":9339626000066},{"$f":"DataBase!F20","v":"122 Day Street BAIRNSDALE"}]
[{"$f":"DataBase!C21","v":"Ballarat Health Services"},{"$f":"DataBase!D21","v":"Ballarat Base Hospital"},{"$f":"DataBase!E21","v":9339626006327},{"$f":"DataBase!F21","v":"Drummond Street BALLARAT"}]
[{"$f":"DataBase!C22","v":"Ballarat Health Services"},{"$f":"DataBase!D22","v":"Dental 53 Herford St"},{"$f":"DataBase!E22","v":1000000000044},{"$f":"DataBase!F22","v":"53 Hertoford St Sebastopol"}]
[{"$f":"DataBase!C23","v":"Ballarat Health Services"},{"$f":"DataBase!D23","v":"Eastern View Psych Centre"},{"$f":"DataBase!E23","v":1000000000050},{"$f":"DataBase!F23","v":"40 Stawell St Ballarat"}]
[{"$f":"DataBase!C24","v":"Ballarat Health Services"},{"$f":"DataBase!D24","v":"Eureka Complex"},{"$f":"DataBase!E24","v":1000000000045},{"$f":"DataBase!F24","v":"Balmoral Drive Ballarat (159 Kenny St Ballarat)"}]
[{"$f":"DataBase!C25","v":"Ballarat Health Services"},{"$f":"DataBase!D25","v":"Eureka Linen"},{"$f":"DataBase!E25","v":1000000000047},{"$f":"DataBase!F25","v":"Lonsdale St Ballarat"}]
[{"$f":"DataBase!C26","v":"Ballarat Health Services"},{"$f":"DataBase!D26","v":"Eyres House"},{"$f":"DataBase!E26","v":1000000000048},{"$f":"DataBase!F26","v":"810 Ligar St Ballarat"}]
[{"$f":"DataBase!C27","v":"Ballarat Health Services"},{"$f":"DataBase!D27","v":"GICS 804 Sturt St"},{"$f":"DataBase!E27","v":1000000000051},{"$f":"DataBase!F27","v":"804 Sturt St Ballarat"}]
[{"$f":"DataBase!C28","v":"Ballarat Health Services"},{"$f":"DataBase!D28","v":"Midlands Complex"},{"$f":"DataBase!E28","v":1000000000046},{"$f":"DataBase!F28","v":"701-703 Norman St Ballarat"}]
[{"$f":"DataBase!C29","v":"Ballarat Health Services"},{"$f":"DataBase!D29","v":"Pleasant Homes Mother Baby Unit"},{"$f":"DataBase!E29","v":1000000000049},{"$f":"DataBase!F29","v":"28-34 Pleasant St South Ballarat"}]
[{"$f":"DataBase!C30","v":"Ballarat Health Services"},{"$f":"DataBase!D30","v":"Queen Elizabeth Campus"},{"$f":"DataBase!E30","v":9339626000073},{"$f":"DataBase!F30","v":"102 Ascot Street South BALLARAT"}]
[{"$f":"DataBase!C31","v":"Ballarat Health Services"},{"$f":"DataBase!D31","v":"Queen Elizabeth Village "},{"$f":"DataBase!E31","v":1000000000042},{"$f":"DataBase!F31","v":" Lot 2 Gillies St Wendouree"}]
[{"$f":"DataBase!C32","v":"Ballarat Health Services"},{"$f":"DataBase!D32","v":"safety Link 16 eastwood st "},{"$f":"DataBase!E32","v":1000000000052},{"$f":"DataBase!F32","v":"16 Eastwood St Ballarat"}]
[{"$f":"DataBase!C33","v":"Ballarat Health Services"},{"$f":"DataBase!D33","v":"Sebastopol Complex"},{"$f":"DataBase!E33","v":1000000000041},{"$f":"DataBase!F33","v":"131 Morgan St Sebastopol (85 Edwards St Sebastopol)"}]
[{"$f":"DataBase!C34","v":"Ballarat Health Services"},{"$f":"DataBase!D34","v":"Sebastopol Complex Jack Lonsdale Lodge"},{"$f":"DataBase!E34","v":1000000000053},{"$f":"DataBase!F34","v":"131 Morgan St Sebastopol (85 Edwards St Sebastopol)"}]
[{"$f":"DataBase!C35","v":"Barwon Health"},{"$f":"DataBase!D35","v":"Barwon Health Minor Sites"},{"$f":"DataBase!E35","v":9339626012120},{"$f":"DataBase!F35","v":""}]
[{"$f":"DataBase!C36","v":"Barwon Health"},{"$f":"DataBase!D36","v":"McKellar Centre"},{"$f":"DataBase!E36","v":9339626000127},{"$f":"DataBase!F36","v":"45 Ballarat Road GEELONG"}]
[{"$f":"DataBase!C37","v":"Barwon Health"},{"$f":"DataBase!D37","v":"University Hospital Geelong"},{"$f":"DataBase!E37","v":9339626000110},{"$f":"DataBase!F37","v":"272-322 Ryrie St GEELONG"}]
[{"$f":"DataBase!C38","v":"Barwon Health"},{"$f":"DataBase!D38","v":"Barwon Health - unallocated data"},{"$f":"DataBase!E38","v":9339626000103},{"$f":"DataBase!F38","v":0}]
[{"$f":"DataBase!C39","v":"Bass Coast Health"},{"$f":"DataBase!D39","v":"Wonthaggi Hospital"},{"$f":"DataBase!E39","v":9339626004538},{"$f":"DataBase!F39","v":"Graham Street WONTHAGGI"}]
[{"$f":"DataBase!C40","v":"Beaufort and Skipton Health Service"},{"$f":"DataBase!D40","v":"Beaufort Hospital"},{"$f":"DataBase!E40","v":9339626000189},{"$f":"DataBase!F40","v":"28 Havelock Street BEAUFORT"}]
[{"$f":"DataBase!C41","v":"Beaufort and Skipton Health Service"},{"$f":"DataBase!D41","v":"Skipton Hospital"},{"$f":"DataBase!E41","v":9339626000196},{"$f":"DataBase!F41","v":"Blake Street SKIPTON"}]
[{"$f":"DataBase!C42","v":"Beaufort and Skipton Health Service"},{"$f":"DataBase!D42","v":"Beaufort and Skipton - Unallocated data"},{"$f":"DataBase!E42","v":9339626000172},{"$f":"DataBase!F42","v":0}]
[{"$f":"DataBase!C43","v":"Beechworth Health Service"},{"$f":"DataBase!D43","v":"Beechworth Health Service"},{"$f":"DataBase!E43","v":9339626000202},{"$f":"DataBase!F43","v":"52 Sydney Rd BEECHWORTH"}]
[{"$f":"DataBase!C44","v":"Benalla Health"},{"$f":"DataBase!D44","v":"Benalla Health"},{"$f":"DataBase!E44","v":9339626000219},{"$f":"DataBase!F44","v":"45-53 Coster Street BENALLA"}]
[{"$f":"DataBase!C45","v":"Bendigo Health"},{"$f":"DataBase!D45","v":"375 Barnard St facility - Breastscreen"},{"$f":"DataBase!E45","v":1000000000005},{"$f":"DataBase!F45","v":0}]
[{"$f":"DataBase!C46","v":"Bendigo Health"},{"$f":"DataBase!D46","v":"ACC retained buildings"},{"$f":"DataBase!E46","v":1000000000003},{"$f":"DataBase!F46","v":0}]
[{"$f":"DataBase!C47","v":"Bendigo Health"},{"$f":"DataBase!D47","v":"Anne Caudle Centre - New Bendigo Hospital"},{"$f":"DataBase!E47","v":9339626000257},{"$f":"DataBase!F47","v":"BENDIGO HEALTH - SUPPLY LOADING DOCK - 37 DROUGHT STREET BENDIGO"}]
[{"$f":"DataBase!C48","v":"Bendigo Health"},{"$f":"DataBase!D48","v":"Atkins Street Facility"},{"$f":"DataBase!E48","v":1000000000004},{"$f":"DataBase!F48","v":0}]
[{"$f":"DataBase!C49","v":"Bendigo Health"},{"$f":"DataBase!D49","v":"Bendigo Hospital"},{"$f":"DataBase!E49","v":9339626000233},{"$f":"DataBase!F49","v":"100 Barnard St BENDIGO"}]
[{"$f":"DataBase!C50","v":"Bendigo Health"},{"$f":"DataBase!D50","v":"Condon St facility - John Bomford Centre"},{"$f":"DataBase!E50","v":9339626000240},{"$f":"DataBase!F50","v":"Condon Street BENDIGO"}]
[{"$f":"DataBase!C51","v":"Bendigo Health"},{"$f":"DataBase!D51","v":"Echuca 214 facility – Echuca CMHS office    "},{"$f":"DataBase!E51","v":1000000000033},{"$f":"DataBase!F51","v":0}]
[{"$f":"DataBase!C52","v":"Bendigo Health"},{"$f":"DataBase!D52","v":"Gibson Street Campus - Joan Pinder Nursing Home"},{"$f":"DataBase!E52","v":1000000000007},{"$f":"DataBase!F52","v":0}]
[{"$f":"DataBase!C53","v":"Bendigo Health"},{"$f":"DataBase!D53","v":"Gibson Street Campus - Stella Anderson Nursing Home"},{"$f":"DataBase!E53","v":1000000000008},{"$f":"DataBase!F53","v":0}]
[{"$f":"DataBase!C54","v":"Bendigo Health"},{"$f":"DataBase!D54","v":"Golden Square Campus - Carshalton House"},{"$f":"DataBase!E54","v":1000000000009},{"$f":"DataBase!F54","v":0}]
[{"$f":"DataBase!C55","v":"Bendigo Health"},{"$f":"DataBase!D55","v":"Golden Square Campus - Golden Oaks Nursing Home"},{"$f":"DataBase!E55","v":1000000000010},{"$f":"DataBase!F55","v":0}]
[{"$f":"DataBase!C56","v":"Bendigo Health"},{"$f":"DataBase!D56","v":"Golden Square campus - Unit 1 @ APARC"},{"$f":"DataBase!E56","v":1000000000034},{"$f":"DataBase!F56","v":0}]
[{"$f":"DataBase!C57","v":"Bendigo Health"},{"$f":"DataBase!D57","v":"Havlin St campus - HART & RHT offices"},{"$f":"DataBase!E57","v":1000000000011},{"$f":"DataBase!F57","v":0}]
[{"$f":"DataBase!C58","v":"Bendigo Health"},{"$f":"DataBase!D58","v":"NBH Tenants - Aust Clinical Labs"},{"$f":"DataBase!E58","v":1000000000006},{"$f":"DataBase!F58","v":0}]
[{"$f":"DataBase!C59","v":"Bendigo Health"},{"$f":"DataBase!D59","v":"Simpkin facility"},{"$f":"DataBase!E59","v":1000000000012},{"$f":"DataBase!F59","v":0}]
[{"$f":"DataBase!C60","v":"Bendigo Health"},{"$f":"DataBase!D60","v":"Swan Hill facility – Swan Hill CMHS office"},{"$f":"DataBase!E60","v":1000000000037},{"$f":"DataBase!F60","v":0}]
[{"$f":"DataBase!C61","v":"Bendigo Health"},{"$f":"DataBase!D61","v":"Vahland facility"},{"$f":"DataBase!E61","v":1000000000013},{"$f":"DataBase!F61","v":0}]
[{"$f":"DataBase!C62","v":"Boort District Health"},{"$f":"DataBase!D62","v":"Boort District Health"},{"$f":"DataBase!E62","v":9339626000288},{"$f":"DataBase!F62","v":"31 Kiniry Street BOORT"}]
[{"$f":"DataBase!C63","v":"Calvary Health Care Bethlehem"},{"$f":"DataBase!D63","v":"Calvary Health Care Bethlehem"},{"$f":"DataBase!E63","v":9339626000332},{"$f":"DataBase!F63","v":0}]
[{"$f":"DataBase!C64","v":"Casterton Memorial Hospital"},{"$f":"DataBase!D64","v":"Casterton Memorial Hospital"},{"$f":"DataBase!E64","v":9339626000370},{"$f":"DataBase!F64","v":"63 - 69 Russell Street CASTERTON"}]
[{"$f":"DataBase!C65","v":"Castlemaine Health"},{"$f":"DataBase!D65","v":"Castlemaine Health"},{"$f":"DataBase!E65","v":9339626001162},{"$f":"DataBase!F65","v":"142 Cornish Street CASTLEMAINE"}]
[{"$f":"DataBase!C66","v":"Central Gippsland Health Service"},{"$f":"DataBase!D66","v":"Heyfield Hospital"},{"$f":"DataBase!E66","v":9339626001964},{"$f":"DataBase!F66","v":"14 Licola Road HEYFIELD"}]
[{"$f":"DataBase!C67","v":"Central Gippsland Health Service"},{"$f":"DataBase!D67","v":"Maffra Campus"},{"$f":"DataBase!E67","v":9339626000400},{"$f":"DataBase!F67","v":"48 Kent Street MAFFRA"}]
[{"$f":"DataBase!C68","v":"Central Gippsland Health Service"},{"$f":"DataBase!D68","v":"Sale Campus"},{"$f":"DataBase!E68","v":9339626000417},{"$f":"DataBase!F68","v":"155 Guthridge Parade SALE"}]
[{"$f":"DataBase!C69","v":"Central Gippsland Health Service"},{"$f":"DataBase!D69","v":"Stretton Park Hostel"},{"$f":"DataBase!E69","v":9339626001971},{"$f":"DataBase!F69","v":"89-103 Kent Street MAFFRA"}]
[{"$f":"DataBase!C70","v":"Cobram District Health"},{"$f":"DataBase!D70","v":"Cobram District  Health"},{"$f":"DataBase!E70","v":9339626000424},{"$f":"DataBase!F70","v":"24-32 Broadway St COBRAM"}]
[{"$f":"DataBase!C71","v":"Cohuna District Health"},{"$f":"DataBase!D71","v":"Cohuna District Health"},{"$f":"DataBase!E71","v":9339626000431},{"$f":"DataBase!F71","v":"144-158 King George St COHUNA"}]
[{"$f":"DataBase!C72","v":"Colac Area Health"},{"$f":"DataBase!D72","v":"Colac District Hospital"},{"$f":"DataBase!E72","v":9339626000448},{"$f":"DataBase!F72","v":"2-28 Connor Street COLAC"}]
[{"$f":"DataBase!C73","v":"Dental Health Services Victoria"},{"$f":"DataBase!D73","v":"Dental Health Services Victoria"},{"$f":"DataBase!E73","v":9339626000509},{"$f":"DataBase!F73","v":"720 Swanston Street CARLTON"}]
[{"$f":"DataBase!C74","v":"Djerriwarrh Health Services"},{"$f":"DataBase!D74","v":"Djerriwarrh Health Services"},{"$f":"DataBase!E74","v":9339626000516},{"$f":"DataBase!F74","v":"35 Grant st BACCHUS MARSH"}]
[{"$f":"DataBase!C75","v":"East Grampians Health Service"},{"$f":"DataBase!D75","v":"East Grampians Health Service"},{"$f":"DataBase!E75","v":9339626000547},{"$f":"DataBase!F75","v":"Girdlestone Street ARARAT"}]
[{"$f":"DataBase!C76","v":"East Wimmera Health Service"},{"$f":"DataBase!D76","v":"Birchip Campus"},{"$f":"DataBase!E76","v":9339626000585},{"$f":"DataBase!F76","v":"26 Duncan Street BIRCHIP"}]
[{"$f":"DataBase!C77","v":"East Wimmera Health Service"},{"$f":"DataBase!D77","v":"Charlton Campus"},{"$f":"DataBase!E77","v":9339626000592},{"$f":"DataBase!F77","v":"4 Learmonth Street CHARLTON"}]
[{"$f":"DataBase!C78","v":"East Wimmera Health Service"},{"$f":"DataBase!D78","v":"Donald Campus"},{"$f":"DataBase!E78","v":9339626000608},{"$f":"DataBase!F78","v":"Aitken Avenue DONALD"}]
[{"$f":"DataBase!C79","v":"East Wimmera Health Service"},{"$f":"DataBase!D79","v":"St Arnaud Campus"},{"$f":"DataBase!E79","v":9339626000615},{"$f":"DataBase!F79","v":"52 North Western Road ST ARNAUD"}]
[{"$f":"DataBase!C80","v":"East Wimmera Health Service"},{"$f":"DataBase!D80","v":"Wycheproof Campus"},{"$f":"DataBase!E80","v":9339626000622},{"$f":"DataBase!F80","v":"Grandview Street WYCHEPROOF"}]
[{"$f":"DataBase!C81","v":"East Wimmera Health Service"},{"$f":"DataBase!D81","v":"East Wimmera HS - unallocated data"},{"$f":"DataBase!E81","v":9339626000578},{"$f":"DataBase!F81","v":0}]
[{"$f":"DataBase!C82","v":"Eastern Health"},{"$f":"DataBase!D82","v":"Aged Care"},{"$f":"DataBase!E82","v":1000000000030},{"$f":"DataBase!F82","v":0}]
[{"$f":"DataBase!C83","v":"Eastern Health"},{"$f":"DataBase!D83","v":"Box Hill Hospital"},{"$f":"DataBase!E83","v":9339626001483},{"$f":"DataBase!F83","v":"Box Hill Hospital Nelson Road BOX HILL"}]
[{"$f":"DataBase!C84","v":"Eastern Health"},{"$f":"DataBase!D84","v":"Eastern Health"},{"$f":"DataBase!E84","v":1000000000029},{"$f":"DataBase!F84","v":0}]
[{"$f":"DataBase!C85","v":"Eastern Health"},{"$f":"DataBase!D85","v":"Healesville Hospital"},{"$f":"DataBase!E85","v":9339626000783},{"$f":"DataBase!F85","v":"Healesville Hospital 377 Maroondah Hwy HEALESVILLE"}]
[{"$f":"DataBase!C86","v":"Eastern Health"},{"$f":"DataBase!D86","v":"Maroondah Hospital"},{"$f":"DataBase!E86","v":9339626001063},{"$f":"DataBase!F86","v":"Maroondah Hospital Davey Drive RINGWOOD EAST"}]
[{"$f":"DataBase!C87","v":"Eastern Health"},{"$f":"DataBase!D87","v":"Minor sites"},{"$f":"DataBase!E87","v":1000000000031},{"$f":"DataBase!F87","v":0}]
[{"$f":"DataBase!C88","v":"Eastern Health"},{"$f":"DataBase!D88","v":"The Angliss Hospital"},{"$f":"DataBase!E88","v":9339626000028},{"$f":"DataBase!F88","v":"Angliss Hospital Edward Street FERNTREE GULLY"}]
[{"$f":"DataBase!C89","v":"Eastern Health"},{"$f":"DataBase!D89","v":"The Peter James Centre"},{"$f":"DataBase!E89","v":9339626001377},{"$f":"DataBase!F89","v":"Peter James Centre Cnr Burwood Hwy and Mahoneys Road BURWOOD EAST"}]
[{"$f":"DataBase!C90","v":"Eastern Health"},{"$f":"DataBase!D90","v":"Wantirna Health"},{"$f":"DataBase!E90","v":9339626006020},{"$f":"DataBase!F90","v":"251 Mountain Highway WANTIRNA"}]
[{"$f":"DataBase!C91","v":"Eastern Health"},{"$f":"DataBase!D91","v":"Yarra Ranges Health"},{"$f":"DataBase!E91","v":9339626005498},{"$f":"DataBase!F91","v":"25 Market St Loading Dock LILYDALE"}]
[{"$f":"DataBase!C92","v":"Eastern Health"},{"$f":"DataBase!D92","v":"Eastern Health - unallocated data"},{"$f":"DataBase!E92","v":9339626000295},{"$f":"DataBase!F92","v":0}]
[{"$f":"DataBase!C93","v":"Echuca Regional Health"},{"$f":"DataBase!D93","v":"Echuca Regional Health"},{"$f":"DataBase!E93","v":9339626000639},{"$f":"DataBase!F93","v":"17 Francis Street ECHUCA"}]
[{"$f":"DataBase!C94","v":"Edenhope & District Memorial Hospital"},{"$f":"DataBase!D94","v":"Edenhope & District Memorial Hospital"},{"$f":"DataBase!E94","v":9339626000646},{"$f":"DataBase!F94","v":"128-134 Elizabeth Street EDENHOPE"}]
[{"$f":"DataBase!C95","v":"Gippsland Southern Health Service"},{"$f":"DataBase!D95","v":"Korumburra Hospital"},{"$f":"DataBase!E95","v":9339626000707},{"$f":"DataBase!F95","v":"Hillside Lodge Bridge Road KORUMBURRA"}]
[{"$f":"DataBase!C96","v":"Gippsland Southern Health Service"},{"$f":"DataBase!D96","v":"Leongatha Hospital"},{"$f":"DataBase!E96","v":9339626000714},{"$f":"DataBase!F96","v":"66 Koonwarra Road LEONGATHA"}]
[{"$f":"DataBase!C97","v":"Goulburn Valley Health"},{"$f":"DataBase!D97","v":"Community Health @ GV Health"},{"$f":"DataBase!E97","v":1000000000014},{"$f":"DataBase!F97","v":""}]
[{"$f":"DataBase!C98","v":"Goulburn Valley Health"},{"$f":"DataBase!D98","v":"Shepparton Hospital"},{"$f":"DataBase!E98","v":9339626000738},{"$f":"DataBase!F98","v":"Monash St SHEPPARTON"}]
[{"$f":"DataBase!C99","v":"Goulburn Valley Health"},{"$f":"DataBase!D99","v":"Shepparton minor sites"},{"$f":"DataBase!E99","v":1000000000023},{"$f":"DataBase!F99","v":""}]
[{"$f":"DataBase!C100","v":"Goulburn Valley Health"},{"$f":"DataBase!D100","v":"Tatura Hospital"},{"$f":"DataBase!E100","v":9339626000745},{"$f":"DataBase!F100","v":"Monash St SHEPPARTON"}]
[{"$f":"DataBase!C101","v":"Goulburn Valley Health"},{"$f":"DataBase!D101","v":"Waranga Memorial Hospital"},{"$f":"DataBase!E101","v":1000000000015},{"$f":"DataBase!F101","v":""}]
[{"$f":"DataBase!C102","v":"Goulburn Valley Health"},{"$f":"DataBase!D102","v":"Waranga minor sites"},{"$f":"DataBase!E102","v":1000000000016},{"$f":"DataBase!F102","v":""}]
[{"$f":"DataBase!C103","v":"Healthcote Health"},{"$f":"DataBase!D103","v":"Heathcote Hospital"},{"$f":"DataBase!E103","v":9339626001094},{"$f":"DataBase!F103","v":"39 Hospital St HEATHCOTE"}]
[{"$f":"DataBase!C104","v":"Hepburn Health Service"},{"$f":"DataBase!D104","v":"Creswick Hospital"},{"$f":"DataBase!E104","v":9339626000820},{"$f":"DataBase!F104","v":"Napier Street CRESWICK"}]
[{"$f":"DataBase!C105","v":"Hepburn Health Service"},{"$f":"DataBase!D105","v":"Daylesford Hospital"},{"$f":"DataBase!E105","v":9339626000837},{"$f":"DataBase!F105","v":"Hodge Street DAYLESFORD"}]
[{"$f":"DataBase!C106","v":"Hepburn Health Service"},{"$f":"DataBase!D106","v":"Hepburn Health Minor Sites"},{"$f":"DataBase!E106","v":9339626012137},{"$f":"DataBase!F106","v":""}]
[{"$f":"DataBase!C107","v":"Hepburn Health Service"},{"$f":"DataBase!D107","v":"Hepburn Health - unallocated data"},{"$f":"DataBase!E107","v":9339626000806},{"$f":"DataBase!F107","v":""}]
[{"$f":"DataBase!C108","v":"Hesse Rural Health Service"},{"$f":"DataBase!D108","v":"Hesse Rural Health"},{"$f":"DataBase!E108","v":9339626000851},{"$f":"DataBase!F108","v":"8 Gosney St WINCHELSEA"}]
[{"$f":"DataBase!C109","v":"Heywood Rural Health"},{"$f":"DataBase!D109","v":"Heywood Rural Health Service"},{"$f":"DataBase!E109","v":9339626000868},{"$f":"DataBase!F109","v":"21 Barclay St HEYWOOD"}]
[{"$f":"DataBase!C110","v":"Inglewood & Districts Health Service"},{"$f":"DataBase!D110","v":"Inglewood & Districts Health Services"},{"$f":"DataBase!E110","v":9339626000882},{"$f":"DataBase!F110","v":"3 Hospital Street INGLEWOOD"}]
[{"$f":"DataBase!C111","v":"Kerang District Health"},{"$f":"DataBase!D111","v":"Kerang District Health"},{"$f":"DataBase!E111","v":9339626000929},{"$f":"DataBase!F111","v":"13 Burgoyne Street KERANG"}]
[{"$f":"DataBase!C112","v":"Kilmore & District Hospital"},{"$f":"DataBase!D112","v":"Kilmore & District Hospital"},{"$f":"DataBase!E112","v":9339626000936},{"$f":"DataBase!F112","v":"Rutledge St KILMORE"}]
[{"$f":"DataBase!C113","v":"Kooweerup Regional Health Service"},{"$f":"DataBase!D113","v":"Kooweerup Regional Health Service"},{"$f":"DataBase!E113","v":9339626000950},{"$f":"DataBase!F113","v":"Rossiter Road KOOWEERUP"}]
[{"$f":"DataBase!C114","v":"Kyabram and District Health Services"},{"$f":"DataBase!D114","v":"Kyabram and District Health Services"},{"$f":"DataBase!E114","v":9339626000974},{"$f":"DataBase!F114","v":"86-96 Fenaughty Street KYABRAM"}]
[{"$f":"DataBase!C115","v":"Kyneton District Health Service"},{"$f":"DataBase!D115","v":"Kyneton District Health Service"},{"$f":"DataBase!E115","v":9339626000981},{"$f":"DataBase!F115","v":"7-25 Caroline Chisholm Dr KYNETON"}]
[{"$f":"DataBase!C116","v":"Latrobe Regional Hospital"},{"$f":"DataBase!D116","v":"Latrobe Regional Hospital"},{"$f":"DataBase!E116","v":9339626001001},{"$f":"DataBase!F116","v":"Princes Highway TRARALGON"}]
[{"$f":"DataBase!C117","v":"Lorne Community Hospital"},{"$f":"DataBase!D117","v":"Lorne Community Hospital"},{"$f":"DataBase!E117","v":9339626001018},{"$f":"DataBase!F117","v":"Albert St LORNE"}]
[{"$f":"DataBase!C118","v":"Maldon Hospital"},{"$f":"DataBase!D118","v":"Maldon Hospital"},{"$f":"DataBase!E118","v":9339626001025},{"$f":"DataBase!F118","v":"Chapel Street MALDON"}]
[{"$f":"DataBase!C119","v":"Mallee Track Health & Community Service"},{"$f":"DataBase!D119","v":"Mallee Track Health & Community Service"},{"$f":"DataBase!E119","v":9339626001032},{"$f":"DataBase!F119","v":"28 Britt Street OUYEN"}]
[{"$f":"DataBase!C120","v":"Mansfield District Hospital"},{"$f":"DataBase!D120","v":"Mansfield District Hospital"},{"$f":"DataBase!E120","v":9339626001056},{"$f":"DataBase!F120","v":"53 Highett St MANSFIELD"}]
[{"$f":"DataBase!C121","v":"Maryborough District Health Service"},{"$f":"DataBase!D121","v":"Maryborough District Health Service"},{"$f":"DataBase!E121","v":9339626001070},{"$f":"DataBase!F121","v":"75 to 87 Clarendon Street MARYBOROUGH"}]
[{"$f":"DataBase!C122","v":"Melbourne Health"},{"$f":"DataBase!D122","v":"Melbourne Health minor sites"},{"$f":"DataBase!E122","v":1000000000017},{"$f":"DataBase!F122","v":""}]
[{"$f":"DataBase!C123","v":"Melbourne Health"},{"$f":"DataBase!D123","v":"RMH Parkville"},{"$f":"DataBase!E123","v":9377779147740},{"$f":"DataBase!F123","v":"RMH Grattan Street PARKVILLE"}]
[{"$f":"DataBase!C124","v":"Melbourne Health"},{"$f":"DataBase!D124","v":"RMH Royal Park"},{"$f":"DataBase!E124","v":9339626006334},{"$f":"DataBase!F124","v":"RMH Grattan Street PARKVILLE"}]
[{"$f":"DataBase!C125","v":"Melbourne Health"},{"$f":"DataBase!D125","v":"Melbourne Health - unallocated data"},{"$f":"DataBase!E125","v":9339626001919},{"$f":"DataBase!F125","v":0}]
[{"$f":"DataBase!C126","v":"Mercy Health"},{"$f":"DataBase!D126","v":"Mercy for Women"},{"$f":"DataBase!E126","v":9339626002657},{"$f":"DataBase!F126","v":"163 Studley Road HEIDELBERG"}]
[{"$f":"DataBase!C127","v":"Mercy Health"},{"$f":"DataBase!D127","v":"O'Connell Family Centre"},{"$f":"DataBase!E127","v":9377779091562},{"$f":"DataBase!F127","v":"6 Mont Albert Rd CANTERBURY"}]
[{"$f":"DataBase!C128","v":"Mercy Health"},{"$f":"DataBase!D128","v":"Werribee CCU"},{"$f":"DataBase!E128","v":1000000000018},{"$f":"DataBase!F128","v":"131-135 Synnot St, WERRIBEE"}]
[{"$f":"DataBase!C129","v":"Mercy Health"},{"$f":"DataBase!D129","v":"Werribee Mercy Hospital"},{"$f":"DataBase!E129","v":9377779153741},{"$f":"DataBase!F129","v":"300 Princes Hwy WERRIBEE"}]
[{"$f":"DataBase!C130","v":"Mercy Health"},{"$f":"DataBase!D130","v":"Mercy Health - unallocated data"},{"$f":"DataBase!E130","v":9377779153734},{"$f":"DataBase!F130","v":0}]
[{"$f":"DataBase!C131","v":"Mildura Base Hospital"},{"$f":"DataBase!D131","v":"Mildura Hospital"},{"$f":"DataBase!E131","v":9339626001148},{"$f":"DataBase!F131","v":"Ontario Avenue MILDURA"}]
[{"$f":"DataBase!C132","v":"Monash Health"},{"$f":"DataBase!D132","v":"Casey Hospital"},{"$f":"DataBase!E132","v":9339626000363},{"$f":"DataBase!F132","v":"62-70 Kangan Dr BERWICK"}]
[{"$f":"DataBase!C133","v":"Monash Health"},{"$f":"DataBase!D133","v":"Cranbourne Integrated Care Centre"},{"$f":"DataBase!E133","v":9339626000479},{"$f":"DataBase!F133","v":"140 - 154 Sladen Street CRANBOURNE"}]
[{"$f":"DataBase!C134","v":"Monash Health"},{"$f":"DataBase!D134","v":"Dandenong Hospital"},{"$f":"DataBase!E134","v":9339626000493},{"$f":"DataBase!F134","v":"135 David Street DANDENONG"}]
[{"$f":"DataBase!C135","v":"Monash Health"},{"$f":"DataBase!D135","v":"Kingston Centre"},{"$f":"DataBase!E135","v":9339626000943},{"$f":"DataBase!F135","v":"Warringal Road CHELTENHAM"}]
[{"$f":"DataBase!C136","v":"Monash Health"},{"$f":"DataBase!D136","v":"Monash Medical Centre Clayton"},{"$f":"DataBase!E136","v":9339626002961},{"$f":"DataBase!F136","v":"Loading dock 1 246 clayton road CLAYTON"}]
[{"$f":"DataBase!C137","v":"Monash Health"},{"$f":"DataBase!D137","v":"Moorabbin Hospital"},{"$f":"DataBase!E137","v":9339626001155},{"$f":"DataBase!F137","v":"Centre Road BENTLEIGH EAST"}]
[{"$f":"DataBase!C138","v":"Monash Health"},{"$f":"DataBase!D138","v":"Monash Health - unallocated data"},{"$f":"DataBase!E138","v":9377779117767},{"$f":"DataBase!F138","v":0}]
[{"$f":"DataBase!C139","v":"Moyne Health Services"},{"$f":"DataBase!D139","v":"Moyne Health Services"},{"$f":"DataBase!E139","v":9339626001193},{"$f":"DataBase!F139","v":"Villiers St PORT FAIRY"}]
[{"$f":"DataBase!C140","v":"Nathalia District Hospital"},{"$f":"DataBase!D140","v":"Nathalia District Hospital"},{"$f":"DataBase!E140","v":9339626001216},{"$f":"DataBase!F140","v":"36-44 McDonell St NATHALIA"}]
[{"$f":"DataBase!C141","v":"Northeast Health Wangaratta"},{"$f":"DataBase!D141","v":"Northeast Health Wangaratta"},{"$f":"DataBase!E141","v":9339626001278},{"$f":"DataBase!F141","v":"35-47 Green Street WANGARATTA"}]
[{"$f":"DataBase!C142","v":"Northern Health"},{"$f":"DataBase!D142","v":"Broadmeadows Health Service"},{"$f":"DataBase!E142","v":9339626000318},{"$f":"DataBase!F142","v":"35 Johnstone St BROADMEADOWS"}]
[{"$f":"DataBase!C143","v":"Northern Health"},{"$f":"DataBase!D143","v":"Bundoora Extended Care Centre"},{"$f":"DataBase!E143","v":9339626000325},{"$f":"DataBase!F143","v":"1231 Plenty Rd, BUNDOORA"}]
[{"$f":"DataBase!C144","v":"Northern Health"},{"$f":"DataBase!D144","v":"Craigieburn Health Service"},{"$f":"DataBase!E144","v":9339626006341},{"$f":"DataBase!F144","v":"350 Craigieburn Road West CRAIGIEBURN"}]
[{"$f":"DataBase!C145","v":"Northern Health"},{"$f":"DataBase!D145","v":"Northern Hospital"},{"$f":"DataBase!E145","v":9339626001698},{"$f":"DataBase!F145","v":"185 Cooper St EPPING"}]
[{"$f":"DataBase!C146","v":"Northern Health"},{"$f":"DataBase!D146","v":"Panch Health Service"},{"$f":"DataBase!E146","v":9377779091791},{"$f":"DataBase!F146","v":"300 Bell St PRESTON"}]
[{"$f":"DataBase!C147","v":"Northern Health"},{"$f":"DataBase!D147","v":"Northern Health - unallocated data"},{"$f":"DataBase!E147","v":9339626001285},{"$f":"DataBase!F147","v":0}]
[{"$f":"DataBase!C148","v":"Numurkah District Health Service"},{"$f":"DataBase!D148","v":"Numurkah Hospital"},{"$f":"DataBase!E148","v":9339626001292},{"$f":"DataBase!F148","v":"2 Katamatite Rd NUMURKAH"}]
[{"$f":"DataBase!C149","v":"Omeo District Hospital"},{"$f":"DataBase!D149","v":"Omeo District Hospital"},{"$f":"DataBase!E149","v":9339626001308},{"$f":"DataBase!F149","v":"Easton Street OMEO"}]
[{"$f":"DataBase!C150","v":"Orbost Regional Health"},{"$f":"DataBase!D150","v":"Orbost Regional Health"},{"$f":"DataBase!E150","v":9339626001315},{"$f":"DataBase!F150","v":"104 - 107 Boundary Road ORBOST"}]
[{"$f":"DataBase!C151","v":"Otway Health"},{"$f":"DataBase!D151","v":"Otway Health"},{"$f":"DataBase!E151","v":9339626001339},{"$f":"DataBase!F151","v":"75 McLachlan St APOLLO BAY"}]
[{"$f":"DataBase!C152","v":"Peninsula Health"},{"$f":"DataBase!D152","v":"Adult Prevention and Recovery Care - APARC"},{"$f":"DataBase!E152","v":9339626013059},{"$f":"DataBase!F152","v":"87-91 Beach Street"}]
[{"$f":"DataBase!C153","v":"Peninsula Health"},{"$f":"DataBase!D153","v":"Chelsea Heights Health Service"},{"$f":"DataBase!E153","v":9339626001346},{"$f":"DataBase!F153","v":"Wells Road"}]
[{"$f":"DataBase!C154","v":"Peninsula Health"},{"$f":"DataBase!D154","v":"Frankston Community Care Unit"},{"$f":"DataBase!E154","v":9339626013066},{"$f":"DataBase!F154","v":"4 Spray Street"}]
[{"$f":"DataBase!C155","v":"Peninsula Health"},{"$f":"DataBase!D155","v":"Frankston Hospital"},{"$f":"DataBase!E155","v":9339626000684},{"$f":"DataBase!F155","v":"2 Hastings Road FRANKSTON"}]
[{"$f":"DataBase!C156","v":"Peninsula Health"},{"$f":"DataBase!D156","v":"Golf Links Road"},{"$f":"DataBase!E156","v":9339626013042},{"$f":"DataBase!F156","v":"125 Golf Links Road"}]
[{"$f":"DataBase!C157","v":"Peninsula Health"},{"$f":"DataBase!D157","v":"Hastings Community Health Centre"},{"$f":"DataBase!E157","v":9339626013073},{"$f":"DataBase!F157","v":"185 High Street"}]
[{"$f":"DataBase!C158","v":"Peninsula Health"},{"$f":"DataBase!D158","v":"Mornington Centre"},{"$f":"DataBase!E158","v":9339626013028},{"$f":"DataBase!F158","v":"Building 1 24 Separation Street"}]
[{"$f":"DataBase!C159","v":"Peninsula Health"},{"$f":"DataBase!D159","v":"Mount Eliza Centre"},{"$f":"DataBase!E159","v":9339626001186},{"$f":"DataBase!F159","v":"Jacksons Road MOUNT ELIZA"}]
[{"$f":"DataBase!C160","v":"Peninsula Health"},{"$f":"DataBase!D160","v":"Rosebud Hospital"},{"$f":"DataBase!E160","v":9339626001469},{"$f":"DataBase!F160","v":"1527 Nepean Highway ROSEBUD"}]
[{"$f":"DataBase!C161","v":"Peninsula Health"},{"$f":"DataBase!D161","v":"Youth Prevention and Recovery Care - YPARC"},{"$f":"DataBase!E161","v":9339626013080},{"$f":"DataBase!F161","v":"21-23 Yuille Street"}]
[{"$f":"DataBase!C162","v":"Peninsula Health"},{"$f":"DataBase!D162","v":"Peninsula CMHS"},{"$f":"DataBase!E162","v":9339626001353},{"$f":"DataBase!F162","v":"Building PA - Playne Street"}]
[{"$f":"DataBase!C163","v":"Peninsula Health"},{"$f":"DataBase!D163","v":"Peninsula Health - unallocated data"},{"$f":"DataBase!E163","v":9339626001346},{"$f":"DataBase!F163","v":0}]
[{"$f":"DataBase!C164","v":"Peter MacCallum Cancer Centre"},{"$f":"DataBase!D164","v":"Peter MacCallum Cancer Centre"},{"$f":"DataBase!E164","v":9339626007232},{"$f":"DataBase!F164","v":"VCCC Building, Gate 1, 14 Flemington Rd MELBOURNE"}]
[{"$f":"DataBase!C165","v":"Portland District Health"},{"$f":"DataBase!D165","v":"Portland District Health"},{"$f":"DataBase!E165","v":9339626001384},{"$f":"DataBase!F165","v":"Bentinck Street PORTLAND"}]
[{"$f":"DataBase!C166","v":"Robinvale District Health Services"},{"$f":"DataBase!D166","v":"Robinvale District Health Services"},{"$f":"DataBase!E166","v":9339626001438},{"$f":"DataBase!F166","v":"128 Latje Rd ROBINVALE"}]
[{"$f":"DataBase!C167","v":"Rochester & Elmore District Health Service"},{"$f":"DataBase!D167","v":"Rochester and Elmore District Health Service"},{"$f":"DataBase!E167","v":9339626001452},{"$f":"DataBase!F167","v":"Pascoe Street ROCHESTER"}]
[{"$f":"DataBase!C168","v":"Royal Children's Hospital"},{"$f":"DataBase!D168","v":"Royal Children's Hospital"},{"$f":"DataBase!E168","v":9377778867762},{"$f":"DataBase!F168","v":"RCH 50 Flemington Road PARKVILLE"}]
[{"$f":"DataBase!C169","v":"Royal Victorian Eye & Ear Hospital"},{"$f":"DataBase!D169","v":"Royal Victorian Eye and Ear"},{"$f":"DataBase!E169","v":9377779151877},{"$f":"DataBase!F169","v":"32 Gisborne St EAST MELBOURNE"}]
[{"$f":"DataBase!C170","v":"Royal Women’s Hospital"},{"$f":"DataBase!D170","v":"Royal Women’s Hospital"},{"$f":"DataBase!E170","v":9339626001506},{"$f":"DataBase!F170","v":"RWH Grattan Street PARKVILLE"}]
[{"$f":"DataBase!C171","v":"Rural Northwest Health"},{"$f":"DataBase!D171","v":"Beulah Hospital"},{"$f":"DataBase!E171","v":9339626000271},{"$f":"DataBase!F171","v":"Cnr Henty Hwy & Bell St BEULAH"}]
[{"$f":"DataBase!C172","v":"Rural Northwest Health"},{"$f":"DataBase!D172","v":"Hopetoun Campus"},{"$f":"DataBase!E172","v":9339626000875},{"$f":"DataBase!F172","v":"12 Mitchell Place HOPETOUN"}]
[{"$f":"DataBase!C173","v":"Rural Northwest Health"},{"$f":"DataBase!D173","v":"Warracknabeal Campus"},{"$f":"DataBase!E173","v":9339626001766},{"$f":"DataBase!F173","v":"18 Dimboola Road WARRACKNABEAL"}]
[{"$f":"DataBase!C174","v":"Seymour District Memorial Hospital"},{"$f":"DataBase!D174","v":"Seymour District Memorial Hospital"},{"$f":"DataBase!E174","v":9339626001544},{"$f":"DataBase!F174","v":"Brettoneux St SEYMOUR"}]
[{"$f":"DataBase!C175","v":"South Gippsland Hospital"},{"$f":"DataBase!D175","v":"South Gippsland Hospital"},{"$f":"DataBase!E175","v":9339626001551},{"$f":"DataBase!F175","v":"87 Station Road FOSTER"}]
[{"$f":"DataBase!C176","v":"South West Healthcare"},{"$f":"DataBase!D176","v":"South West Healthcare"},{"$f":"DataBase!E176","v":9339626001568},{"$f":"DataBase!F176","v":"Ryot Street WARRNAMBOOL"}]
[{"$f":"DataBase!C177","v":"St Vincent's Health"},{"$f":"DataBase!D177","v":"Caritas Christi Hospice Kew"},{"$f":"DataBase!E177","v":9344836000461},{"$f":"DataBase!F177","v":"104 Studley Park Road MELBOURNE"}]
[{"$f":"DataBase!C178","v":"St Vincent's Health"},{"$f":"DataBase!D178","v":"St George's Hospital"},{"$f":"DataBase!E178","v":9344836000126},{"$f":"DataBase!F178","v":"283 Cotham Road MELBOURNE"}]
[{"$f":"DataBase!C179","v":"St Vincent's Health"},{"$f":"DataBase!D179","v":"St Vincent's Hospital Melbourne"},{"$f":"DataBase!E179","v":9344836000072},{"$f":"DataBase!F179","v":"41 Victoria Parade MELBOURNE"}]
[{"$f":"DataBase!C180","v":"St Vincent's Health"},{"$f":"DataBase!D180","v":"St Vincent's minor sites"},{"$f":"DataBase!E180","v":1000000000021},{"$f":"DataBase!F180","v":""}]
[{"$f":"DataBase!C181","v":"St Vincent's Health"},{"$f":"DataBase!D181","v":"St Vincent's - unallocated data"},{"$f":"DataBase!E181","v":9339626001612},{"$f":"DataBase!F181","v":""}]
[{"$f":"DataBase!C182","v":"Stawell Regional Health"},{"$f":"DataBase!D182","v":"Stawell Regional Health"},{"$f":"DataBase!E182","v":9377778984186},{"$f":"DataBase!F182","v":"Sloane Street STAWELL"}]
[{"$f":"DataBase!C183","v":"Swan Hill District Health"},{"$f":"DataBase!D183","v":"Swan Hill District Health"},{"$f":"DataBase!E183","v":9339626001926},{"$f":"DataBase!F183","v":"Splatt Street SWAN HILL"}]
[{"$f":"DataBase!C184","v":"Tallangatta Health Service"},{"$f":"DataBase!D184","v":"Tallangatta Health Service"},{"$f":"DataBase!E184","v":9339626001643},{"$f":"DataBase!F184","v":"25 Barree Street TALLANGATTA"}]
[{"$f":"DataBase!C185","v":"Terang and Mortlake Health Services"},{"$f":"DataBase!D185","v":"Terang and Mortlake Health Services"},{"$f":"DataBase!E185","v":9339626001650},{"$f":"DataBase!F185","v":"66-68 High Street\n66-68 High Street TERANG"}]
[{"$f":"DataBase!C186","v":"Timboon & District Healthcare Service"},{"$f":"DataBase!D186","v":"Timboon & District Healthcare"},{"$f":"DataBase!E186","v":9339626001704},{"$f":"DataBase!F186","v":"Hospital Road TIMBOON"}]
[{"$f":"DataBase!C187","v":"Upper Murray Health & Community Services"},{"$f":"DataBase!D187","v":"Upper Murray Health and Community Services"},{"$f":"DataBase!E187","v":9339626001735},{"$f":"DataBase!F187","v":"Kiell Street CORRYONG"}]
[{"$f":"DataBase!C188","v":"West Gippsland Healthcare Group"},{"$f":"DataBase!D188","v":"West Gippsland Healthcare Group"},{"$f":"DataBase!E188","v":9339626001780},{"$f":"DataBase!F188","v":"41 Landsborough Street WARRAGUL"}]
[{"$f":"DataBase!C189","v":"West Wimmera Health Service"},{"$f":"DataBase!D189","v":"West Wimmera Health Service"},{"$f":"DataBase!E189","v":9339626001803},{"$f":"DataBase!F189","v":"45-47 Neslon St NHILL"}]
[{"$f":"DataBase!C190","v":"Western District Health Service"},{"$f":"DataBase!D190","v":"Western District Health Service"},{"$f":"DataBase!E190","v":9339626001810},{"$f":"DataBase!F190","v":"Foster Street HAMILTON"}]
[{"$f":"DataBase!C191","v":"Western Health"},{"$f":"DataBase!D191","v":"Footscray Hospital"},{"$f":"DataBase!E191","v":9377779147641},{"$f":"DataBase!F191","v":"Gordon Street FOOTSCRAY"}]
[{"$f":"DataBase!C192","v":"Western Health"},{"$f":"DataBase!D192","v":"Hazeldean Transitional Care Facility"},{"$f":"DataBase!E192","v":9339626012045},{"$f":"DataBase!F192","v":"211 Osborne Street WILLIAMSTOWN"}]
[{"$f":"DataBase!C193","v":"Western Health"},{"$f":"DataBase!D193","v":"Sunbury Day Procedure Centre"},{"$f":"DataBase!E193","v":9339626002954},{"$f":"DataBase!F193","v":"7 Macedon Street SUNBURY"}]
[{"$f":"DataBase!C194","v":"Western Health"},{"$f":"DataBase!D194","v":"Sunshine Hospital"},{"$f":"DataBase!E194","v":9377779147658},{"$f":"DataBase!F194","v":"Furlong Road ST ALBANS"}]
[{"$f":"DataBase!C195","v":"Western Health"},{"$f":"DataBase!D195","v":"Western Health Minor Sites"},{"$f":"DataBase!E195","v":1000000000022},{"$f":"DataBase!F195","v":""}]
[{"$f":"DataBase!C196","v":"Western Health"},{"$f":"DataBase!D196","v":"Williamstown Hospital"},{"$f":"DataBase!E196","v":9377779147665},{"$f":"DataBase!F196","v":"Railway Crescent WILLIAMSTOWN"}]
[{"$f":"DataBase!C197","v":"Wimmera Health Care Group"},{"$f":"DataBase!D197","v":"Wimmera Health Care Group"},{"$f":"DataBase!E197","v":9339626001834},{"$f":"DataBase!F197","v":"83 Baillie Street HORSHAM"}]
[{"$f":"DataBase!C198","v":"Yarram and District Health Service"},{"$f":"DataBase!D198","v":"Yarram and District Health Service"},{"$f":"DataBase!E198","v":9339626001889},{"$f":"DataBase!F198","v":"Devon Street YARRAM"}]
[{"$f":"DataBase!C199","v":"Yarrawonga Health"},{"$f":"DataBase!D199","v":"Yarrawonga Hospital"},{"$f":"DataBase!E199","v":9339626001896},{"$f":"DataBase!F199","v":"33 Piper St YARRAWONGA"}]
[{"$f":"DataBase!C200","v":"Yea & District Memorial Hospital"},{"$f":"DataBase!D200","v":"Yea and District Memorial Hospital"},{"$f":"DataBase!E200","v":9339626001902},{"$f":"DataBase!F200","v":"45 Station St YEA"}]
[{"$f":"DataBase!C201","v":"Health Purchasing Victoria"},{"$f":"DataBase!D201","v":"Victorian Portfolio"},{"$f":"DataBase!E201","v":9999999999999},{"$f":"DataBase!F201","v":0}]
[{"$f":"DataBase!C202","v":"Victorian Portfolio"},{"$f":"DataBase!D202","v":"Victorian Portfolio"},{"$f":"DataBase!E202","v":9999999999999},{"$f":"DataBase!F202","v":0}]
[{"$f":"DataBase!C203","v":0},{"$f":"DataBase!D203","v":0},{"$f":"DataBase!E203","v":0},{"$f":"DataBase!F203","v":0}]
[{"$f":"DataBase!C204","v":0},{"$f":"DataBase!D204","v":0},{"$f":"DataBase!E204","v":0},{"$f":"DataBase!F204","v":0}]
[{"$f":"DataBase!C205","v":0},{"$f":"DataBase!D205","v":0},{"$f":"DataBase!E205","v":0},{"$f":"DataBase!F205","v":0}]
[{"$f":"DataBase!C206","v":0},{"$f":"DataBase!D206","v":0},{"$f":"DataBase!E206","v":0},{"$f":"DataBase!F206","v":0}]
[{"$f":"DataBase!C207","v":0},{"$f":"DataBase!D207","v":0},{"$f":"DataBase!E207","v":0},{"$f":"DataBase!F207","v":0}]
[{"$f":"DataBase!C208","v":0},{"$f":"DataBase!D208","v":0},{"$f":"DataBase!E208","v":0},{"$f":"DataBase!F208","v":0}]
[{"$f":"DataBase!C209","v":0},{"$f":"DataBase!D209","v":0},{"$f":"DataBase!E209","v":0},{"$f":"DataBase!F209","v":0}]
[{"$f":"DataBase!C210","v":0},{"$f":"DataBase!D210","v":0},{"$f":"DataBase!E210","v":0},{"$f":"DataBase!F210","v":0}]
[{"$f":"DataBase!C211","v":0},{"$f":"DataBase!D211","v":0},{"$f":"DataBase!E211","v":0},{"$f":"DataBase!F211","v":0}]
[{"$f":"DataBase!C212","v":0},{"$f":"DataBase!D212","v":0},{"$f":"DataBase!E212","v":0},{"$f":"DataBase!F212","v":0}]
[{"$f":"DataBase!C213","v":0},{"$f":"DataBase!D213","v":0},{"$f":"DataBase!E213","v":0},{"$f":"DataBase!F213","v":0}]
[{"$f":"DataBase!C214","v":0},{"$f":"DataBase!D214","v":0},{"$f":"DataBase!E214","v":0},{"$f":"DataBase!F214","v":0}]
[{"$f":"DataBase!C215","v":0},{"$f":"DataBase!D215","v":0},{"$f":"DataBase!E215","v":0},{"$f":"DataBase!F215","v":0}]
[{"$f":"DataBase!C216","v":0},{"$f":"DataBase!D216","v":0},{"$f":"DataBase!E216","v":0},{"$f":"DataBase!F216","v":0}]
[{"$f":"DataBase!C217","v":0},{"$f":"DataBase!D217","v":0},{"$f":"DataBase!E217","v":0},{"$f":"DataBase!F217","v":0}]
[{"$f":"DataBase!C218","v":0},{"$f":"DataBase!D218","v":0},{"$f":"DataBase!E218","v":0},{"$f":"DataBase!F218","v":0}]
[{"$f":"DataBase!C219","v":0},{"$f":"DataBase!D219","v":0},{"$f":"DataBase!E219","v":0},{"$f":"DataBase!F219","v":0}]
[{"$f":"DataBase!C220","v":0},{"$f":"DataBase!D220","v":0},{"$f":"DataBase!E220","v":0},{"$f":"DataBase!F220","v":0}]
[{"$f":"DataBase!C221","v":0},{"$f":"DataBase!D221","v":0},{"$f":"DataBase!E221","v":0},{"$f":"DataBase!F221","v":0}]
[{"$f":"DataBase!C222","v":0},{"$f":"DataBase!D222","v":0},{"$f":"DataBase!E222","v":0},{"$f":"DataBase!F222","v":0}]
[{"$f":"DataBase!C223","v":0},{"$f":"DataBase!D223","v":0},{"$f":"DataBase!E223","v":0},{"$f":"DataBase!F223","v":0}]
[{"$f":"DataBase!C224","v":0},{"$f":"DataBase!D224","v":0},{"$f":"DataBase!E224","v":0},{"$f":"DataBase!F224","v":0}]
[{"$f":"DataBase!C225","v":0},{"$f":"DataBase!D225","v":0},{"$f":"DataBase!E225","v":0},{"$f":"DataBase!F225","v":0}]
[{"$f":"DataBase!C226","v":0},{"$f":"DataBase!D226","v":0},{"$f":"DataBase!E226","v":0},{"$f":"DataBase!F226","v":0}]
[{"$f":"DataBase!C227","v":0},{"$f":"DataBase!D227","v":0},{"$f":"DataBase!E227","v":0},{"$f":"DataBase!F227","v":0}]
[{"$f":"DataBase!C228","v":0},{"$f":"DataBase!D228","v":0},{"$f":"DataBase!E228","v":0},{"$f":"DataBase!F228","v":0}]
[{"$f":"DataBase!C229","v":0},{"$f":"DataBase!D229","v":0},{"$f":"DataBase!E229","v":0},{"$f":"DataBase!F229","v":0}]
[{"$f":"DataBase!C230","v":0},{"$f":"DataBase!D230","v":0},{"$f":"DataBase!E230","v":0},{"$f":"DataBase!F230","v":0}]
[{"$f":"DataBase!C231","v":0},{"$f":"DataBase!D231","v":0},{"$f":"DataBase!E231","v":0},{"$f":"DataBase!F231","v":0}]
[{"$f":"DataBase!C232","v":0},{"$f":"DataBase!D232","v":0},{"$f":"DataBase!E232","v":0},{"$f":"DataBase!F232","v":0}]
[{"$f":"DataBase!C233","v":0},{"$f":"DataBase!D233","v":0},{"$f":"DataBase!E233","v":0},{"$f":"DataBase!F233","v":0}]
[{"$f":"DataBase!C234","v":0},{"$f":"DataBase!D234","v":0},{"$f":"DataBase!E234","v":0},{"$f":"DataBase!F234","v":0}]
[{"$f":"DataBase!C235","v":0},{"$f":"DataBase!D235","v":0},{"$f":"DataBase!E235","v":0},{"$f":"DataBase!F235","v":0}]
[{"$f":"DataBase!C236","v":0},{"$f":"DataBase!D236","v":0},{"$f":"DataBase!E236","v":0},{"$f":"DataBase!F236","v":0}]
[{"$f":"DataBase!C237","v":0},{"$f":"DataBase!D237","v":0},{"$f":"DataBase!E237","v":0},{"$f":"DataBase!F237","v":0}]
[{"$f":"DataBase!C238","v":0},{"$f":"DataBase!D238","v":0},{"$f":"DataBase!E238","v":0},{"$f":"DataBase!F238","v":0}]
[{"$f":"DataBase!C239","v":0},{"$f":"DataBase!D239","v":0},{"$f":"DataBase!E239","v":0},{"$f":"DataBase!F239","v":0}]
[{"$f":"DataBase!C240","v":0},{"$f":"DataBase!D240","v":0},{"$f":"DataBase!E240","v":0},{"$f":"DataBase!F240","v":0}]
[{"$f":"DataBase!C241","v":0},{"$f":"DataBase!D241","v":0},{"$f":"DataBase!E241","v":0},{"$f":"DataBase!F241","v":0}]
[{"$f":"DataBase!C242","v":0},{"$f":"DataBase!D242","v":0},{"$f":"DataBase!E242","v":0},{"$f":"DataBase!F242","v":0}]
[{"$f":"DataBase!C243","v":0},{"$f":"DataBase!D243","v":0},{"$f":"DataBase!E243","v":0},{"$f":"DataBase!F243","v":0}]
[{"$f":"DataBase!C244","v":0},{"$f":"DataBase!D244","v":0},{"$f":"DataBase!E244","v":0},{"$f":"DataBase!F244","v":0}]
[{"$f":"DataBase!C245","v":0},{"$f":"DataBase!D245","v":0},{"$f":"DataBase!E245","v":0},{"$f":"DataBase!F245","v":0}]
[{"$f":"DataBase!C246","v":0},{"$f":"DataBase!D246","v":0},{"$f":"DataBase!E246","v":0},{"$f":"DataBase!F246","v":0}]
[{"$f":"DataBase!C247","v":0},{"$f":"DataBase!D247","v":0},{"$f":"DataBase!E247","v":0},{"$f":"DataBase!F247","v":0}]
[{"$f":"DataBase!C248","v":0},{"$f":"DataBase!D248","v":0},{"$f":"DataBase!E248","v":0},{"$f":"DataBase!F248","v":0}]
[{"$f":"DataBase!C249","v":0},{"$f":"DataBase!D249","v":0},{"$f":"DataBase!E249","v":0},{"$f":"DataBase!F249","v":0}]
[{"$f":"DataBase!C250","v":0},{"$f":"DataBase!D250","v":0},{"$f":"DataBase!E250","v":0},{"$f":"DataBase!F250","v":0}]
[{"$f":"DataBase!C251","v":0},{"$f":"DataBase!D251","v":0},{"$f":"DataBase!E251","v":0},{"$f":"DataBase!F251","v":0}]
[{"$f":"DataBase!C252","v":0},{"$f":"DataBase!D252","v":0},{"$f":"DataBase!E252","v":0},{"$f":"DataBase!F252","v":0}]
[{"$f":"DataBase!C253","v":0},{"$f":"DataBase!D253","v":0},{"$f":"DataBase!E253","v":0},{"$f":"DataBase!F253","v":0}]
[{"$f":"DataBase!C254","v":0},{"$f":"DataBase!D254","v":0},{"$f":"DataBase!E254","v":0},{"$f":"DataBase!F254","v":0}]
[{"$f":"DataBase!C255","v":0},{"$f":"DataBase!D255","v":0},{"$f":"DataBase!E255","v":0},{"$f":"DataBase!F255","v":0}]
[{"$f":"DataBase!C256","v":0},{"$f":"DataBase!D256","v":0},{"$f":"DataBase!E256","v":0},{"$f":"DataBase!F256","v":0}]
[{"$f":"DataBase!C257","v":0},{"$f":"DataBase!D257","v":0},{"$f":"DataBase!E257","v":0},{"$f":"DataBase!F257","v":0}]
[{"$f":"DataBase!C258","v":0},{"$f":"DataBase!D258","v":0},{"$f":"DataBase!E258","v":0},{"$f":"DataBase!F258","v":0}]
[{"$f":"DataBase!C259","v":0},{"$f":"DataBase!D259","v":0},{"$f":"DataBase!E259","v":0},{"$f":"DataBase!F259","v":0}]
[{"$f":"DataBase!C260","v":0},{"$f":"DataBase!D260","v":0},{"$f":"DataBase!E260","v":0},{"$f":"DataBase!F260","v":0}]
[{"$f":"DataBase!C261","v":0},{"$f":"DataBase!D261","v":0},{"$f":"DataBase!E261","v":0},{"$f":"DataBase!F261","v":0}]
[{"$f":"DataBase!C262","v":0},{"$f":"DataBase!D262","v":0},{"$f":"DataBase!E262","v":0},{"$f":"DataBase!F262","v":0}]
[{"$f":"DataBase!C263","v":0},{"$f":"DataBase!D263","v":0},{"$f":"DataBase!E263","v":0},{"$f":"DataBase!F263","v":0}]
[{"$f":"DataBase!C264","v":0},{"$f":"DataBase!D264","v":0},{"$f":"DataBase!E264","v":0},{"$f":"DataBase!F264","v":0}]
[{"$f":"DataBase!C265","v":0},{"$f":"DataBase!D265","v":0},{"$f":"DataBase!E265","v":0},{"$f":"DataBase!F265","v":0}]
[{"$f":"DataBase!C266","v":0},{"$f":"DataBase!D266","v":0},{"$f":"DataBase!E266","v":0},{"$f":"DataBase!F266","v":0}]
[{"$f":"DataBase!C267","v":0},{"$f":"DataBase!D267","v":0},{"$f":"DataBase!E267","v":0},{"$f":"DataBase!F267","v":0}]
[{"$f":"DataBase!C268","v":0},{"$f":"DataBase!D268","v":0},{"$f":"DataBase!E268","v":0},{"$f":"DataBase!F268","v":0}]
[{"$f":"DataBase!C269","v":0},{"$f":"DataBase!D269","v":0},{"$f":"DataBase!E269","v":0},{"$f":"DataBase!F269","v":0}]
[{"$f":"DataBase!C270","v":0},{"$f":"DataBase!D270","v":0},{"$f":"DataBase!E270","v":0},{"$f":"DataBase!F270","v":0}]
[{"$f":"DataBase!C271","v":0},{"$f":"DataBase!D271","v":0},{"$f":"DataBase!E271","v":0},{"$f":"DataBase!F271","v":0}]
[{"$f":"DataBase!C272","v":0},{"$f":"DataBase!D272","v":0},{"$f":"DataBase!E272","v":0},{"$f":"DataBase!F272","v":0}]
[{"$f":"DataBase!C273","v":0},{"$f":"DataBase!D273","v":0},{"$f":"DataBase!E273","v":0},{"$f":"DataBase!F273","v":0}]
[{"$f":"DataBase!C274","v":0},{"$f":"DataBase!D274","v":0},{"$f":"DataBase!E274","v":0},{"$f":"DataBase!F274","v":0}]
[{"$f":"DataBase!C275","v":0},{"$f":"DataBase!D275","v":0},{"$f":"DataBase!E275","v":0},{"$f":"DataBase!F275","v":0}]
[{"$f":"DataBase!C276","v":0},{"$f":"DataBase!D276","v":0},{"$f":"DataBase!E276","v":0},{"$f":"DataBase!F276","v":0}]
[{"$f":"DataBase!C277","v":0},{"$f":"DataBase!D277","v":0},{"$f":"DataBase!E277","v":0},{"$f":"DataBase!F277","v":0}]
[{"$f":"DataBase!C278","v":0},{"$f":"DataBase!D278","v":0},{"$f":"DataBase!E278","v":0},{"$f":"DataBase!F278","v":0}]
[{"$f":"DataBase!C279","v":0},{"$f":"DataBase!D279","v":0},{"$f":"DataBase!E279","v":0},{"$f":"DataBase!F279","v":0}]
[{"$f":"DataBase!C280","v":0},{"$f":"DataBase!D280","v":0},{"$f":"DataBase!E280","v":0},{"$f":"DataBase!F280","v":0}]
[{"$f":"DataBase!C281","v":0},{"$f":"DataBase!D281","v":0},{"$f":"DataBase!E281","v":0},{"$f":"DataBase!F281","v":0}]
[{"$f":"DataBase!C282","v":0},{"$f":"DataBase!D282","v":0},{"$f":"DataBase!E282","v":0},{"$f":"DataBase!F282","v":0}]
[{"$f":"DataBase!C283","v":0},{"$f":"DataBase!D283","v":0},{"$f":"DataBase!E283","v":0},{"$f":"DataBase!F283","v":0}]
[{"$f":"DataBase!C284","v":0},{"$f":"DataBase!D284","v":0},{"$f":"DataBase!E284","v":0},{"$f":"DataBase!F284","v":0}]
[{"$f":"DataBase!C285","v":0},{"$f":"DataBase!D285","v":0},{"$f":"DataBase!E285","v":0},{"$f":"DataBase!F285","v":0}]
[{"$f":"DataBase!C286","v":0},{"$f":"DataBase!D286","v":0},{"$f":"DataBase!E286","v":0},{"$f":"DataBase!F286","v":0}]
[{"$f":"DataBase!C287","v":0},{"$f":"DataBase!D287","v":0},{"$f":"DataBase!E287","v":0},{"$f":"DataBase!F287","v":0}]
[{"$f":"DataBase!C288","v":0},{"$f":"DataBase!D288","v":0},{"$f":"DataBase!E288","v":0},{"$f":"DataBase!F288","v":0}]
[{"$f":"DataBase!C289","v":0},{"$f":"DataBase!D289","v":0},{"$f":"DataBase!E289","v":0},{"$f":"DataBase!F289","v":0}]
[{"$f":"DataBase!C290","v":0},{"$f":"DataBase!D290","v":0},{"$f":"DataBase!E290","v":0},{"$f":"DataBase!F290","v":0}]
[{"$f":"DataBase!C291","v":0},{"$f":"DataBase!D291","v":0},{"$f":"DataBase!E291","v":0},{"$f":"DataBase!F291","v":0}]
[{"$f":"DataBase!C292","v":0},{"$f":"DataBase!D292","v":0},{"$f":"DataBase!E292","v":0},{"$f":"DataBase!F292","v":0}]
[{"$f":"DataBase!C293","v":0},{"$f":"DataBase!D293","v":0},{"$f":"DataBase!E293","v":0},{"$f":"DataBase!F293","v":0}]
[{"$f":"DataBase!C294","v":0},{"$f":"DataBase!D294","v":0},{"$f":"DataBase!E294","v":0},{"$f":"DataBase!F294","v":0}]
[{"$f":"DataBase!C295","v":0},{"$f":"DataBase!D295","v":0},{"$f":"DataBase!E295","v":0},{"$f":"DataBase!F295","v":0}]
[{"$f":"DataBase!C296","v":0},{"$f":"DataBase!D296","v":0},{"$f":"DataBase!E296","v":0},{"$f":"DataBase!F296","v":0}]
[{"$f":"DataBase!C297","v":0},{"$f":"DataBase!D297","v":0},{"$f":"DataBase!E297","v":0},{"$f":"DataBase!F297","v":0}]
[{"$f":"DataBase!C298","v":0},{"$f":"DataBase!D298","v":0},{"$f":"DataBase!E298","v":0},{"$f":"DataBase!F298","v":0}]
[{"$f":"DataBase!C299","v":0},{"$f":"DataBase!D299","v":0},{"$f":"DataBase!E299","v":0},{"$f":"DataBase!F299","v":0}]
[{"$f":"DataBase!C300","v":0},{"$f":"DataBase!D300","v":0},{"$f":"DataBase!E300","v":0},{"$f":"DataBase!F300","v":0}]
[{"$f":"DataBase!C301","v":0},{"$f":"DataBase!D301","v":0},{"$f":"DataBase!E301","v":0},{"$f":"DataBase!F301","v":0}]
[{"$f":"DataBase!C302","v":0},{"$f":"DataBase!D302","v":0},{"$f":"DataBase!E302","v":0},{"$f":"DataBase!F302","v":0}]
[{"$f":"DataBase!C303","v":0},{"$f":"DataBase!D303","v":0},{"$f":"DataBase!E303","v":0},{"$f":"DataBase!F303","v":0}]
[{"$f":"DataBase!C304","v":0},{"$f":"DataBase!D304","v":0},{"$f":"DataBase!E304","v":0},{"$f":"DataBase!F304","v":0}]
[{"$f":"DataBase!C305","v":0},{"$f":"DataBase!D305","v":0},{"$f":"DataBase!E305","v":0},{"$f":"DataBase!F305","v":0}]
[{"$f":"DataBase!C306","v":0},{"$f":"DataBase!D306","v":0},{"$f":"DataBase!E306","v":0},{"$f":"DataBase!F306","v":0}]
[{"$f":"DataBase!C307","v":0},{"$f":"DataBase!D307","v":0},{"$f":"DataBase!E307","v":0},{"$f":"DataBase!F307","v":0}]
[{"$f":"DataBase!C308","v":0},{"$f":"DataBase!D308","v":0},{"$f":"DataBase!E308","v":0},{"$f":"DataBase!F308","v":0}]
[{"$f":"DataBase!C309","v":0},{"$f":"DataBase!D309","v":0},{"$f":"DataBase!E309","v":0},{"$f":"DataBase!F309","v":0}]
[{"$f":"DataBase!C310","v":0},{"$f":"DataBase!D310","v":0},{"$f":"DataBase!E310","v":0},{"$f":"DataBase!F310","v":0}]
[{"$f":"DataBase!C311","v":0},{"$f":"DataBase!D311","v":0},{"$f":"DataBase!E311","v":0},{"$f":"DataBase!F311","v":0}]
[{"$f":"DataBase!C312","v":0},{"$f":"DataBase!D312","v":0},{"$f":"DataBase!E312","v":0},{"$f":"DataBase!F312","v":0}]
[{"$f":"DataBase!C313","v":0},{"$f":"DataBase!D313","v":0},{"$f":"DataBase!E313","v":0},{"$f":"DataBase!F313","v":0}]
[{"$f":"DataBase!C314","v":0},{"$f":"DataBase!D314","v":0},{"$f":"DataBase!E314","v":0},{"$f":"DataBase!F314","v":0}]
[{"$f":"DataBase!C315","v":0},{"$f":"DataBase!D315","v":0},{"$f":"DataBase!E315","v":0},{"$f":"DataBase!F315","v":0}]
[{"$f":"DataBase!C316","v":0},{"$f":"DataBase!D316","v":0},{"$f":"DataBase!E316","v":0},{"$f":"DataBase!F316","v":0}]
[{"$f":"DataBase!C317","v":0},{"$f":"DataBase!D317","v":0},{"$f":"DataBase!E317","v":0},{"$f":"DataBase!F317","v":0}]
[{"$f":"DataBase!C318","v":0},{"$f":"DataBase!D318","v":0},{"$f":"DataBase!E318","v":0},{"$f":"DataBase!F318","v":0}]
[{"$f":"DataBase!C319","v":0},{"$f":"DataBase!D319","v":0},{"$f":"DataBase!E319","v":0},{"$f":"DataBase!F319","v":0}]
[{"$f":"DataBase!C320","v":0},{"$f":"DataBase!D320","v":0},{"$f":"DataBase!E320","v":0},{"$f":"DataBase!F320","v":0}]
[{"$f":"DataBase!C321","v":0},{"$f":"DataBase!D321","v":0},{"$f":"DataBase!E321","v":0},{"$f":"DataBase!F321","v":0}]
[{"$f":"DataBase!C322","v":0},{"$f":"DataBase!D322","v":0},{"$f":"DataBase!E322","v":0},{"$f":"DataBase!F322","v":0}]
[{"$f":"DataBase!C323","v":0},{"$f":"DataBase!D323","v":0},{"$f":"DataBase!E323","v":0},{"$f":"DataBase!F323","v":0}]
[{"$f":"DataBase!C324","v":0},{"$f":"DataBase!D324","v":0},{"$f":"DataBase!E324","v":0},{"$f":"DataBase!F324","v":0}]
[{"$f":"DataBase!C325","v":0},{"$f":"DataBase!D325","v":0},{"$f":"DataBase!E325","v":0},{"$f":"DataBase!F325","v":0}]
[{"$f":"DataBase!C326","v":0},{"$f":"DataBase!D326","v":0},{"$f":"DataBase!E326","v":0},{"$f":"DataBase!F326","v":0}]
[{"$f":"DataBase!C327","v":0},{"$f":"DataBase!D327","v":0},{"$f":"DataBase!E327","v":0},{"$f":"DataBase!F327","v":0}]
[{"$f":"DataBase!C328","v":0},{"$f":"DataBase!D328","v":0},{"$f":"DataBase!E328","v":0},{"$f":"DataBase!F328","v":0}]
[{"$f":"DataBase!C329","v":0},{"$f":"DataBase!D329","v":0},{"$f":"DataBase!E329","v":0},{"$f":"DataBase!F329","v":0}]
[{"$f":"DataBase!C330","v":0},{"$f":"DataBase!D330","v":0},{"$f":"DataBase!E330","v":0},{"$f":"DataBase!F330","v":0}]
[{"$f":"DataBase!C331","v":0},{"$f":"DataBase!D331","v":0},{"$f":"DataBase!E331","v":0},{"$f":"DataBase!F331","v":0}]
[{"$f":"DataBase!C332","v":0},{"$f":"DataBase!D332","v":0},{"$f":"DataBase!E332","v":0},{"$f":"DataBase!F332","v":0}]
[{"$f":"DataBase!C333","v":0},{"$f":"DataBase!D333","v":0},{"$f":"DataBase!E333","v":0},{"$f":"DataBase!F333","v":0}]
[{"$f":"DataBase!C334","v":0},{"$f":"DataBase!D334","v":0},{"$f":"DataBase!E334","v":0},{"$f":"DataBase!F334","v":0}]
[{"$f":"DataBase!C335","v":0},{"$f":"DataBase!D335","v":0},{"$f":"DataBase!E335","v":0},{"$f":"DataBase!F335","v":0}]
[{"$f":"DataBase!C336","v":0},{"$f":"DataBase!D336","v":0},{"$f":"DataBase!E336","v":0},{"$f":"DataBase!F336","v":0}]
[{"$f":"DataBase!C337","v":0},{"$f":"DataBase!D337","v":0},{"$f":"DataBase!E337","v":0},{"$f":"DataBase!F337","v":0}]
[{"$f":"DataBase!C338","v":0},{"$f":"DataBase!D338","v":0},{"$f":"DataBase!E338","v":0},{"$f":"DataBase!F338","v":0}]
[{"$f":"DataBase!C339","v":0},{"$f":"DataBase!D339","v":0},{"$f":"DataBase!E339","v":0},{"$f":"DataBase!F339","v":0}]
[{"$f":"DataBase!C340","v":0},{"$f":"DataBase!D340","v":0},{"$f":"DataBase!E340","v":0},{"$f":"DataBase!F340","v":0}]
[{"$f":"DataBase!C341","v":0},{"$f":"DataBase!D341","v":0},{"$f":"DataBase!E341","v":0},{"$f":"DataBase!F341","v":0}]
[{"$f":"DataBase!C342","v":0},{"$f":"DataBase!D342","v":0},{"$f":"DataBase!E342","v":0},{"$f":"DataBase!F342","v":0}]
[{"$f":"DataBase!C343","v":0},{"$f":"DataBase!D343","v":0},{"$f":"DataBase!E343","v":0},{"$f":"DataBase!F343","v":0}]
[{"$f":"DataBase!C344","v":0},{"$f":"DataBase!D344","v":0},{"$f":"DataBase!E344","v":0},{"$f":"DataBase!F344","v":0}]
[{"$f":"DataBase!C345","v":0},{"$f":"DataBase!D345","v":0},{"$f":"DataBase!E345","v":0},{"$f":"DataBase!F345","v":0}]
[{"$f":"DataBase!C346","v":0},{"$f":"DataBase!D346","v":0},{"$f":"DataBase!E346","v":0},{"$f":"DataBase!F346","v":0}]
[{"$f":"DataBase!C347","v":0},{"$f":"DataBase!D347","v":0},{"$f":"DataBase!E347","v":0},{"$f":"DataBase!F347","v":0}]
[{"$f":"DataBase!C348","v":0},{"$f":"DataBase!D348","v":0},{"$f":"DataBase!E348","v":0},{"$f":"DataBase!F348","v":0}]
[{"$f":"DataBase!C349","v":0},{"$f":"DataBase!D349","v":0},{"$f":"DataBase!E349","v":0},{"$f":"DataBase!F349","v":0}]
[{"$f":"DataBase!C350","v":0},{"$f":"DataBase!D350","v":0},{"$f":"DataBase!E350","v":0},{"$f":"DataBase!F350","v":0}]
[{"$f":"DataBase!C351","v":0},{"$f":"DataBase!D351","v":0},{"$f":"DataBase!E351","v":0},{"$f":"DataBase!F351","v":0}]
[{"$f":"DataBase!C352","v":0},{"$f":"DataBase!D352","v":0},{"$f":"DataBase!E352","v":0},{"$f":"DataBase!F352","v":0}]
[{"$f":"DataBase!C353","v":0},{"$f":"DataBase!D353","v":0},{"$f":"DataBase!E353","v":0},{"$f":"DataBase!F353","v":0}]
[{"$f":"DataBase!C354","v":0},{"$f":"DataBase!D354","v":0},{"$f":"DataBase!E354","v":0},{"$f":"DataBase!F354","v":0}]
[{"$f":"DataBase!C355","v":0},{"$f":"DataBase!D355","v":0},{"$f":"DataBase!E355","v":0},{"$f":"DataBase!F355","v":0}]
[{"$f":"DataBase!C356","v":0},{"$f":"DataBase!D356","v":0},{"$f":"DataBase!E356","v":0},{"$f":"DataBase!F356","v":0}]
[{"$f":"DataBase!C357","v":0},{"$f":"DataBase!D357","v":0},{"$f":"DataBase!E357","v":0},{"$f":"DataBase!F357","v":0}]
[{"$f":"DataBase!C358","v":0},{"$f":"DataBase!D358","v":0},{"$f":"DataBase!E358","v":0},{"$f":"DataBase!F358","v":0}]
[{"$f":"DataBase!C359","v":0},{"$f":"DataBase!D359","v":0},{"$f":"DataBase!E359","v":0},{"$f":"DataBase!F359","v":0}]
[{"$f":"DataBase!C360","v":0},{"$f":"DataBase!D360","v":0},{"$f":"DataBase!E360","v":0},{"$f":"DataBase!F360","v":0}]
[{"$f":"DataBase!C361","v":0},{"$f":"DataBase!D361","v":0},{"$f":"DataBase!E361","v":0},{"$f":"DataBase!F361","v":0}]
[{"$f":"DataBase!C362","v":0},{"$f":"DataBase!D362","v":0},{"$f":"DataBase!E362","v":0},{"$f":"DataBase!F362","v":0}]
[{"$f":"DataBase!C363","v":0},{"$f":"DataBase!D363","v":0},{"$f":"DataBase!E363","v":0},{"$f":"DataBase!F363","v":0}]
[{"$f":"DataBase!C364","v":0},{"$f":"DataBase!D364","v":0},{"$f":"DataBase!E364","v":0},{"$f":"DataBase!F364","v":0}]
[{"$f":"DataBase!C365","v":0},{"$f":"DataBase!D365","v":0},{"$f":"DataBase!E365","v":0},{"$f":"DataBase!F365","v":0}]
[{"$f":"DataBase!C366","v":0},{"$f":"DataBase!D366","v":0},{"$f":"DataBase!E366","v":0},{"$f":"DataBase!F366","v":0}]
[{"$f":"DataBase!C367","v":0},{"$f":"DataBase!D367","v":0},{"$f":"DataBase!E367","v":0},{"$f":"DataBase!F367","v":0}]
[{"$f":"DataBase!C368","v":0},{"$f":"DataBase!D368","v":0},{"$f":"DataBase!E368","v":0},{"$f":"DataBase!F368","v":0}]
[{"$f":"DataBase!C369","v":0},{"$f":"DataBase!D369","v":0},{"$f":"DataBase!E369","v":0},{"$f":"DataBase!F369","v":0}]
[{"$f":"DataBase!C370","v":0},{"$f":"DataBase!D370","v":0},{"$f":"DataBase!E370","v":0},{"$f":"DataBase!F370","v":0}]
[{"$f":"DataBase!C371","v":0},{"$f":"DataBase!D371","v":0},{"$f":"DataBase!E371","v":0},{"$f":"DataBase!F371","v":0}]
[{"$f":"DataBase!C372","v":0},{"$f":"DataBase!D372","v":0},{"$f":"DataBase!E372","v":0},{"$f":"DataBase!F372","v":0}]
[{"$f":"DataBase!C373","v":0},{"$f":"DataBase!D373","v":0},{"$f":"DataBase!E373","v":0},{"$f":"DataBase!F373","v":0}]
[{"$f":"DataBase!C374","v":0},{"$f":"DataBase!D374","v":0},{"$f":"DataBase!E374","v":0},{"$f":"DataBase!F374","v":0}]
[{"$f":"DataBase!C375","v":0},{"$f":"DataBase!D375","v":0},{"$f":"DataBase!E375","v":0},{"$f":"DataBase!F375","v":0}]
[{"$f":"DataBase!C376","v":0},{"$f":"DataBase!D376","v":0},{"$f":"DataBase!E376","v":0},{"$f":"DataBase!F376","v":0}]
[{"$f":"DataBase!C377","v":0},{"$f":"DataBase!D377","v":0},{"$f":"DataBase!E377","v":0},{"$f":"DataBase!F377","v":0}]
[{"$f":"DataBase!C378","v":0},{"$f":"DataBase!D378","v":0},{"$f":"DataBase!E378","v":0},{"$f":"DataBase!F378","v":0}]
[{"$f":"DataBase!C379","v":0},{"$f":"DataBase!D379","v":0},{"$f":"DataBase!E379","v":0},{"$f":"DataBase!F379","v":0}]
[{"$f":"DataBase!C380","v":0},{"$f":"DataBase!D380","v":0},{"$f":"DataBase!E380","v":0},{"$f":"DataBase!F380","v":0}]
[{"$f":"DataBase!C381","v":0},{"$f":"DataBase!D381","v":0},{"$f":"DataBase!E381","v":0},{"$f":"DataBase!F381","v":0}]
[{"$f":"DataBase!C382","v":0},{"$f":"DataBase!D382","v":0},{"$f":"DataBase!E382","v":0},{"$f":"DataBase!F382","v":0}]
[{"$f":"DataBase!C383","v":0},{"$f":"DataBase!D383","v":0},{"$f":"DataBase!E383","v":0},{"$f":"DataBase!F383","v":0}]
[{"$f":"DataBase!C384","v":0},{"$f":"DataBase!D384","v":0},{"$f":"DataBase!E384","v":0},{"$f":"DataBase!F384","v":0}]
[{"$f":"DataBase!C385","v":0},{"$f":"DataBase!D385","v":0},{"$f":"DataBase!E385","v":0},{"$f":"DataBase!F385","v":0}]
[{"$f":"DataBase!C386","v":0},{"$f":"DataBase!D386","v":0},{"$f":"DataBase!E386","v":0},{"$f":"DataBase!F386","v":0}]
[{"$f":"DataBase!C387","v":0},{"$f":"DataBase!D387","v":0},{"$f":"DataBase!E387","v":0},{"$f":"DataBase!F387","v":0}]
[{"$f":"DataBase!C388","v":0},{"$f":"DataBase!D388","v":0},{"$f":"DataBase!E388","v":0},{"$f":"DataBase!F388","v":0}]
[{"$f":"DataBase!C389","v":0},{"$f":"DataBase!D389","v":0},{"$f":"DataBase!E389","v":0},{"$f":"DataBase!F389","v":0}]
[{"$f":"DataBase!C390","v":0},{"$f":"DataBase!D390","v":0},{"$f":"DataBase!E390","v":0},{"$f":"DataBase!F390","v":0}]
[{"$f":"DataBase!C391","v":0},{"$f":"DataBase!D391","v":0},{"$f":"DataBase!E391","v":0},{"$f":"DataBase!F391","v":0}]
[{"$f":"DataBase!C392","v":0},{"$f":"DataBase!D392","v":0},{"$f":"DataBase!E392","v":0},{"$f":"DataBase!F392","v":0}]
[{"$f":"DataBase!C393","v":0},{"$f":"DataBase!D393","v":0},{"$f":"DataBase!E393","v":0},{"$f":"DataBase!F393","v":0}]
[{"$f":"DataBase!C394","v":0},{"$f":"DataBase!D394","v":0},{"$f":"DataBase!E394","v":0},{"$f":"DataBase!F394","v":0}]
[{"$f":"DataBase!C395","v":0},{"$f":"DataBase!D395","v":0},{"$f":"DataBase!E395","v":0},{"$f":"DataBase!F395","v":0}]
[{"$f":"DataBase!C396","v":0},{"$f":"DataBase!D396","v":0},{"$f":"DataBase!E396","v":0},{"$f":"DataBase!F396","v":0}]
[{"$f":"DataBase!C397","v":0},{"$f":"DataBase!D397","v":0},{"$f":"DataBase!E397","v":0},{"$f":"DataBase!F397","v":0}]
[{"$f":"DataBase!C398","v":0},{"$f":"DataBase!D398","v":0},{"$f":"DataBase!E398","v":0},{"$f":"DataBase!F398","v":0}]
[{"$f":"DataBase!C399","v":0},{"$f":"DataBase!D399","v":0},{"$f":"DataBase!E399","v":0},{"$f":"DataBase!F399","v":0}]
[{"$f":"DataBase!C400","v":0},{"$f":"DataBase!D400","v":0},{"$f":"DataBase!E400","v":0},{"$f":"DataBase!F400","v":0}]
[{"$f":"DataBase!C401","v":0},{"$f":"DataBase!D401","v":0},{"$f":"DataBase!E401","v":0},{"$f":"DataBase!F401","v":0}]
[{"$f":"DataBase!C402","v":0},{"$f":"DataBase!D402","v":0},{"$f":"DataBase!E402","v":0},{"$f":"DataBase!F402","v":0}]
[{"$f":"DataBase!C403","v":0},{"$f":"DataBase!D403","v":0},{"$f":"DataBase!E403","v":0},{"$f":"DataBase!F403","v":0}]
[{"$f":"DataBase!C404","v":0},{"$f":"DataBase!D404","v":0},{"$f":"DataBase!E404","v":0},{"$f":"DataBase!F404","v":0}]
[{"$f":"DataBase!C405","v":0},{"$f":"DataBase!D405","v":0},{"$f":"DataBase!E405","v":0},{"$f":"DataBase!F405","v":0}]
[{"$f":"DataBase!C406","v":0},{"$f":"DataBase!D406","v":0},{"$f":"DataBase!E406","v":0},{"$f":"DataBase!F406","v":0}]
[{"$f":"DataBase!C407","v":0},{"$f":"DataBase!D407","v":0},{"$f":"DataBase!E407","v":0},{"$f":"DataBase!F407","v":0}]
[{"$f":"DataBase!C408","v":0},{"$f":"DataBase!D408","v":0},{"$f":"DataBase!E408","v":0},{"$f":"DataBase!F408","v":0}]
[{"$f":"DataBase!C409","v":0},{"$f":"DataBase!D409","v":0},{"$f":"DataBase!E409","v":0},{"$f":"DataBase!F409","v":0}]
[{"$f":"DataBase!C410","v":0},{"$f":"DataBase!D410","v":0},{"$f":"DataBase!E410","v":0},{"$f":"DataBase!F410","v":0}]
[{"$f":"DataBase!C411","v":0},{"$f":"DataBase!D411","v":0},{"$f":"DataBase!E411","v":0},{"$f":"DataBase!F411","v":0}]
[{"$f":"DataBase!C412","v":0},{"$f":"DataBase!D412","v":0},{"$f":"DataBase!E412","v":0},{"$f":"DataBase!F412","v":0}]
[{"$f":"DataBase!C413","v":0},{"$f":"DataBase!D413","v":0},{"$f":"DataBase!E413","v":0},{"$f":"DataBase!F413","v":0}]
[{"$f":"DataBase!C414","v":0},{"$f":"DataBase!D414","v":0},{"$f":"DataBase!E414","v":0},{"$f":"DataBase!F414","v":0}]
[{"$f":"DataBase!C415","v":0},{"$f":"DataBase!D415","v":0},{"$f":"DataBase!E415","v":0},{"$f":"DataBase!F415","v":0}]
[{"$f":"DataBase!C416","v":0},{"$f":"DataBase!D416","v":0},{"$f":"DataBase!E416","v":0},{"$f":"DataBase!F416","v":0}]
[{"$f":"DataBase!C417","v":0},{"$f":"DataBase!D417","v":0},{"$f":"DataBase!E417","v":0},{"$f":"DataBase!F417","v":0}]
[{"$f":"DataBase!C418","v":0},{"$f":"DataBase!D418","v":0},{"$f":"DataBase!E418","v":0},{"$f":"DataBase!F418","v":0}]
[{"$f":"DataBase!C419","v":0},{"$f":"DataBase!D419","v":0},{"$f":"DataBase!E419","v":0},{"$f":"DataBase!F419","v":0}]
[{"$f":"DataBase!C420","v":0},{"$f":"DataBase!D420","v":0},{"$f":"DataBase!E420","v":0},{"$f":"DataBase!F420","v":0}]
[{"$f":"DataBase!C421","v":0},{"$f":"DataBase!D421","v":0},{"$f":"DataBase!E421","v":0},{"$f":"DataBase!F421","v":0}]
[{"$f":"DataBase!C422","v":0},{"$f":"DataBase!D422","v":0},{"$f":"DataBase!E422","v":0},{"$f":"DataBase!F422","v":0}]
[{"$f":"DataBase!C423","v":0},{"$f":"DataBase!D423","v":0},{"$f":"DataBase!E423","v":0},{"$f":"DataBase!F423","v":0}]
[{"$f":"DataBase!C424","v":0},{"$f":"DataBase!D424","v":0},{"$f":"DataBase!E424","v":0},{"$f":"DataBase!F424","v":0}]
[{"$f":"DataBase!C425","v":0},{"$f":"DataBase!D425","v":0},{"$f":"DataBase!E425","v":0},{"$f":"DataBase!F425","v":0}]
[{"$f":"DataBase!C426","v":0},{"$f":"DataBase!D426","v":0},{"$f":"DataBase!E426","v":0},{"$f":"DataBase!F426","v":0}]
[{"$f":"DataBase!C427","v":0},{"$f":"DataBase!D427","v":0},{"$f":"DataBase!E427","v":0},{"$f":"DataBase!F427","v":0}]
[{"$f":"DataBase!C428","v":0},{"$f":"DataBase!D428","v":0},{"$f":"DataBase!E428","v":0},{"$f":"DataBase!F428","v":0}]
[{"$f":"DataBase!C429","v":0},{"$f":"DataBase!D429","v":0},{"$f":"DataBase!E429","v":0},{"$f":"DataBase!F429","v":0}]
[{"$f":"DataBase!C430","v":0},{"$f":"DataBase!D430","v":0},{"$f":"DataBase!E430","v":0},{"$f":"DataBase!F430","v":0}]
[{"$f":"DataBase!C431","v":0},{"$f":"DataBase!D431","v":0},{"$f":"DataBase!E431","v":0},{"$f":"DataBase!F431","v":0}]
[{"$f":"DataBase!C432","v":0},{"$f":"DataBase!D432","v":0},{"$f":"DataBase!E432","v":0},{"$f":"DataBase!F432","v":0}]
[{"$f":"DataBase!C433","v":0},{"$f":"DataBase!D433","v":0},{"$f":"DataBase!E433","v":0},{"$f":"DataBase!F433","v":0}]
[{"$f":"DataBase!C434","v":0},{"$f":"DataBase!D434","v":0},{"$f":"DataBase!E434","v":0},{"$f":"DataBase!F434","v":0}]
[{"$f":"DataBase!C435","v":0},{"$f":"DataBase!D435","v":0},{"$f":"DataBase!E435","v":0},{"$f":"DataBase!F435","v":0}]
[{"$f":"DataBase!C436","v":0},{"$f":"DataBase!D436","v":0},{"$f":"DataBase!E436","v":0},{"$f":"DataBase!F436","v":0}]
[{"$f":"DataBase!C437","v":0},{"$f":"DataBase!D437","v":0},{"$f":"DataBase!E437","v":0},{"$f":"DataBase!F437","v":0}]
[{"$f":"DataBase!C438","v":0},{"$f":"DataBase!D438","v":0},{"$f":"DataBase!E438","v":0},{"$f":"DataBase!F438","v":0}]
[{"$f":"DataBase!C439","v":0},{"$f":"DataBase!D439","v":0},{"$f":"DataBase!E439","v":0},{"$f":"DataBase!F439","v":0}]
[{"$f":"DataBase!C440","v":0},{"$f":"DataBase!D440","v":0},{"$f":"DataBase!E440","v":0},{"$f":"DataBase!F440","v":0}]
[{"$f":"DataBase!C441","v":0},{"$f":"DataBase!D441","v":0},{"$f":"DataBase!E441","v":0},{"$f":"DataBase!F441","v":0}]
[{"$f":"DataBase!C442","v":0},{"$f":"DataBase!D442","v":0},{"$f":"DataBase!E442","v":0},{"$f":"DataBase!F442","v":0}]
[{"$f":"DataBase!C443","v":0},{"$f":"DataBase!D443","v":0},{"$f":"DataBase!E443","v":0},{"$f":"DataBase!F443","v":0}]
[{"$f":"DataBase!C444","v":0},{"$f":"DataBase!D444","v":0},{"$f":"DataBase!E444","v":0},{"$f":"DataBase!F444","v":0}]
[{"$f":"DataBase!C445","v":0},{"$f":"DataBase!D445","v":0},{"$f":"DataBase!E445","v":0},{"$f":"DataBase!F445","v":0}]
[{"$f":"DataBase!C446","v":0},{"$f":"DataBase!D446","v":0},{"$f":"DataBase!E446","v":0},{"$f":"DataBase!F446","v":0}]
[{"$f":"DataBase!C447","v":0},{"$f":"DataBase!D447","v":0},{"$f":"DataBase!E447","v":0},{"$f":"DataBase!F447","v":0}]
[{"$f":"DataBase!C448","v":0},{"$f":"DataBase!D448","v":0},{"$f":"DataBase!E448","v":0},{"$f":"DataBase!F448","v":0}]
[{"$f":"DataBase!C449","v":0},{"$f":"DataBase!D449","v":0},{"$f":"DataBase!E449","v":0},{"$f":"DataBase!F449","v":0}]
[{"$f":"DataBase!C450","v":0},{"$f":"DataBase!D450","v":0},{"$f":"DataBase!E450","v":0},{"$f":"DataBase!F450","v":0}]
[{"$f":"DataBase!C451","v":0},{"$f":"DataBase!D451","v":0},{"$f":"DataBase!E451","v":0},{"$f":"DataBase!F451","v":0}]
[{"$f":"DataBase!C452","v":0},{"$f":"DataBase!D452","v":0},{"$f":"DataBase!E452","v":0},{"$f":"DataBase!F452","v":0}]
[{"$f":"DataBase!C453","v":0},{"$f":"DataBase!D453","v":0},{"$f":"DataBase!E453","v":0},{"$f":"DataBase!F453","v":0}]
[{"$f":"DataBase!C454","v":0},{"$f":"DataBase!D454","v":0},{"$f":"DataBase!E454","v":0},{"$f":"DataBase!F454","v":0}]
[{"$f":"DataBase!C455","v":0},{"$f":"DataBase!D455","v":0},{"$f":"DataBase!E455","v":0},{"$f":"DataBase!F455","v":0}]
[{"$f":"DataBase!C456","v":0},{"$f":"DataBase!D456","v":0},{"$f":"DataBase!E456","v":0},{"$f":"DataBase!F456","v":0}]
[{"$f":"DataBase!C457","v":0},{"$f":"DataBase!D457","v":0},{"$f":"DataBase!E457","v":0},{"$f":"DataBase!F457","v":0}]
[{"$f":"DataBase!C458","v":0},{"$f":"DataBase!D458","v":0},{"$f":"DataBase!E458","v":0},{"$f":"DataBase!F458","v":0}]
[{"$f":"DataBase!C459","v":0},{"$f":"DataBase!D459","v":0},{"$f":"DataBase!E459","v":0},{"$f":"DataBase!F459","v":0}]
[{"$f":"DataBase!C460","v":0},{"$f":"DataBase!D460","v":0},{"$f":"DataBase!E460","v":0},{"$f":"DataBase!F460","v":0}]
[{"$f":"DataBase!C461","v":0},{"$f":"DataBase!D461","v":0},{"$f":"DataBase!E461","v":0},{"$f":"DataBase!F461","v":0}]
[{"$f":"DataBase!C462","v":0},{"$f":"DataBase!D462","v":0},{"$f":"DataBase!E462","v":0},{"$f":"DataBase!F462","v":0}]
[{"$f":"DataBase!C463","v":0},{"$f":"DataBase!D463","v":0},{"$f":"DataBase!E463","v":0},{"$f":"DataBase!F463","v":0}]
[{"$f":"DataBase!C464","v":0},{"$f":"DataBase!D464","v":0},{"$f":"DataBase!E464","v":0},{"$f":"DataBase!F464","v":0}]
[{"$f":"DataBase!C465","v":0},{"$f":"DataBase!D465","v":0},{"$f":"DataBase!E465","v":0},{"$f":"DataBase!F465","v":0}]
[{"$f":"DataBase!C466","v":0},{"$f":"DataBase!D466","v":0},{"$f":"DataBase!E466","v":0},{"$f":"DataBase!F466","v":0}]
[{"$f":"DataBase!C467","v":0},{"$f":"DataBase!D467","v":0},{"$f":"DataBase!E467","v":0},{"$f":"DataBase!F467","v":0}]
[{"$f":"DataBase!C468","v":0},{"$f":"DataBase!D468","v":0},{"$f":"DataBase!E468","v":0},{"$f":"DataBase!F468","v":0}]
[{"$f":"DataBase!C469","v":0},{"$f":"DataBase!D469","v":0},{"$f":"DataBase!E469","v":0},{"$f":"DataBase!F469","v":0}]
[{"$f":"DataBase!C470","v":0},{"$f":"DataBase!D470","v":0},{"$f":"DataBase!E470","v":0},{"$f":"DataBase!F470","v":0}]
[{"$f":"DataBase!C471","v":0},{"$f":"DataBase!D471","v":0},{"$f":"DataBase!E471","v":0},{"$f":"DataBase!F471","v":0}]
[{"$f":"DataBase!C472","v":0},{"$f":"DataBase!D472","v":0},{"$f":"DataBase!E472","v":0},{"$f":"DataBase!F472","v":0}]
[{"$f":"DataBase!C473","v":0},{"$f":"DataBase!D473","v":0},{"$f":"DataBase!E473","v":0},{"$f":"DataBase!F473","v":0}]
[{"$f":"DataBase!C474","v":0},{"$f":"DataBase!D474","v":0},{"$f":"DataBase!E474","v":0},{"$f":"DataBase!F474","v":0}]
[{"$f":"DataBase!C475","v":0},{"$f":"DataBase!D475","v":0},{"$f":"DataBase!E475","v":0},{"$f":"DataBase!F475","v":0}]
[{"$f":"DataBase!C476","v":0},{"$f":"DataBase!D476","v":0},{"$f":"DataBase!E476","v":0},{"$f":"DataBase!F476","v":0}]
[{"$f":"DataBase!C477","v":0},{"$f":"DataBase!D477","v":0},{"$f":"DataBase!E477","v":0},{"$f":"DataBase!F477","v":0}]
[{"$f":"DataBase!C478","v":0},{"$f":"DataBase!D478","v":0},{"$f":"DataBase!E478","v":0},{"$f":"DataBase!F478","v":0}]
[{"$f":"DataBase!C479","v":0},{"$f":"DataBase!D479","v":0},{"$f":"DataBase!E479","v":0},{"$f":"DataBase!F479","v":0}]
[{"$f":"DataBase!C480","v":0},{"$f":"DataBase!D480","v":0},{"$f":"DataBase!E480","v":0},{"$f":"DataBase!F480","v":0}]
[{"$f":"DataBase!C481","v":0},{"$f":"DataBase!D481","v":0},{"$f":"DataBase!E481","v":0},{"$f":"DataBase!F481","v":0}]
[{"$f":"DataBase!C482","v":0},{"$f":"DataBase!D482","v":0},{"$f":"DataBase!E482","v":0},{"$f":"DataBase!F482","v":0}]
[{"$f":"DataBase!C483","v":0},{"$f":"DataBase!D483","v":0},{"$f":"DataBase!E483","v":0},{"$f":"DataBase!F483","v":0}]
[{"$f":"DataBase!C484","v":0},{"$f":"DataBase!D484","v":0},{"$f":"DataBase!E484","v":0},{"$f":"DataBase!F484","v":0}]
[{"$f":"DataBase!C485","v":0},{"$f":"DataBase!D485","v":0},{"$f":"DataBase!E485","v":0},{"$f":"DataBase!F485","v":0}]
[{"$f":"DataBase!C486","v":0},{"$f":"DataBase!D486","v":0},{"$f":"DataBase!E486","v":0},{"$f":"DataBase!F486","v":0}]
[{"$f":"DataBase!C487","v":0},{"$f":"DataBase!D487","v":0},{"$f":"DataBase!E487","v":0},{"$f":"DataBase!F487","v":0}]
[{"$f":"DataBase!C488","v":0},{"$f":"DataBase!D488","v":0},{"$f":"DataBase!E488","v":0},{"$f":"DataBase!F488","v":0}]
[{"$f":"DataBase!C489","v":0},{"$f":"DataBase!D489","v":0},{"$f":"DataBase!E489","v":0},{"$f":"DataBase!F489","v":0}]
[{"$f":"DataBase!C490","v":0},{"$f":"DataBase!D490","v":0},{"$f":"DataBase!E490","v":0},{"$f":"DataBase!F490","v":0}]
[{"$f":"DataBase!C491","v":0},{"$f":"DataBase!D491","v":0},{"$f":"DataBase!E491","v":0},{"$f":"DataBase!F491","v":0}]
[{"$f":"DataBase!C492","v":0},{"$f":"DataBase!D492","v":0},{"$f":"DataBase!E492","v":0},{"$f":"DataBase!F492","v":0}]
[{"$f":"DataBase!C493","v":0},{"$f":"DataBase!D493","v":0},{"$f":"DataBase!E493","v":0},{"$f":"DataBase!F493","v":0}]
[{"$f":"DataBase!C494","v":0},{"$f":"DataBase!D494","v":0},{"$f":"DataBase!E494","v":0},{"$f":"DataBase!F494","v":0}]
[{"$f":"DataBase!C495","v":0},{"$f":"DataBase!D495","v":0},{"$f":"DataBase!E495","v":0},{"$f":"DataBase!F495","v":0}]
[{"$f":"DataBase!C496","v":0},{"$f":"DataBase!D496","v":0},{"$f":"DataBase!E496","v":0},{"$f":"DataBase!F496","v":0}]
[{"$f":"DataBase!C497","v":0},{"$f":"DataBase!D497","v":0},{"$f":"DataBase!E497","v":0},{"$f":"DataBase!F497","v":0}]
[{"$f":"DataBase!C498","v":0},{"$f":"DataBase!D498","v":0},{"$f":"DataBase!E498","v":0},{"$f":"DataBase!F498","v":0}]
[{"$f":"DataBase!C499","v":0},{"$f":"DataBase!D499","v":0},{"$f":"DataBase!E499","v":0},{"$f":"DataBase!F499","v":0}]
[{"$f":"DataBase!C500","v":0},{"$f":"DataBase!D500","v":0},{"$f":"DataBase!E500","v":0},{"$f":"DataBase!F500","v":0}]
[{"$f":"DataBase!C501","v":0},{"$f":"DataBase!D501","v":0},{"$f":"DataBase!E501","v":0},{"$f":"DataBase!F501","v":0}]
[{"$f":"DataBase!C502","v":0},{"$f":"DataBase!D502","v":0},{"$f":"DataBase!E502","v":0},{"$f":"DataBase!F502","v":0}]
[{"$f":"DataBase!C503","v":0},{"$f":"DataBase!D503","v":0},{"$f":"DataBase!E503","v":0},{"$f":"DataBase!F503","v":0}]
[{"$f":"DataBase!C504","v":0},{"$f":"DataBase!D504","v":0},{"$f":"DataBase!E504","v":0},{"$f":"DataBase!F504","v":0}]
[{"$f":"DataBase!C505","v":0},{"$f":"DataBase!D505","v":0},{"$f":"DataBase!E505","v":0},{"$f":"DataBase!F505","v":0}]
[{"$f":"DataBase!C506","v":0},{"$f":"DataBase!D506","v":0},{"$f":"DataBase!E506","v":0},{"$f":"DataBase!F506","v":0}]
[{"$f":"DataBase!C507","v":0},{"$f":"DataBase!D507","v":0},{"$f":"DataBase!E507","v":0},{"$f":"DataBase!F507","v":0}]
[{"$f":"DataBase!C508","v":0},{"$f":"DataBase!D508","v":0},{"$f":"DataBase!E508","v":0},{"$f":"DataBase!F508","v":0}]
[{"$f":"DataBase!C509","v":0},{"$f":"DataBase!D509","v":0},{"$f":"DataBase!E509","v":0},{"$f":"DataBase!F509","v":0}]
[{"$f":"DataBase!C510","v":0},{"$f":"DataBase!D510","v":0},{"$f":"DataBase!E510","v":0},{"$f":"DataBase!F510","v":0}]
[{"$f":"DataBase!C511","v":0},{"$f":"DataBase!D511","v":0},{"$f":"DataBase!E511","v":0},{"$f":"DataBase!F511","v":0}]
[{"$f":"DataBase!C512","v":0},{"$f":"DataBase!D512","v":0},{"$f":"DataBase!E512","v":0},{"$f":"DataBase!F512","v":0}]
[{"$f":"DataBase!C513","v":0},{"$f":"DataBase!D513","v":0},{"$f":"DataBase!E513","v":0},{"$f":"DataBase!F513","v":0}]
[{"$f":"DataBase!C514","v":0},{"$f":"DataBase!D514","v":0},{"$f":"DataBase!E514","v":0},{"$f":"DataBase!F514","v":0}]
[{"$f":"DataBase!C515","v":0},{"$f":"DataBase!D515","v":0},{"$f":"DataBase!E515","v":0},{"$f":"DataBase!F515","v":0}]
[{"$f":"DataBase!C516","v":0},{"$f":"DataBase!D516","v":0},{"$f":"DataBase!E516","v":0},{"$f":"DataBase!F516","v":0}]
[{"$f":"DataBase!C517","v":0},{"$f":"DataBase!D517","v":0},{"$f":"DataBase!E517","v":0},{"$f":"DataBase!F517","v":0}]
[{"$f":"DataBase!C518","v":0},{"$f":"DataBase!D518","v":0},{"$f":"DataBase!E518","v":0},{"$f":"DataBase!F518","v":0}]
[{"$f":"DataBase!C519","v":0},{"$f":"DataBase!D519","v":0},{"$f":"DataBase!E519","v":0},{"$f":"DataBase!F519","v":0}]
[{"$f":"DataBase!C520","v":0},{"$f":"DataBase!D520","v":0},{"$f":"DataBase!E520","v":0},{"$f":"DataBase!F520","v":0}]
[{"$f":"DataBase!C521","v":0},{"$f":"DataBase!D521","v":0},{"$f":"DataBase!E521","v":0},{"$f":"DataBase!F521","v":0}]
[{"$f":"DataBase!C522","v":0},{"$f":"DataBase!D522","v":0},{"$f":"DataBase!E522","v":0},{"$f":"DataBase!F522","v":0}]
[{"$f":"DataBase!C523","v":0},{"$f":"DataBase!D523","v":0},{"$f":"DataBase!E523","v":0},{"$f":"DataBase!F523","v":0}]
[{"$f":"DataBase!C524","v":0},{"$f":"DataBase!D524","v":0},{"$f":"DataBase!E524","v":0},{"$f":"DataBase!F524","v":0}]
[{"$f":"DataBase!C525","v":0},{"$f":"DataBase!D525","v":0},{"$f":"DataBase!E525","v":0},{"$f":"DataBase!F525","v":0}]
[{"$f":"DataBase!C526","v":0},{"$f":"DataBase!D526","v":0},{"$f":"DataBase!E526","v":0},{"$f":"DataBase!F526","v":0}]
[{"$f":"DataBase!C527","v":0},{"$f":"DataBase!D527","v":0},{"$f":"DataBase!E527","v":0},{"$f":"DataBase!F527","v":0}]
[{"$f":"DataBase!C528","v":0},{"$f":"DataBase!D528","v":0},{"$f":"DataBase!E528","v":0},{"$f":"DataBase!F528","v":0}]
[{"$f":"DataBase!C529","v":0},{"$f":"DataBase!D529","v":0},{"$f":"DataBase!E529","v":0},{"$f":"DataBase!F529","v":0}]
[{"$f":"DataBase!C530","v":0},{"$f":"DataBase!D530","v":0},{"$f":"DataBase!E530","v":0},{"$f":"DataBase!F530","v":0}]
[{"$f":"DataBase!C531","v":0},{"$f":"DataBase!D531","v":0},{"$f":"DataBase!E531","v":0},{"$f":"DataBase!F531","v":0}]
[{"$f":"DataBase!C532","v":0},{"$f":"DataBase!D532","v":0},{"$f":"DataBase!E532","v":0},{"$f":"DataBase!F532","v":0}]
[{"$f":"DataBase!C533","v":0},{"$f":"DataBase!D533","v":0},{"$f":"DataBase!E533","v":0},{"$f":"DataBase!F533","v":0}]
[{"$f":"DataBase!C534","v":0},{"$f":"DataBase!D534","v":0},{"$f":"DataBase!E534","v":0},{"$f":"DataBase!F534","v":0}]
[{"$f":"DataBase!C535","v":0},{"$f":"DataBase!D535","v":0},{"$f":"DataBase!E535","v":0},{"$f":"DataBase!F535","v":0}]
[{"$f":"DataBase!C536","v":0},{"$f":"DataBase!D536","v":0},{"$f":"DataBase!E536","v":0},{"$f":"DataBase!F536","v":0}]
[{"$f":"DataBase!C537","v":0},{"$f":"DataBase!D537","v":0},{"$f":"DataBase!E537","v":0},{"$f":"DataBase!F537","v":0}]
[{"$f":"DataBase!C538","v":0},{"$f":"DataBase!D538","v":0},{"$f":"DataBase!E538","v":0},{"$f":"DataBase!F538","v":0}]
[{"$f":"DataBase!C539","v":0},{"$f":"DataBase!D539","v":0},{"$f":"DataBase!E539","v":0},{"$f":"DataBase!F539","v":0}]
[{"$f":"DataBase!C540","v":0},{"$f":"DataBase!D540","v":0},{"$f":"DataBase!E540","v":0},{"$f":"DataBase!F540","v":0}]
[{"$f":"DataBase!C541","v":0},{"$f":"DataBase!D541","v":0},{"$f":"DataBase!E541","v":0},{"$f":"DataBase!F541","v":0}]
[{"$f":"DataBase!C542","v":0},{"$f":"DataBase!D542","v":0},{"$f":"DataBase!E542","v":0},{"$f":"DataBase!F542","v":0}]
[{"$f":"DataBase!C543","v":0},{"$f":"DataBase!D543","v":0},{"$f":"DataBase!E543","v":0},{"$f":"DataBase!F543","v":0}]
[{"$f":"DataBase!C544","v":0},{"$f":"DataBase!D544","v":0},{"$f":"DataBase!E544","v":0},{"$f":"DataBase!F544","v":0}]
[{"$f":"DataBase!C545","v":0},{"$f":"DataBase!D545","v":0},{"$f":"DataBase!E545","v":0},{"$f":"DataBase!F545","v":0}]
[{"$f":"DataBase!C546","v":0},{"$f":"DataBase!D546","v":0},{"$f":"DataBase!E546","v":0},{"$f":"DataBase!F546","v":0}]
[{"$f":"DataBase!C547","v":0},{"$f":"DataBase!D547","v":0},{"$f":"DataBase!E547","v":0},{"$f":"DataBase!F547","v":0}]
[{"$f":"DataBase!C548","v":0},{"$f":"DataBase!D548","v":0},{"$f":"DataBase!E548","v":0},{"$f":"DataBase!F548","v":0}]
[{"$f":"DataBase!C549","v":0},{"$f":"DataBase!D549","v":0},{"$f":"DataBase!E549","v":0},{"$f":"DataBase!F549","v":0}]
[{"$f":"DataBase!C550","v":0},{"$f":"DataBase!D550","v":0},{"$f":"DataBase!E550","v":0},{"$f":"DataBase!F550","v":0}]
[{"$f":"DataBase!C551","v":0},{"$f":"DataBase!D551","v":0},{"$f":"DataBase!E551","v":0},{"$f":"DataBase!F551","v":0}]
[{"$f":"DataBase!C552","v":0},{"$f":"DataBase!D552","v":0},{"$f":"DataBase!E552","v":0},{"$f":"DataBase!F552","v":0}]
[{"$f":"DataBase!C553","v":0},{"$f":"DataBase!D553","v":0},{"$f":"DataBase!E553","v":0},{"$f":"DataBase!F553","v":0}]
[{"$f":"DataBase!C554","v":0},{"$f":"DataBase!D554","v":0},{"$f":"DataBase!E554","v":0},{"$f":"DataBase!F554","v":0}]
[{"$f":"DataBase!C555","v":0},{"$f":"DataBase!D555","v":0},{"$f":"DataBase!E555","v":0},{"$f":"DataBase!F555","v":0}]
[{"$f":"DataBase!C556","v":0},{"$f":"DataBase!D556","v":0},{"$f":"DataBase!E556","v":0},{"$f":"DataBase!F556","v":0}]
[{"$f":"DataBase!C557","v":0},{"$f":"DataBase!D557","v":0},{"$f":"DataBase!E557","v":0},{"$f":"DataBase!F557","v":0}]
[{"$f":"DataBase!C558","v":0},{"$f":"DataBase!D558","v":0},{"$f":"DataBase!E558","v":0},{"$f":"DataBase!F558","v":0}]
[{"$f":"DataBase!C559","v":0},{"$f":"DataBase!D559","v":0},{"$f":"DataBase!E559","v":0},{"$f":"DataBase!F559","v":0}]
[{"$f":"DataBase!C560","v":0},{"$f":"DataBase!D560","v":0},{"$f":"DataBase!E560","v":0},{"$f":"DataBase!F560","v":0}]
[{"$f":"DataBase!C561","v":0},{"$f":"DataBase!D561","v":0},{"$f":"DataBase!E561","v":0},{"$f":"DataBase!F561","v":0}]
[{"$f":"DataBase!C562","v":0},{"$f":"DataBase!D562","v":0},{"$f":"DataBase!E562","v":0},{"$f":"DataBase!F562","v":0}]
[{"$f":"DataBase!C563","v":0},{"$f":"DataBase!D563","v":0},{"$f":"DataBase!E563","v":0},{"$f":"DataBase!F563","v":0}]
[{"$f":"DataBase!C564","v":0},{"$f":"DataBase!D564","v":0},{"$f":"DataBase!E564","v":0},{"$f":"DataBase!F564","v":0}]
[{"$f":"DataBase!C565","v":0},{"$f":"DataBase!D565","v":0},{"$f":"DataBase!E565","v":0},{"$f":"DataBase!F565","v":0}]
[{"$f":"DataBase!C566","v":0},{"$f":"DataBase!D566","v":0},{"$f":"DataBase!E566","v":0},{"$f":"DataBase!F566","v":0}]
[{"$f":"DataBase!C567","v":0},{"$f":"DataBase!D567","v":0},{"$f":"DataBase!E567","v":0},{"$f":"DataBase!F567","v":0}]
[{"$f":"DataBase!C568","v":0},{"$f":"DataBase!D568","v":0},{"$f":"DataBase!E568","v":0},{"$f":"DataBase!F568","v":0}]
[{"$f":"DataBase!C569","v":0},{"$f":"DataBase!D569","v":0},{"$f":"DataBase!E569","v":0},{"$f":"DataBase!F569","v":0}]
[{"$f":"DataBase!C570","v":0},{"$f":"DataBase!D570","v":0},{"$f":"DataBase!E570","v":0},{"$f":"DataBase!F570","v":0}]
[{"$f":"DataBase!C571","v":0},{"$f":"DataBase!D571","v":0},{"$f":"DataBase!E571","v":0},{"$f":"DataBase!F571","v":0}]
[{"$f":"DataBase!C572","v":0},{"$f":"DataBase!D572","v":0},{"$f":"DataBase!E572","v":0},{"$f":"DataBase!F572","v":0}]
[{"$f":"DataBase!C573","v":0},{"$f":"DataBase!D573","v":0},{"$f":"DataBase!E573","v":0},{"$f":"DataBase!F573","v":0}]
[{"$f":"DataBase!C574","v":0},{"$f":"DataBase!D574","v":0},{"$f":"DataBase!E574","v":0},{"$f":"DataBase!F574","v":0}]
[{"$f":"DataBase!C575","v":0},{"$f":"DataBase!D575","v":0},{"$f":"DataBase!E575","v":0},{"$f":"DataBase!F575","v":0}]
[{"$f":"DataBase!C576","v":0},{"$f":"DataBase!D576","v":0},{"$f":"DataBase!E576","v":0},{"$f":"DataBase!F576","v":0}]
[{"$f":"DataBase!C577","v":0},{"$f":"DataBase!D577","v":0},{"$f":"DataBase!E577","v":0},{"$f":"DataBase!F577","v":0}]
[{"$f":"DataBase!C578","v":0},{"$f":"DataBase!D578","v":0},{"$f":"DataBase!E578","v":0},{"$f":"DataBase!F578","v":0}]
[{"$f":"DataBase!C579","v":0},{"$f":"DataBase!D579","v":0},{"$f":"DataBase!E579","v":0},{"$f":"DataBase!F579","v":0}]
[{"$f":"DataBase!C580","v":0},{"$f":"DataBase!D580","v":0},{"$f":"DataBase!E580","v":0},{"$f":"DataBase!F580","v":0}]
[{"$f":"DataBase!C581","v":0},{"$f":"DataBase!D581","v":0},{"$f":"DataBase!E581","v":0},{"$f":"DataBase!F581","v":0}]
[{"$f":"DataBase!C582","v":0},{"$f":"DataBase!D582","v":0},{"$f":"DataBase!E582","v":0},{"$f":"DataBase!F582","v":0}]
[{"$f":"DataBase!C583","v":0},{"$f":"DataBase!D583","v":0},{"$f":"DataBase!E583","v":0},{"$f":"DataBase!F583","v":0}]
[{"$f":"DataBase!C584","v":0},{"$f":"DataBase!D584","v":0},{"$f":"DataBase!E584","v":0},{"$f":"DataBase!F584","v":0}]
[{"$f":"DataBase!C585","v":0},{"$f":"DataBase!D585","v":0},{"$f":"DataBase!E585","v":0},{"$f":"DataBase!F585","v":0}]
[{"$f":"DataBase!C586","v":0},{"$f":"DataBase!D586","v":0},{"$f":"DataBase!E586","v":0},{"$f":"DataBase!F586","v":0}]
[{"$f":"DataBase!C587","v":0},{"$f":"DataBase!D587","v":0},{"$f":"DataBase!E587","v":0},{"$f":"DataBase!F587","v":0}]
[{"$f":"DataBase!C588","v":0},{"$f":"DataBase!D588","v":0},{"$f":"DataBase!E588","v":0},{"$f":"DataBase!F588","v":0}]
[{"$f":"DataBase!C589","v":0},{"$f":"DataBase!D589","v":0},{"$f":"DataBase!E589","v":0},{"$f":"DataBase!F589","v":0}]
[{"$f":"DataBase!C590","v":0},{"$f":"DataBase!D590","v":0},{"$f":"DataBase!E590","v":0},{"$f":"DataBase!F590","v":0}]
[{"$f":"DataBase!C591","v":0},{"$f":"DataBase!D591","v":0},{"$f":"DataBase!E591","v":0},{"$f":"DataBase!F591","v":0}]
[{"$f":"DataBase!C592","v":0},{"$f":"DataBase!D592","v":0},{"$f":"DataBase!E592","v":0},{"$f":"DataBase!F592","v":0}]
[{"$f":"DataBase!C593","v":0},{"$f":"DataBase!D593","v":0},{"$f":"DataBase!E593","v":0},{"$f":"DataBase!F593","v":0}]
[{"$f":"DataBase!C594","v":0},{"$f":"DataBase!D594","v":0},{"$f":"DataBase!E594","v":0},{"$f":"DataBase!F594","v":0}]
[{"$f":"DataBase!C595","v":0},{"$f":"DataBase!D595","v":0},{"$f":"DataBase!E595","v":0},{"$f":"DataBase!F595","v":0}]
[{"$f":"DataBase!C596","v":0},{"$f":"DataBase!D596","v":0},{"$f":"DataBase!E596","v":0},{"$f":"DataBase!F596","v":0}]
[{"$f":"DataBase!C597","v":0},{"$f":"DataBase!D597","v":0},{"$f":"DataBase!E597","v":0},{"$f":"DataBase!F597","v":0}]
[{"$f":"DataBase!C598","v":0},{"$f":"DataBase!D598","v":0},{"$f":"DataBase!E598","v":0},{"$f":"DataBase!F598","v":0}]
[{"$f":"DataBase!C599","v":0},{"$f":"DataBase!D599","v":0},{"$f":"DataBase!E599","v":0},{"$f":"DataBase!F599","v":0}]
[{"$f":"DataBase!C600","v":0},{"$f":"DataBase!D600","v":0},{"$f":"DataBase!E600","v":0},{"$f":"DataBase!F600","v":0}]
[{"$f":"DataBase!C601","v":0},{"$f":"DataBase!D601","v":0},{"$f":"DataBase!E601","v":0},{"$f":"DataBase!F601","v":0}]
[{"$f":"DataBase!C602","v":0},{"$f":"DataBase!D602","v":0},{"$f":"DataBase!E602","v":0},{"$f":"DataBase!F602","v":0}]
[{"$f":"DataBase!C603","v":0},{"$f":"DataBase!D603","v":0},{"$f":"DataBase!E603","v":0},{"$f":"DataBase!F603","v":0}]
[{"$f":"DataBase!C604","v":0},{"$f":"DataBase!D604","v":0},{"$f":"DataBase!E604","v":0},{"$f":"DataBase!F604","v":0}]
[{"$f":"DataBase!C605","v":0},{"$f":"DataBase!D605","v":0},{"$f":"DataBase!E605","v":0},{"$f":"DataBase!F605","v":0}]
[{"$f":"DataBase!C606","v":0},{"$f":"DataBase!D606","v":0},{"$f":"DataBase!E606","v":0},{"$f":"DataBase!F606","v":0}]
[{"$f":"DataBase!C607","v":0},{"$f":"DataBase!D607","v":0},{"$f":"DataBase!E607","v":0},{"$f":"DataBase!F607","v":0}]
[{"$f":"DataBase!C608","v":0},{"$f":"DataBase!D608","v":0},{"$f":"DataBase!E608","v":0},{"$f":"DataBase!F608","v":0}]
[{"$f":"DataBase!C609","v":0},{"$f":"DataBase!D609","v":0},{"$f":"DataBase!E609","v":0},{"$f":"DataBase!F609","v":0}]
[{"$f":"DataBase!C610","v":0},{"$f":"DataBase!D610","v":0},{"$f":"DataBase!E610","v":0},{"$f":"DataBase!F610","v":0}]
[{"$f":"DataBase!C611","v":0},{"$f":"DataBase!D611","v":0},{"$f":"DataBase!E611","v":0},{"$f":"DataBase!F611","v":0}]
[{"$f":"DataBase!C612","v":0},{"$f":"DataBase!D612","v":0},{"$f":"DataBase!E612","v":0},{"$f":"DataBase!F612","v":0}]
[{"$f":"DataBase!C613","v":0},{"$f":"DataBase!D613","v":0},{"$f":"DataBase!E613","v":0},{"$f":"DataBase!F613","v":0}]
[{"$f":"DataBase!C614","v":0},{"$f":"DataBase!D614","v":0},{"$f":"DataBase!E614","v":0},{"$f":"DataBase!F614","v":0}]
[{"$f":"DataBase!C615","v":0},{"$f":"DataBase!D615","v":0},{"$f":"DataBase!E615","v":0},{"$f":"DataBase!F615","v":0}]
[{"$f":"DataBase!C616","v":0},{"$f":"DataBase!D616","v":0},{"$f":"DataBase!E616","v":0},{"$f":"DataBase!F616","v":0}]
[{"$f":"DataBase!C617","v":0},{"$f":"DataBase!D617","v":0},{"$f":"DataBase!E617","v":0},{"$f":"DataBase!F617","v":0}]
[{"$f":"DataBase!C618","v":0},{"$f":"DataBase!D618","v":0},{"$f":"DataBase!E618","v":0},{"$f":"DataBase!F618","v":0}]
[{"$f":"DataBase!C619","v":0},{"$f":"DataBase!D619","v":0},{"$f":"DataBase!E619","v":0},{"$f":"DataBase!F619","v":0}]
[{"$f":"DataBase!C620","v":0},{"$f":"DataBase!D620","v":0},{"$f":"DataBase!E620","v":0},{"$f":"DataBase!F620","v":0}]
[{"$f":"DataBase!C621","v":0},{"$f":"DataBase!D621","v":0},{"$f":"DataBase!E621","v":0},{"$f":"DataBase!F621","v":0}]
[{"$f":"DataBase!C622","v":0},{"$f":"DataBase!D622","v":0},{"$f":"DataBase!E622","v":0},{"$f":"DataBase!F622","v":0}]
[{"$f":"DataBase!C623","v":0},{"$f":"DataBase!D623","v":0},{"$f":"DataBase!E623","v":0},{"$f":"DataBase!F623","v":0}]
[{"$f":"DataBase!C624","v":0},{"$f":"DataBase!D624","v":0},{"$f":"DataBase!E624","v":0},{"$f":"DataBase!F624","v":0}]
[{"$f":"DataBase!C625","v":0},{"$f":"DataBase!D625","v":0},{"$f":"DataBase!E625","v":0},{"$f":"DataBase!F625","v":0}]
[{"$f":"DataBase!C626","v":0},{"$f":"DataBase!D626","v":0},{"$f":"DataBase!E626","v":0},{"$f":"DataBase!F626","v":0}]
[{"$f":"DataBase!C627","v":0},{"$f":"DataBase!D627","v":0},{"$f":"DataBase!E627","v":0},{"$f":"DataBase!F627","v":0}]
[{"$f":"DataBase!C628","v":0},{"$f":"DataBase!D628","v":0},{"$f":"DataBase!E628","v":0},{"$f":"DataBase!F628","v":0}]
[{"$f":"DataBase!C629","v":0},{"$f":"DataBase!D629","v":0},{"$f":"DataBase!E629","v":0},{"$f":"DataBase!F629","v":0}]
[{"$f":"DataBase!C630","v":0},{"$f":"DataBase!D630","v":0},{"$f":"DataBase!E630","v":0},{"$f":"DataBase!F630","v":0}]
[{"$f":"DataBase!C631","v":0},{"$f":"DataBase!D631","v":0},{"$f":"DataBase!E631","v":0},{"$f":"DataBase!F631","v":0}]
[{"$f":"DataBase!C632","v":0},{"$f":"DataBase!D632","v":0},{"$f":"DataBase!E632","v":0},{"$f":"DataBase!F632","v":0}]
[{"$f":"DataBase!C633","v":0},{"$f":"DataBase!D633","v":0},{"$f":"DataBase!E633","v":0},{"$f":"DataBase!F633","v":0}]
[{"$f":"DataBase!C634","v":0},{"$f":"DataBase!D634","v":0},{"$f":"DataBase!E634","v":0},{"$f":"DataBase!F634","v":0}]
[{"$f":"DataBase!C635","v":0},{"$f":"DataBase!D635","v":0},{"$f":"DataBase!E635","v":0},{"$f":"DataBase!F635","v":0}]
[{"$f":"DataBase!C636","v":0},{"$f":"DataBase!D636","v":0},{"$f":"DataBase!E636","v":0},{"$f":"DataBase!F636","v":0}]
[{"$f":"DataBase!C637","v":0},{"$f":"DataBase!D637","v":0},{"$f":"DataBase!E637","v":0},{"$f":"DataBase!F637","v":0}]
[{"$f":"DataBase!C638","v":0},{"$f":"DataBase!D638","v":0},{"$f":"DataBase!E638","v":0},{"$f":"DataBase!F638","v":0}]
[{"$f":"DataBase!C639","v":0},{"$f":"DataBase!D639","v":0},{"$f":"DataBase!E639","v":0},{"$f":"DataBase!F639","v":0}]
[{"$f":"DataBase!C640","v":0},{"$f":"DataBase!D640","v":0},{"$f":"DataBase!E640","v":0},{"$f":"DataBase!F640","v":0}]
[{"$f":"DataBase!C641","v":0},{"$f":"DataBase!D641","v":0},{"$f":"DataBase!E641","v":0},{"$f":"DataBase!F641","v":0}]
[{"$f":"DataBase!C642","v":0},{"$f":"DataBase!D642","v":0},{"$f":"DataBase!E642","v":0},{"$f":"DataBase!F642","v":0}]
[{"$f":"DataBase!C643","v":0},{"$f":"DataBase!D643","v":0},{"$f":"DataBase!E643","v":0},{"$f":"DataBase!F643","v":0}]
[{"$f":"DataBase!C644","v":0},{"$f":"DataBase!D644","v":0},{"$f":"DataBase!E644","v":0},{"$f":"DataBase!F644","v":0}]
[{"$f":"DataBase!C645","v":0},{"$f":"DataBase!D645","v":0},{"$f":"DataBase!E645","v":0},{"$f":"DataBase!F645","v":0}]
[{"$f":"DataBase!C646","v":0},{"$f":"DataBase!D646","v":0},{"$f":"DataBase!E646","v":0},{"$f":"DataBase!F646","v":0}]
[{"$f":"DataBase!C647","v":0},{"$f":"DataBase!D647","v":0},{"$f":"DataBase!E647","v":0},{"$f":"DataBase!F647","v":0}]
[{"$f":"DataBase!C648","v":0},{"$f":"DataBase!D648","v":0},{"$f":"DataBase!E648","v":0},{"$f":"DataBase!F648","v":0}]
[{"$f":"DataBase!C649","v":0},{"$f":"DataBase!D649","v":0},{"$f":"DataBase!E649","v":0},{"$f":"DataBase!F649","v":0}]
[{"$f":"DataBase!C650","v":0},{"$f":"DataBase!D650","v":0},{"$f":"DataBase!E650","v":0},{"$f":"DataBase!F650","v":0}]
[{"$f":"DataBase!C651","v":0},{"$f":"DataBase!D651","v":0},{"$f":"DataBase!E651","v":0},{"$f":"DataBase!F651","v":0}]
[{"$f":"DataBase!C652","v":0},{"$f":"DataBase!D652","v":0},{"$f":"DataBase!E652","v":0},{"$f":"DataBase!F652","v":0}]
[{"$f":"DataBase!C653","v":0},{"$f":"DataBase!D653","v":0},{"$f":"DataBase!E653","v":0},{"$f":"DataBase!F653","v":0}]
[{"$f":"DataBase!C654","v":0},{"$f":"DataBase!D654","v":0},{"$f":"DataBase!E654","v":0},{"$f":"DataBase!F654","v":0}]
[{"$f":"DataBase!C655","v":0},{"$f":"DataBase!D655","v":0},{"$f":"DataBase!E655","v":0},{"$f":"DataBase!F655","v":0}]
[{"$f":"DataBase!C656","v":0},{"$f":"DataBase!D656","v":0},{"$f":"DataBase!E656","v":0},{"$f":"DataBase!F656","v":0}]
[{"$f":"DataBase!C657","v":0},{"$f":"DataBase!D657","v":0},{"$f":"DataBase!E657","v":0},{"$f":"DataBase!F657","v":0}]
[{"$f":"DataBase!C658","v":0},{"$f":"DataBase!D658","v":0},{"$f":"DataBase!E658","v":0},{"$f":"DataBase!F658","v":0}]
[{"$f":"DataBase!C659","v":0},{"$f":"DataBase!D659","v":0},{"$f":"DataBase!E659","v":0},{"$f":"DataBase!F659","v":0}]
[{"$f":"DataBase!C660","v":0},{"$f":"DataBase!D660","v":0},{"$f":"DataBase!E660","v":0},{"$f":"DataBase!F660","v":0}]
[{"$f":"DataBase!C661","v":0},{"$f":"DataBase!D661","v":0},{"$f":"DataBase!E661","v":0},{"$f":"DataBase!F661","v":0}]
[{"$f":"DataBase!C662","v":0},{"$f":"DataBase!D662","v":0},{"$f":"DataBase!E662","v":0},{"$f":"DataBase!F662","v":0}]
[{"$f":"DataBase!C663","v":0},{"$f":"DataBase!D663","v":0},{"$f":"DataBase!E663","v":0},{"$f":"DataBase!F663","v":0}]
[{"$f":"DataBase!C664","v":0},{"$f":"DataBase!D664","v":0},{"$f":"DataBase!E664","v":0},{"$f":"DataBase!F664","v":0}]
[{"$f":"DataBase!C665","v":0},{"$f":"DataBase!D665","v":0},{"$f":"DataBase!E665","v":0},{"$f":"DataBase!F665","v":0}]
[{"$f":"DataBase!C666","v":0},{"$f":"DataBase!D666","v":0},{"$f":"DataBase!E666","v":0},{"$f":"DataBase!F666","v":0}]
[{"$f":"DataBase!C667","v":0},{"$f":"DataBase!D667","v":0},{"$f":"DataBase!E667","v":0},{"$f":"DataBase!F667","v":0}]
[{"$f":"DataBase!C668","v":0},{"$f":"DataBase!D668","v":0},{"$f":"DataBase!E668","v":0},{"$f":"DataBase!F668","v":0}]
[{"$f":"DataBase!C669","v":0},{"$f":"DataBase!D669","v":0},{"$f":"DataBase!E669","v":0},{"$f":"DataBase!F669","v":0}]
[{"$f":"DataBase!C670","v":0},{"$f":"DataBase!D670","v":0},{"$f":"DataBase!E670","v":0},{"$f":"DataBase!F670","v":0}]
[{"$f":"DataBase!C671","v":0},{"$f":"DataBase!D671","v":0},{"$f":"DataBase!E671","v":0},{"$f":"DataBase!F671","v":0}]
[{"$f":"DataBase!C672","v":0},{"$f":"DataBase!D672","v":0},{"$f":"DataBase!E672","v":0},{"$f":"DataBase!F672","v":0}]
[{"$f":"DataBase!C673","v":0},{"$f":"DataBase!D673","v":0},{"$f":"DataBase!E673","v":0},{"$f":"DataBase!F673","v":0}]
[{"$f":"DataBase!C674","v":0},{"$f":"DataBase!D674","v":0},{"$f":"DataBase!E674","v":0},{"$f":"DataBase!F674","v":0}]
[{"$f":"DataBase!C675","v":0},{"$f":"DataBase!D675","v":0},{"$f":"DataBase!E675","v":0},{"$f":"DataBase!F675","v":0}]
[{"$f":"DataBase!C676","v":0},{"$f":"DataBase!D676","v":0},{"$f":"DataBase!E676","v":0},{"$f":"DataBase!F676","v":0}]
[{"$f":"DataBase!C677","v":0},{"$f":"DataBase!D677","v":0},{"$f":"DataBase!E677","v":0},{"$f":"DataBase!F677","v":0}]
[{"$f":"DataBase!C678","v":0},{"$f":"DataBase!D678","v":0},{"$f":"DataBase!E678","v":0},{"$f":"DataBase!F678","v":0}]
[{"$f":"DataBase!C679","v":0},{"$f":"DataBase!D679","v":0},{"$f":"DataBase!E679","v":0},{"$f":"DataBase!F679","v":0}]
[{"$f":"DataBase!C680","v":0},{"$f":"DataBase!D680","v":0},{"$f":"DataBase!E680","v":0},{"$f":"DataBase!F680","v":0}]
[{"$f":"DataBase!C681","v":0},{"$f":"DataBase!D681","v":0},{"$f":"DataBase!E681","v":0},{"$f":"DataBase!F681","v":0}]
[{"$f":"DataBase!C682","v":0},{"$f":"DataBase!D682","v":0},{"$f":"DataBase!E682","v":0},{"$f":"DataBase!F682","v":0}]
[{"$f":"DataBase!C683","v":0},{"$f":"DataBase!D683","v":0},{"$f":"DataBase!E683","v":0},{"$f":"DataBase!F683","v":0}]
[{"$f":"DataBase!C684","v":0},{"$f":"DataBase!D684","v":0},{"$f":"DataBase!E684","v":0},{"$f":"DataBase!F684","v":0}]
[{"$f":"DataBase!C685","v":0},{"$f":"DataBase!D685","v":0},{"$f":"DataBase!E685","v":0},{"$f":"DataBase!F685","v":0}]
[{"$f":"DataBase!C686","v":0},{"$f":"DataBase!D686","v":0},{"$f":"DataBase!E686","v":0},{"$f":"DataBase!F686","v":0}]
[{"$f":"DataBase!C687","v":0},{"$f":"DataBase!D687","v":0},{"$f":"DataBase!E687","v":0},{"$f":"DataBase!F687","v":0}]
[{"$f":"DataBase!C688","v":0},{"$f":"DataBase!D688","v":0},{"$f":"DataBase!E688","v":0},{"$f":"DataBase!F688","v":0}]
[{"$f":"DataBase!C689","v":0},{"$f":"DataBase!D689","v":0},{"$f":"DataBase!E689","v":0},{"$f":"DataBase!F689","v":0}]
[{"$f":"DataBase!C690","v":0},{"$f":"DataBase!D690","v":0},{"$f":"DataBase!E690","v":0},{"$f":"DataBase!F690","v":0}]
[{"$f":"DataBase!C691","v":0},{"$f":"DataBase!D691","v":0},{"$f":"DataBase!E691","v":0},{"$f":"DataBase!F691","v":0}]
[{"$f":"DataBase!C692","v":0},{"$f":"DataBase!D692","v":0},{"$f":"DataBase!E692","v":0},{"$f":"DataBase!F692","v":0}]
[{"$f":"DataBase!C693","v":0},{"$f":"DataBase!D693","v":0},{"$f":"DataBase!E693","v":0},{"$f":"DataBase!F693","v":0}]
[{"$f":"DataBase!C694","v":0},{"$f":"DataBase!D694","v":0},{"$f":"DataBase!E694","v":0},{"$f":"DataBase!F694","v":0}]
[{"$f":"DataBase!C695","v":0},{"$f":"DataBase!D695","v":0},{"$f":"DataBase!E695","v":0},{"$f":"DataBase!F695","v":0}]
[{"$f":"DataBase!C696","v":0},{"$f":"DataBase!D696","v":0},{"$f":"DataBase!E696","v":0},{"$f":"DataBase!F696","v":0}]
[{"$f":"DataBase!C697","v":0},{"$f":"DataBase!D697","v":0},{"$f":"DataBase!E697","v":0},{"$f":"DataBase!F697","v":0}]
[{"$f":"DataBase!C698","v":0},{"$f":"DataBase!D698","v":0},{"$f":"DataBase!E698","v":0},{"$f":"DataBase!F698","v":0}]
[{"$f":"DataBase!C699","v":0},{"$f":"DataBase!D699","v":0},{"$f":"DataBase!E699","v":0},{"$f":"DataBase!F699","v":0}]
[{"$f":"DataBase!C700","v":0},{"$f":"DataBase!D700","v":0},{"$f":"DataBase!E700","v":0},{"$f":"DataBase!F700","v":0}]
[{"$f":"DataBase!C701","v":0},{"$f":"DataBase!D701","v":0},{"$f":"DataBase!E701","v":0},{"$f":"DataBase!F701","v":0}]
[{"$f":"DataBase!C702","v":0},{"$f":"DataBase!D702","v":0},{"$f":"DataBase!E702","v":0},{"$f":"DataBase!F702","v":0}]
[{"$f":"DataBase!C703","v":0},{"$f":"DataBase!D703","v":0},{"$f":"DataBase!E703","v":0},{"$f":"DataBase!F703","v":0}]
[{"$f":"DataBase!C704","v":0},{"$f":"DataBase!D704","v":0},{"$f":"DataBase!E704","v":0},{"$f":"DataBase!F704","v":0}]
[{"$f":"DataBase!C705","v":0},{"$f":"DataBase!D705","v":0},{"$f":"DataBase!E705","v":0},{"$f":"DataBase!F705","v":0}]
[{"$f":"DataBase!C706","v":0},{"$f":"DataBase!D706","v":0},{"$f":"DataBase!E706","v":0},{"$f":"DataBase!F706","v":0}]
[{"$f":"DataBase!C707","v":0},{"$f":"DataBase!D707","v":0},{"$f":"DataBase!E707","v":0},{"$f":"DataBase!F707","v":0}]
[{"$f":"DataBase!C708","v":0},{"$f":"DataBase!D708","v":0},{"$f":"DataBase!E708","v":0},{"$f":"DataBase!F708","v":0}]
[{"$f":"DataBase!C709","v":0},{"$f":"DataBase!D709","v":0},{"$f":"DataBase!E709","v":0},{"$f":"DataBase!F709","v":0}]
[{"$f":"DataBase!C710","v":0},{"$f":"DataBase!D710","v":0},{"$f":"DataBase!E710","v":0},{"$f":"DataBase!F710","v":0}]
[{"$f":"DataBase!C711","v":0},{"$f":"DataBase!D711","v":0},{"$f":"DataBase!E711","v":0},{"$f":"DataBase!F711","v":0}]
[{"$f":"DataBase!C712","v":0},{"$f":"DataBase!D712","v":0},{"$f":"DataBase!E712","v":0},{"$f":"DataBase!F712","v":0}]
[{"$f":"DataBase!C713","v":0},{"$f":"DataBase!D713","v":0},{"$f":"DataBase!E713","v":0},{"$f":"DataBase!F713","v":0}]
[{"$f":"DataBase!C714","v":0},{"$f":"DataBase!D714","v":0},{"$f":"DataBase!E714","v":0},{"$f":"DataBase!F714","v":0}]
[{"$f":"DataBase!C715","v":0},{"$f":"DataBase!D715","v":0},{"$f":"DataBase!E715","v":0},{"$f":"DataBase!F715","v":0}]
[{"$f":"DataBase!C716","v":0},{"$f":"DataBase!D716","v":0},{"$f":"DataBase!E716","v":0},{"$f":"DataBase!F716","v":0}]
[{"$f":"DataBase!C717","v":0},{"$f":"DataBase!D717","v":0},{"$f":"DataBase!E717","v":0},{"$f":"DataBase!F717","v":0}]
[{"$f":"DataBase!C718","v":0},{"$f":"DataBase!D718","v":0},{"$f":"DataBase!E718","v":0},{"$f":"DataBase!F718","v":0}]
[{"$f":"DataBase!C719","v":0},{"$f":"DataBase!D719","v":0},{"$f":"DataBase!E719","v":0},{"$f":"DataBase!F719","v":0}]
[{"$f":"DataBase!C720","v":0},{"$f":"DataBase!D720","v":0},{"$f":"DataBase!E720","v":0},{"$f":"DataBase!F720","v":0}]
[{"$f":"DataBase!C721","v":0},{"$f":"DataBase!D721","v":0},{"$f":"DataBase!E721","v":0},{"$f":"DataBase!F721","v":0}]
[{"$f":"DataBase!C722","v":0},{"$f":"DataBase!D722","v":0},{"$f":"DataBase!E722","v":0},{"$f":"DataBase!F722","v":0}]
[{"$f":"DataBase!C723","v":0},{"$f":"DataBase!D723","v":0},{"$f":"DataBase!E723","v":0},{"$f":"DataBase!F723","v":0}]
[{"$f":"DataBase!C724","v":0},{"$f":"DataBase!D724","v":0},{"$f":"DataBase!E724","v":0},{"$f":"DataBase!F724","v":0}]
[{"$f":"DataBase!C725","v":0},{"$f":"DataBase!D725","v":0},{"$f":"DataBase!E725","v":0},{"$f":"DataBase!F725","v":0}]
[{"$f":"DataBase!C726","v":0},{"$f":"DataBase!D726","v":0},{"$f":"DataBase!E726","v":0},{"$f":"DataBase!F726","v":0}]
[{"$f":"DataBase!C727","v":0},{"$f":"DataBase!D727","v":0},{"$f":"DataBase!E727","v":0},{"$f":"DataBase!F727","v":0}]
[{"$f":"DataBase!C728","v":0},{"$f":"DataBase!D728","v":0},{"$f":"DataBase!E728","v":0},{"$f":"DataBase!F728","v":0}]
[{"$f":"DataBase!C729","v":0},{"$f":"DataBase!D729","v":0},{"$f":"DataBase!E729","v":0},{"$f":"DataBase!F729","v":0}]
[{"$f":"DataBase!C730","v":0},{"$f":"DataBase!D730","v":0},{"$f":"DataBase!E730","v":0},{"$f":"DataBase!F730","v":0}]
[{"$f":"DataBase!C731","v":0},{"$f":"DataBase!D731","v":0},{"$f":"DataBase!E731","v":0},{"$f":"DataBase!F731","v":0}]
[{"$f":"DataBase!C732","v":0},{"$f":"DataBase!D732","v":0},{"$f":"DataBase!E732","v":0},{"$f":"DataBase!F732","v":0}]
[{"$f":"DataBase!C733","v":0},{"$f":"DataBase!D733","v":0},{"$f":"DataBase!E733","v":0},{"$f":"DataBase!F733","v":0}]
[{"$f":"DataBase!C734","v":0},{"$f":"DataBase!D734","v":0},{"$f":"DataBase!E734","v":0},{"$f":"DataBase!F734","v":0}]
[{"$f":"DataBase!C735","v":0},{"$f":"DataBase!D735","v":0},{"$f":"DataBase!E735","v":0},{"$f":"DataBase!F735","v":0}]
[{"$f":"DataBase!C736","v":0},{"$f":"DataBase!D736","v":0},{"$f":"DataBase!E736","v":0},{"$f":"DataBase!F736","v":0}]
[{"$f":"DataBase!C737","v":0},{"$f":"DataBase!D737","v":0},{"$f":"DataBase!E737","v":0},{"$f":"DataBase!F737","v":0}]
[{"$f":"DataBase!C738","v":0},{"$f":"DataBase!D738","v":0},{"$f":"DataBase!E738","v":0},{"$f":"DataBase!F738","v":0}]
[{"$f":"DataBase!C739","v":0},{"$f":"DataBase!D739","v":0},{"$f":"DataBase!E739","v":0},{"$f":"DataBase!F739","v":0}]
[{"$f":"DataBase!C740","v":0},{"$f":"DataBase!D740","v":0},{"$f":"DataBase!E740","v":0},{"$f":"DataBase!F740","v":0}]
[{"$f":"DataBase!C741","v":0},{"$f":"DataBase!D741","v":0},{"$f":"DataBase!E741","v":0},{"$f":"DataBase!F741","v":0}]
[{"$f":"DataBase!C742","v":0},{"$f":"DataBase!D742","v":0},{"$f":"DataBase!E742","v":0},{"$f":"DataBase!F742","v":0}]
[{"$f":"DataBase!C743","v":0},{"$f":"DataBase!D743","v":0},{"$f":"DataBase!E743","v":0},{"$f":"DataBase!F743","v":0}]
[{"$f":"DataBase!C744","v":0},{"$f":"DataBase!D744","v":0},{"$f":"DataBase!E744","v":0},{"$f":"DataBase!F744","v":0}]
[{"$f":"DataBase!C745","v":0},{"$f":"DataBase!D745","v":0},{"$f":"DataBase!E745","v":0},{"$f":"DataBase!F745","v":0}]
[{"$f":"DataBase!C746","v":0},{"$f":"DataBase!D746","v":0},{"$f":"DataBase!E746","v":0},{"$f":"DataBase!F746","v":0}]
[{"$f":"DataBase!C747","v":0},{"$f":"DataBase!D747","v":0},{"$f":"DataBase!E747","v":0},{"$f":"DataBase!F747","v":0}]
[{"$f":"DataBase!C748","v":0},{"$f":"DataBase!D748","v":0},{"$f":"DataBase!E748","v":0},{"$f":"DataBase!F748","v":0}]
[{"$f":"DataBase!C749","v":0},{"$f":"DataBase!D749","v":0},{"$f":"DataBase!E749","v":0},{"$f":"DataBase!F749","v":0}]
[{"$f":"DataBase!C750","v":0},{"$f":"DataBase!D750","v":0},{"$f":"DataBase!E750","v":0},{"$f":"DataBase!F750","v":0}]
[{"$f":"DataBase!C751","v":0},{"$f":"DataBase!D751","v":0},{"$f":"DataBase!E751","v":0},{"$f":"DataBase!F751","v":0}]
[{"$f":"DataBase!C752","v":0},{"$f":"DataBase!D752","v":0},{"$f":"DataBase!E752","v":0},{"$f":"DataBase!F752","v":0}]
[{"$f":"DataBase!C753","v":0},{"$f":"DataBase!D753","v":0},{"$f":"DataBase!E753","v":0},{"$f":"DataBase!F753","v":0}]
[{"$f":"DataBase!C754","v":0},{"$f":"DataBase!D754","v":0},{"$f":"DataBase!E754","v":0},{"$f":"DataBase!F754","v":0}]
[{"$f":"DataBase!C755","v":0},{"$f":"DataBase!D755","v":0},{"$f":"DataBase!E755","v":0},{"$f":"DataBase!F755","v":0}]
[{"$f":"DataBase!C756","v":0},{"$f":"DataBase!D756","v":0},{"$f":"DataBase!E756","v":0},{"$f":"DataBase!F756","v":0}]
[{"$f":"DataBase!C757","v":0},{"$f":"DataBase!D757","v":0},{"$f":"DataBase!E757","v":0},{"$f":"DataBase!F757","v":0}]
[{"$f":"DataBase!C758","v":0},{"$f":"DataBase!D758","v":0},{"$f":"DataBase!E758","v":0},{"$f":"DataBase!F758","v":0}]
[{"$f":"DataBase!C759","v":0},{"$f":"DataBase!D759","v":0},{"$f":"DataBase!E759","v":0},{"$f":"DataBase!F759","v":0}]
[{"$f":"DataBase!C760","v":0},{"$f":"DataBase!D760","v":0},{"$f":"DataBase!E760","v":0},{"$f":"DataBase!F760","v":0}]
[{"$f":"DataBase!C761","v":0},{"$f":"DataBase!D761","v":0},{"$f":"DataBase!E761","v":0},{"$f":"DataBase!F761","v":0}]
[{"$f":"DataBase!C762","v":0},{"$f":"DataBase!D762","v":0},{"$f":"DataBase!E762","v":0},{"$f":"DataBase!F762","v":0}]
[{"$f":"DataBase!C763","v":0},{"$f":"DataBase!D763","v":0},{"$f":"DataBase!E763","v":0},{"$f":"DataBase!F763","v":0}]
[{"$f":"DataBase!C764","v":0},{"$f":"DataBase!D764","v":0},{"$f":"DataBase!E764","v":0},{"$f":"DataBase!F764","v":0}]
[{"$f":"DataBase!C765","v":0},{"$f":"DataBase!D765","v":0},{"$f":"DataBase!E765","v":0},{"$f":"DataBase!F765","v":0}]
[{"$f":"DataBase!C766","v":0},{"$f":"DataBase!D766","v":0},{"$f":"DataBase!E766","v":0},{"$f":"DataBase!F766","v":0}]
[{"$f":"DataBase!C767","v":0},{"$f":"DataBase!D767","v":0},{"$f":"DataBase!E767","v":0},{"$f":"DataBase!F767","v":0}]
[{"$f":"DataBase!C768","v":0},{"$f":"DataBase!D768","v":0},{"$f":"DataBase!E768","v":0},{"$f":"DataBase!F768","v":0}]
[{"$f":"DataBase!C769","v":0},{"$f":"DataBase!D769","v":0},{"$f":"DataBase!E769","v":0},{"$f":"DataBase!F769","v":0}]
[{"$f":"DataBase!C770","v":0},{"$f":"DataBase!D770","v":0},{"$f":"DataBase!E770","v":0},{"$f":"DataBase!F770","v":0}]
[{"$f":"DataBase!C771","v":0},{"$f":"DataBase!D771","v":0},{"$f":"DataBase!E771","v":0},{"$f":"DataBase!F771","v":0}]
[{"$f":"DataBase!C772","v":0},{"$f":"DataBase!D772","v":0},{"$f":"DataBase!E772","v":0},{"$f":"DataBase!F772","v":0}]
[{"$f":"DataBase!C773","v":0},{"$f":"DataBase!D773","v":0},{"$f":"DataBase!E773","v":0},{"$f":"DataBase!F773","v":0}]
[{"$f":"DataBase!C774","v":0},{"$f":"DataBase!D774","v":0},{"$f":"DataBase!E774","v":0},{"$f":"DataBase!F774","v":0}]
[{"$f":"DataBase!C775","v":0},{"$f":"DataBase!D775","v":0},{"$f":"DataBase!E775","v":0},{"$f":"DataBase!F775","v":0}]
[{"$f":"DataBase!C776","v":0},{"$f":"DataBase!D776","v":0},{"$f":"DataBase!E776","v":0},{"$f":"DataBase!F776","v":0}]
[{"$f":"DataBase!C777","v":0},{"$f":"DataBase!D777","v":0},{"$f":"DataBase!E777","v":0},{"$f":"DataBase!F777","v":0}]
[{"$f":"DataBase!C778","v":0},{"$f":"DataBase!D778","v":0},{"$f":"DataBase!E778","v":0},{"$f":"DataBase!F778","v":0}]
[{"$f":"DataBase!C779","v":0},{"$f":"DataBase!D779","v":0},{"$f":"DataBase!E779","v":0},{"$f":"DataBase!F779","v":0}]
[{"$f":"DataBase!C780","v":0},{"$f":"DataBase!D780","v":0},{"$f":"DataBase!E780","v":0},{"$f":"DataBase!F780","v":0}]
[{"$f":"DataBase!C781","v":0},{"$f":"DataBase!D781","v":0},{"$f":"DataBase!E781","v":0},{"$f":"DataBase!F781","v":0}]
[{"$f":"DataBase!C782","v":0},{"$f":"DataBase!D782","v":0},{"$f":"DataBase!E782","v":0},{"$f":"DataBase!F782","v":0}]
[{"$f":"DataBase!C783","v":0},{"$f":"DataBase!D783","v":0},{"$f":"DataBase!E783","v":0},{"$f":"DataBase!F783","v":0}]
[{"$f":"DataBase!C784","v":0},{"$f":"DataBase!D784","v":0},{"$f":"DataBase!E784","v":0},{"$f":"DataBase!F784","v":0}]
[{"$f":"DataBase!C785","v":0},{"$f":"DataBase!D785","v":0},{"$f":"DataBase!E785","v":0},{"$f":"DataBase!F785","v":0}]
[{"$f":"DataBase!C786","v":0},{"$f":"DataBase!D786","v":0},{"$f":"DataBase!E786","v":0},{"$f":"DataBase!F786","v":0}]
[{"$f":"DataBase!C787","v":0},{"$f":"DataBase!D787","v":0},{"$f":"DataBase!E787","v":0},{"$f":"DataBase!F787","v":0}]
[{"$f":"DataBase!C788","v":0},{"$f":"DataBase!D788","v":0},{"$f":"DataBase!E788","v":0},{"$f":"DataBase!F788","v":0}]
[{"$f":"DataBase!C789","v":0},{"$f":"DataBase!D789","v":0},{"$f":"DataBase!E789","v":0},{"$f":"DataBase!F789","v":0}]
[{"$f":"DataBase!C790","v":0},{"$f":"DataBase!D790","v":0},{"$f":"DataBase!E790","v":0},{"$f":"DataBase!F790","v":0}]
[{"$f":"DataBase!C791","v":0},{"$f":"DataBase!D791","v":0},{"$f":"DataBase!E791","v":0},{"$f":"DataBase!F791","v":0}]
[{"$f":"DataBase!C792","v":0},{"$f":"DataBase!D792","v":0},{"$f":"DataBase!E792","v":0},{"$f":"DataBase!F792","v":0}]
[{"$f":"DataBase!C793","v":0},{"$f":"DataBase!D793","v":0},{"$f":"DataBase!E793","v":0},{"$f":"DataBase!F793","v":0}]
[{"$f":"DataBase!C794","v":0},{"$f":"DataBase!D794","v":0},{"$f":"DataBase!E794","v":0},{"$f":"DataBase!F794","v":0}]
[{"$f":"DataBase!C795","v":0},{"$f":"DataBase!D795","v":0},{"$f":"DataBase!E795","v":0},{"$f":"DataBase!F795","v":0}]
[{"$f":"DataBase!C796","v":0},{"$f":"DataBase!D796","v":0},{"$f":"DataBase!E796","v":0},{"$f":"DataBase!F796","v":0}]
[{"$f":"DataBase!C797","v":0},{"$f":"DataBase!D797","v":0},{"$f":"DataBase!E797","v":0},{"$f":"DataBase!F797","v":0}]
[{"$f":"DataBase!C798","v":0},{"$f":"DataBase!D798","v":0},{"$f":"DataBase!E798","v":0},{"$f":"DataBase!F798","v":0}]
[{"$f":"DataBase!C799","v":0},{"$f":"DataBase!D799","v":0},{"$f":"DataBase!E799","v":0},{"$f":"DataBase!F799","v":0}]
[{"$f":"DataBase!C800","v":0},{"$f":"DataBase!D800","v":0},{"$f":"DataBase!E800","v":0},{"$f":"DataBase!F800","v":0}]
[{"$f":"DataBase!C801","v":0},{"$f":"DataBase!D801","v":0},{"$f":"DataBase!E801","v":0},{"$f":"DataBase!F801","v":0}]
[{"$f":"DataBase!C802","v":0},{"$f":"DataBase!D802","v":0},{"$f":"DataBase!E802","v":0},{"$f":"DataBase!F802","v":0}]
[{"$f":"DataBase!C803","v":0},{"$f":"DataBase!D803","v":0},{"$f":"DataBase!E803","v":0},{"$f":"DataBase!F803","v":0}]
[{"$f":"DataBase!C804","v":0},{"$f":"DataBase!D804","v":0},{"$f":"DataBase!E804","v":0},{"$f":"DataBase!F804","v":0}]
[{"$f":"DataBase!C805","v":0},{"$f":"DataBase!D805","v":0},{"$f":"DataBase!E805","v":0},{"$f":"DataBase!F805","v":0}]
[{"$f":"DataBase!C806","v":0},{"$f":"DataBase!D806","v":0},{"$f":"DataBase!E806","v":0},{"$f":"DataBase!F806","v":0}]
[{"$f":"DataBase!C807","v":0},{"$f":"DataBase!D807","v":0},{"$f":"DataBase!E807","v":0},{"$f":"DataBase!F807","v":0}]
[{"$f":"DataBase!C808","v":0},{"$f":"DataBase!D808","v":0},{"$f":"DataBase!E808","v":0},{"$f":"DataBase!F808","v":0}]
[{"$f":"DataBase!C809","v":0},{"$f":"DataBase!D809","v":0},{"$f":"DataBase!E809","v":0},{"$f":"DataBase!F809","v":0}]
[{"$f":"DataBase!C810","v":0},{"$f":"DataBase!D810","v":0},{"$f":"DataBase!E810","v":0},{"$f":"DataBase!F810","v":0}]
[{"$f":"DataBase!C811","v":0},{"$f":"DataBase!D811","v":0},{"$f":"DataBase!E811","v":0},{"$f":"DataBase!F811","v":0}]
[{"$f":"DataBase!C812","v":0},{"$f":"DataBase!D812","v":0},{"$f":"DataBase!E812","v":0},{"$f":"DataBase!F812","v":0}]
[{"$f":"DataBase!C813","v":0},{"$f":"DataBase!D813","v":0},{"$f":"DataBase!E813","v":0},{"$f":"DataBase!F813","v":0}]
[{"$f":"DataBase!C814","v":0},{"$f":"DataBase!D814","v":0},{"$f":"DataBase!E814","v":0},{"$f":"DataBase!F814","v":0}]
[{"$f":"DataBase!C815","v":0},{"$f":"DataBase!D815","v":0},{"$f":"DataBase!E815","v":0},{"$f":"DataBase!F815","v":0}]
[{"$f":"DataBase!C816","v":0},{"$f":"DataBase!D816","v":0},{"$f":"DataBase!E816","v":0},{"$f":"DataBase!F816","v":0}]
[{"$f":"DataBase!C817","v":0},{"$f":"DataBase!D817","v":0},{"$f":"DataBase!E817","v":0},{"$f":"DataBase!F817","v":0}]
[{"$f":"DataBase!C818","v":0},{"$f":"DataBase!D818","v":0},{"$f":"DataBase!E818","v":0},{"$f":"DataBase!F818","v":0}]
[{"$f":"DataBase!C819","v":0},{"$f":"DataBase!D819","v":0},{"$f":"DataBase!E819","v":0},{"$f":"DataBase!F819","v":0}]
[{"$f":"DataBase!C820","v":0},{"$f":"DataBase!D820","v":0},{"$f":"DataBase!E820","v":0},{"$f":"DataBase!F820","v":0}]
[{"$f":"DataBase!C821","v":0},{"$f":"DataBase!D821","v":0},{"$f":"DataBase!E821","v":0},{"$f":"DataBase!F821","v":0}]
[{"$f":"DataBase!C822","v":0},{"$f":"DataBase!D822","v":0},{"$f":"DataBase!E822","v":0},{"$f":"DataBase!F822","v":0}]
[{"$f":"DataBase!C823","v":0},{"$f":"DataBase!D823","v":0},{"$f":"DataBase!E823","v":0},{"$f":"DataBase!F823","v":0}]
[{"$f":"DataBase!C824","v":0},{"$f":"DataBase!D824","v":0},{"$f":"DataBase!E824","v":0},{"$f":"DataBase!F824","v":0}]
[{"$f":"DataBase!C825","v":0},{"$f":"DataBase!D825","v":0},{"$f":"DataBase!E825","v":0},{"$f":"DataBase!F825","v":0}]
[{"$f":"DataBase!C826","v":0},{"$f":"DataBase!D826","v":0},{"$f":"DataBase!E826","v":0},{"$f":"DataBase!F826","v":0}]
[{"$f":"DataBase!C827","v":0},{"$f":"DataBase!D827","v":0},{"$f":"DataBase!E827","v":0},{"$f":"DataBase!F827","v":0}]
[{"$f":"DataBase!C828","v":0},{"$f":"DataBase!D828","v":0},{"$f":"DataBase!E828","v":0},{"$f":"DataBase!F828","v":0}]
[{"$f":"DataBase!C829","v":0},{"$f":"DataBase!D829","v":0},{"$f":"DataBase!E829","v":0},{"$f":"DataBase!F829","v":0}]
[{"$f":"DataBase!C830","v":0},{"$f":"DataBase!D830","v":0},{"$f":"DataBase!E830","v":0},{"$f":"DataBase!F830","v":0}]
[{"$f":"DataBase!C831","v":0},{"$f":"DataBase!D831","v":0},{"$f":"DataBase!E831","v":0},{"$f":"DataBase!F831","v":0}]
[{"$f":"DataBase!C832","v":0},{"$f":"DataBase!D832","v":0},{"$f":"DataBase!E832","v":0},{"$f":"DataBase!F832","v":0}]
[{"$f":"DataBase!C833","v":0},{"$f":"DataBase!D833","v":0},{"$f":"DataBase!E833","v":0},{"$f":"DataBase!F833","v":0}]
[{"$f":"DataBase!C834","v":0},{"$f":"DataBase!D834","v":0},{"$f":"DataBase!E834","v":0},{"$f":"DataBase!F834","v":0}]
[{"$f":"DataBase!C835","v":0},{"$f":"DataBase!D835","v":0},{"$f":"DataBase!E835","v":0},{"$f":"DataBase!F835","v":0}]
[{"$f":"DataBase!C836","v":0},{"$f":"DataBase!D836","v":0},{"$f":"DataBase!E836","v":0},{"$f":"DataBase!F836","v":0}]
[{"$f":"DataBase!C837","v":0},{"$f":"DataBase!D837","v":0},{"$f":"DataBase!E837","v":0},{"$f":"DataBase!F837","v":0}]
[{"$f":"DataBase!C838","v":0},{"$f":"DataBase!D838","v":0},{"$f":"DataBase!E838","v":0},{"$f":"DataBase!F838","v":0}]
[{"$f":"DataBase!C839","v":0},{"$f":"DataBase!D839","v":0},{"$f":"DataBase!E839","v":0},{"$f":"DataBase!F839","v":0}]
[{"$f":"DataBase!C840","v":0},{"$f":"DataBase!D840","v":0},{"$f":"DataBase!E840","v":0},{"$f":"DataBase!F840","v":0}]
[{"$f":"DataBase!C841","v":0},{"$f":"DataBase!D841","v":0},{"$f":"DataBase!E841","v":0},{"$f":"DataBase!F841","v":0}]
[{"$f":"DataBase!C842","v":0},{"$f":"DataBase!D842","v":0},{"$f":"DataBase!E842","v":0},{"$f":"DataBase!F842","v":0}]
[{"$f":"DataBase!C843","v":0},{"$f":"DataBase!D843","v":0},{"$f":"DataBase!E843","v":0},{"$f":"DataBase!F843","v":0}]
[{"$f":"DataBase!C844","v":0},{"$f":"DataBase!D844","v":0},{"$f":"DataBase!E844","v":0},{"$f":"DataBase!F844","v":0}]
[{"$f":"DataBase!C845","v":0},{"$f":"DataBase!D845","v":0},{"$f":"DataBase!E845","v":0},{"$f":"DataBase!F845","v":0}]
[{"$f":"DataBase!C846","v":0},{"$f":"DataBase!D846","v":0},{"$f":"DataBase!E846","v":0},{"$f":"DataBase!F846","v":0}]
[{"$f":"DataBase!C847","v":0},{"$f":"DataBase!D847","v":0},{"$f":"DataBase!E847","v":0},{"$f":"DataBase!F847","v":0}]
[{"$f":"DataBase!C848","v":0},{"$f":"DataBase!D848","v":0},{"$f":"DataBase!E848","v":0},{"$f":"DataBase!F848","v":0}]
[{"$f":"DataBase!C849","v":0},{"$f":"DataBase!D849","v":0},{"$f":"DataBase!E849","v":0},{"$f":"DataBase!F849","v":0}]
[{"$f":"DataBase!C850","v":0},{"$f":"DataBase!D850","v":0},{"$f":"DataBase!E850","v":0},{"$f":"DataBase!F850","v":0}]
[{"$f":"DataBase!C851","v":0},{"$f":"DataBase!D851","v":0},{"$f":"DataBase!E851","v":0},{"$f":"DataBase!F851","v":0}]
[{"$f":"DataBase!C852","v":0},{"$f":"DataBase!D852","v":0},{"$f":"DataBase!E852","v":0},{"$f":"DataBase!F852","v":0}]
[{"$f":"DataBase!C853","v":0},{"$f":"DataBase!D853","v":0},{"$f":"DataBase!E853","v":0},{"$f":"DataBase!F853","v":0}]
[{"$f":"DataBase!C854","v":0},{"$f":"DataBase!D854","v":0},{"$f":"DataBase!E854","v":0},{"$f":"DataBase!F854","v":0}]
[{"$f":"DataBase!C855","v":0},{"$f":"DataBase!D855","v":0},{"$f":"DataBase!E855","v":0},{"$f":"DataBase!F855","v":0}]
[{"$f":"DataBase!C856","v":0},{"$f":"DataBase!D856","v":0},{"$f":"DataBase!E856","v":0},{"$f":"DataBase!F856","v":0}]
[{"$f":"DataBase!C857","v":0},{"$f":"DataBase!D857","v":0},{"$f":"DataBase!E857","v":0},{"$f":"DataBase!F857","v":0}]
[{"$f":"DataBase!C858","v":0},{"$f":"DataBase!D858","v":0},{"$f":"DataBase!E858","v":0},{"$f":"DataBase!F858","v":0}]
[{"$f":"DataBase!C859","v":0},{"$f":"DataBase!D859","v":0},{"$f":"DataBase!E859","v":0},{"$f":"DataBase!F859","v":0}]
[{"$f":"DataBase!C860","v":0},{"$f":"DataBase!D860","v":0},{"$f":"DataBase!E860","v":0},{"$f":"DataBase!F860","v":0}]
[{"$f":"DataBase!C861","v":0},{"$f":"DataBase!D861","v":0},{"$f":"DataBase!E861","v":0},{"$f":"DataBase!F861","v":0}]
[{"$f":"DataBase!C862","v":0},{"$f":"DataBase!D862","v":0},{"$f":"DataBase!E862","v":0},{"$f":"DataBase!F862","v":0}]
[{"$f":"DataBase!C863","v":0},{"$f":"DataBase!D863","v":0},{"$f":"DataBase!E863","v":0},{"$f":"DataBase!F863","v":0}]
[{"$f":"DataBase!C864","v":0},{"$f":"DataBase!D864","v":0},{"$f":"DataBase!E864","v":0},{"$f":"DataBase!F864","v":0}]
[{"$f":"DataBase!C865","v":0},{"$f":"DataBase!D865","v":0},{"$f":"DataBase!E865","v":0},{"$f":"DataBase!F865","v":0}]
[{"$f":"DataBase!C866","v":0},{"$f":"DataBase!D866","v":0},{"$f":"DataBase!E866","v":0},{"$f":"DataBase!F866","v":0}]
[{"$f":"DataBase!C867","v":0},{"$f":"DataBase!D867","v":0},{"$f":"DataBase!E867","v":0},{"$f":"DataBase!F867","v":0}]
[{"$f":"DataBase!C868","v":0},{"$f":"DataBase!D868","v":0},{"$f":"DataBase!E868","v":0},{"$f":"DataBase!F868","v":0}]
[{"$f":"DataBase!C869","v":0},{"$f":"DataBase!D869","v":0},{"$f":"DataBase!E869","v":0},{"$f":"DataBase!F869","v":0}]
[{"$f":"DataBase!C870","v":0},{"$f":"DataBase!D870","v":0},{"$f":"DataBase!E870","v":0},{"$f":"DataBase!F870","v":0}]
[{"$f":"DataBase!C871","v":0},{"$f":"DataBase!D871","v":0},{"$f":"DataBase!E871","v":0},{"$f":"DataBase!F871","v":0}]
[{"$f":"DataBase!C872","v":0},{"$f":"DataBase!D872","v":0},{"$f":"DataBase!E872","v":0},{"$f":"DataBase!F872","v":0}]
[{"$f":"DataBase!C873","v":0},{"$f":"DataBase!D873","v":0},{"$f":"DataBase!E873","v":0},{"$f":"DataBase!F873","v":0}]
[{"$f":"DataBase!C874","v":0},{"$f":"DataBase!D874","v":0},{"$f":"DataBase!E874","v":0},{"$f":"DataBase!F874","v":0}]
[{"$f":"DataBase!C875","v":0},{"$f":"DataBase!D875","v":0},{"$f":"DataBase!E875","v":0},{"$f":"DataBase!F875","v":0}]
[{"$f":"DataBase!C876","v":0},{"$f":"DataBase!D876","v":0},{"$f":"DataBase!E876","v":0},{"$f":"DataBase!F876","v":0}]
[{"$f":"DataBase!C877","v":0},{"$f":"DataBase!D877","v":0},{"$f":"DataBase!E877","v":0},{"$f":"DataBase!F877","v":0}]
[{"$f":"DataBase!C878","v":0},{"$f":"DataBase!D878","v":0},{"$f":"DataBase!E878","v":0},{"$f":"DataBase!F878","v":0}]
[{"$f":"DataBase!C879","v":0},{"$f":"DataBase!D879","v":0},{"$f":"DataBase!E879","v":0},{"$f":"DataBase!F879","v":0}]
[{"$f":"DataBase!C880","v":0},{"$f":"DataBase!D880","v":0},{"$f":"DataBase!E880","v":0},{"$f":"DataBase!F880","v":0}]
[{"$f":"DataBase!C881","v":0},{"$f":"DataBase!D881","v":0},{"$f":"DataBase!E881","v":0},{"$f":"DataBase!F881","v":0}]
[{"$f":"DataBase!C882","v":0},{"$f":"DataBase!D882","v":0},{"$f":"DataBase!E882","v":0},{"$f":"DataBase!F882","v":0}]
[{"$f":"DataBase!C883","v":0},{"$f":"DataBase!D883","v":0},{"$f":"DataBase!E883","v":0},{"$f":"DataBase!F883","v":0}]
[{"$f":"DataBase!C884","v":0},{"$f":"DataBase!D884","v":0},{"$f":"DataBase!E884","v":0},{"$f":"DataBase!F884","v":0}]
[{"$f":"DataBase!C885","v":0},{"$f":"DataBase!D885","v":0},{"$f":"DataBase!E885","v":0},{"$f":"DataBase!F885","v":0}]
[{"$f":"DataBase!C886","v":0},{"$f":"DataBase!D886","v":0},{"$f":"DataBase!E886","v":0},{"$f":"DataBase!F886","v":0}]
[{"$f":"DataBase!C887","v":0},{"$f":"DataBase!D887","v":0},{"$f":"DataBase!E887","v":0},{"$f":"DataBase!F887","v":0}]
[{"$f":"DataBase!C888","v":0},{"$f":"DataBase!D888","v":0},{"$f":"DataBase!E888","v":0},{"$f":"DataBase!F888","v":0}]
[{"$f":"DataBase!C889","v":0},{"$f":"DataBase!D889","v":0},{"$f":"DataBase!E889","v":0},{"$f":"DataBase!F889","v":0}]
[{"$f":"DataBase!C890","v":0},{"$f":"DataBase!D890","v":0},{"$f":"DataBase!E890","v":0},{"$f":"DataBase!F890","v":0}]
[{"$f":"DataBase!C891","v":0},{"$f":"DataBase!D891","v":0},{"$f":"DataBase!E891","v":0},{"$f":"DataBase!F891","v":0}]
[{"$f":"DataBase!C892","v":0},{"$f":"DataBase!D892","v":0},{"$f":"DataBase!E892","v":0},{"$f":"DataBase!F892","v":0}]
[{"$f":"DataBase!C893","v":0},{"$f":"DataBase!D893","v":0},{"$f":"DataBase!E893","v":0},{"$f":"DataBase!F893","v":0}]
[{"$f":"DataBase!C894","v":0},{"$f":"DataBase!D894","v":0},{"$f":"DataBase!E894","v":0},{"$f":"DataBase!F894","v":0}]
[{"$f":"DataBase!C895","v":0},{"$f":"DataBase!D895","v":0},{"$f":"DataBase!E895","v":0},{"$f":"DataBase!F895","v":0}]
[{"$f":"DataBase!C896","v":0},{"$f":"DataBase!D896","v":0},{"$f":"DataBase!E896","v":0},{"$f":"DataBase!F896","v":0}]
[{"$f":"DataBase!C897","v":0},{"$f":"DataBase!D897","v":0},{"$f":"DataBase!E897","v":0},{"$f":"DataBase!F897","v":0}]
[{"$f":"DataBase!C898","v":0},{"$f":"DataBase!D898","v":0},{"$f":"DataBase!E898","v":0},{"$f":"DataBase!F898","v":0}]
[{"$f":"DataBase!C899","v":0},{"$f":"DataBase!D899","v":0},{"$f":"DataBase!E899","v":0},{"$f":"DataBase!F899","v":0}]
[{"$f":"DataBase!C900","v":0},{"$f":"DataBase!D900","v":0},{"$f":"DataBase!E900","v":0},{"$f":"DataBase!F900","v":0}]
[{"$f":"DataBase!C901","v":0},{"$f":"DataBase!D901","v":0},{"$f":"DataBase!E901","v":0},{"$f":"DataBase!F901","v":0}]
[{"$f":"DataBase!C902","v":0},{"$f":"DataBase!D902","v":0},{"$f":"DataBase!E902","v":0},{"$f":"DataBase!F902","v":0}]
[{"$f":"DataBase!C903","v":0},{"$f":"DataBase!D903","v":0},{"$f":"DataBase!E903","v":0},{"$f":"DataBase!F903","v":0}]
[{"$f":"DataBase!C904","v":0},{"$f":"DataBase!D904","v":0},{"$f":"DataBase!E904","v":0},{"$f":"DataBase!F904","v":0}]
[{"$f":"DataBase!C905","v":0},{"$f":"DataBase!D905","v":0},{"$f":"DataBase!E905","v":0},{"$f":"DataBase!F905","v":0}]
[{"$f":"DataBase!C906","v":0},{"$f":"DataBase!D906","v":0},{"$f":"DataBase!E906","v":0},{"$f":"DataBase!F906","v":0}]
[{"$f":"DataBase!C907","v":0},{"$f":"DataBase!D907","v":0},{"$f":"DataBase!E907","v":0},{"$f":"DataBase!F907","v":0}]
[{"$f":"DataBase!C908","v":0},{"$f":"DataBase!D908","v":0},{"$f":"DataBase!E908","v":0},{"$f":"DataBase!F908","v":0}]
[{"$f":"DataBase!C909","v":0},{"$f":"DataBase!D909","v":0},{"$f":"DataBase!E909","v":0},{"$f":"DataBase!F909","v":0}]
[{"$f":"DataBase!C910","v":0},{"$f":"DataBase!D910","v":0},{"$f":"DataBase!E910","v":0},{"$f":"DataBase!F910","v":0}]
[{"$f":"DataBase!C911","v":0},{"$f":"DataBase!D911","v":0},{"$f":"DataBase!E911","v":0},{"$f":"DataBase!F911","v":0}]
[{"$f":"DataBase!C912","v":0},{"$f":"DataBase!D912","v":0},{"$f":"DataBase!E912","v":0},{"$f":"DataBase!F912","v":0}]
[{"$f":"DataBase!C913","v":0},{"$f":"DataBase!D913","v":0},{"$f":"DataBase!E913","v":0},{"$f":"DataBase!F913","v":0}]
[{"$f":"DataBase!C914","v":0},{"$f":"DataBase!D914","v":0},{"$f":"DataBase!E914","v":0},{"$f":"DataBase!F914","v":0}]
[{"$f":"DataBase!C915","v":0},{"$f":"DataBase!D915","v":0},{"$f":"DataBase!E915","v":0},{"$f":"DataBase!F915","v":0}]
[{"$f":"DataBase!C916","v":0},{"$f":"DataBase!D916","v":0},{"$f":"DataBase!E916","v":0},{"$f":"DataBase!F916","v":0}]
[{"$f":"DataBase!C917","v":0},{"$f":"DataBase!D917","v":0},{"$f":"DataBase!E917","v":0},{"$f":"DataBase!F917","v":0}]
[{"$f":"DataBase!C918","v":0},{"$f":"DataBase!D918","v":0},{"$f":"DataBase!E918","v":0},{"$f":"DataBase!F918","v":0}]
[{"$f":"DataBase!C919","v":0},{"$f":"DataBase!D919","v":0},{"$f":"DataBase!E919","v":0},{"$f":"DataBase!F919","v":0}]
[{"$f":"DataBase!C920","v":0},{"$f":"DataBase!D920","v":0},{"$f":"DataBase!E920","v":0},{"$f":"DataBase!F920","v":0}]
[{"$f":"DataBase!C921","v":0},{"$f":"DataBase!D921","v":0},{"$f":"DataBase!E921","v":0},{"$f":"DataBase!F921","v":0}]
[{"$f":"DataBase!C922","v":0},{"$f":"DataBase!D922","v":0},{"$f":"DataBase!E922","v":0},{"$f":"DataBase!F922","v":0}]
[{"$f":"DataBase!C923","v":0},{"$f":"DataBase!D923","v":0},{"$f":"DataBase!E923","v":0},{"$f":"DataBase!F923","v":0}]
[{"$f":"DataBase!C924","v":0},{"$f":"DataBase!D924","v":0},{"$f":"DataBase!E924","v":0},{"$f":"DataBase!F924","v":0}]
[{"$f":"DataBase!C925","v":0},{"$f":"DataBase!D925","v":0},{"$f":"DataBase!E925","v":0},{"$f":"DataBase!F925","v":0}]
[{"$f":"DataBase!C926","v":0},{"$f":"DataBase!D926","v":0},{"$f":"DataBase!E926","v":0},{"$f":"DataBase!F926","v":0}]
[{"$f":"DataBase!C927","v":0},{"$f":"DataBase!D927","v":0},{"$f":"DataBase!E927","v":0},{"$f":"DataBase!F927","v":0}]
[{"$f":"DataBase!C928","v":0},{"$f":"DataBase!D928","v":0},{"$f":"DataBase!E928","v":0},{"$f":"DataBase!F928","v":0}]
[{"$f":"DataBase!C929","v":0},{"$f":"DataBase!D929","v":0},{"$f":"DataBase!E929","v":0},{"$f":"DataBase!F929","v":0}]
[{"$f":"DataBase!C930","v":0},{"$f":"DataBase!D930","v":0},{"$f":"DataBase!E930","v":0},{"$f":"DataBase!F930","v":0}]
[{"$f":"DataBase!C931","v":0},{"$f":"DataBase!D931","v":0},{"$f":"DataBase!E931","v":0},{"$f":"DataBase!F931","v":0}]
[{"$f":"DataBase!C932","v":0},{"$f":"DataBase!D932","v":0},{"$f":"DataBase!E932","v":0},{"$f":"DataBase!F932","v":0}]
[{"$f":"DataBase!C933","v":0},{"$f":"DataBase!D933","v":0},{"$f":"DataBase!E933","v":0},{"$f":"DataBase!F933","v":0}]
[{"$f":"DataBase!C934","v":0},{"$f":"DataBase!D934","v":0},{"$f":"DataBase!E934","v":0},{"$f":"DataBase!F934","v":0}]
[{"$f":"DataBase!C935","v":0},{"$f":"DataBase!D935","v":0},{"$f":"DataBase!E935","v":0},{"$f":"DataBase!F935","v":0}]
[{"$f":"DataBase!C936","v":0},{"$f":"DataBase!D936","v":0},{"$f":"DataBase!E936","v":0},{"$f":"DataBase!F936","v":0}]
[{"$f":"DataBase!C937","v":0},{"$f":"DataBase!D937","v":0},{"$f":"DataBase!E937","v":0},{"$f":"DataBase!F937","v":0}]
[{"$f":"DataBase!C938","v":0},{"$f":"DataBase!D938","v":0},{"$f":"DataBase!E938","v":0},{"$f":"DataBase!F938","v":0}]
[{"$f":"DataBase!C939","v":0},{"$f":"DataBase!D939","v":0},{"$f":"DataBase!E939","v":0},{"$f":"DataBase!F939","v":0}]
[{"$f":"DataBase!C940","v":0},{"$f":"DataBase!D940","v":0},{"$f":"DataBase!E940","v":0},{"$f":"DataBase!F940","v":0}]
[{"$f":"DataBase!C941","v":0},{"$f":"DataBase!D941","v":0},{"$f":"DataBase!E941","v":0},{"$f":"DataBase!F941","v":0}]
[{"$f":"DataBase!C942","v":0},{"$f":"DataBase!D942","v":0},{"$f":"DataBase!E942","v":0},{"$f":"DataBase!F942","v":0}]
[{"$f":"DataBase!C943","v":0},{"$f":"DataBase!D943","v":0},{"$f":"DataBase!E943","v":0},{"$f":"DataBase!F943","v":0}]
[{"$f":"DataBase!C944","v":0},{"$f":"DataBase!D944","v":0},{"$f":"DataBase!E944","v":0},{"$f":"DataBase!F944","v":0}]
[{"$f":"DataBase!C945","v":0},{"$f":"DataBase!D945","v":0},{"$f":"DataBase!E945","v":0},{"$f":"DataBase!F945","v":0}]
[{"$f":"DataBase!C946","v":0},{"$f":"DataBase!D946","v":0},{"$f":"DataBase!E946","v":0},{"$f":"DataBase!F946","v":0}]
[{"$f":"DataBase!C947","v":0},{"$f":"DataBase!D947","v":0},{"$f":"DataBase!E947","v":0},{"$f":"DataBase!F947","v":0}]
[{"$f":"DataBase!C948","v":0},{"$f":"DataBase!D948","v":0},{"$f":"DataBase!E948","v":0},{"$f":"DataBase!F948","v":0}]
[{"$f":"DataBase!C949","v":0},{"$f":"DataBase!D949","v":0},{"$f":"DataBase!E949","v":0},{"$f":"DataBase!F949","v":0}]
[{"$f":"DataBase!C950","v":0},{"$f":"DataBase!D950","v":0},{"$f":"DataBase!E950","v":0},{"$f":"DataBase!F950","v":0}]
[{"$f":"DataBase!C951","v":0},{"$f":"DataBase!D951","v":0},{"$f":"DataBase!E951","v":0},{"$f":"DataBase!F951","v":0}]
[{"$f":"DataBase!C952","v":0},{"$f":"DataBase!D952","v":0},{"$f":"DataBase!E952","v":0},{"$f":"DataBase!F952","v":0}]
[{"$f":"DataBase!C953","v":0},{"$f":"DataBase!D953","v":0},{"$f":"DataBase!E953","v":0},{"$f":"DataBase!F953","v":0}]
[{"$f":"DataBase!C954","v":0},{"$f":"DataBase!D954","v":0},{"$f":"DataBase!E954","v":0},{"$f":"DataBase!F954","v":0}]
[{"$f":"DataBase!C955","v":0},{"$f":"DataBase!D955","v":0},{"$f":"DataBase!E955","v":0},{"$f":"DataBase!F955","v":0}]
[{"$f":"DataBase!C956","v":0},{"$f":"DataBase!D956","v":0},{"$f":"DataBase!E956","v":0},{"$f":"DataBase!F956","v":0}]
[{"$f":"DataBase!C957","v":0},{"$f":"DataBase!D957","v":0},{"$f":"DataBase!E957","v":0},{"$f":"DataBase!F957","v":0}]
[{"$f":"DataBase!C958","v":0},{"$f":"DataBase!D958","v":0},{"$f":"DataBase!E958","v":0},{"$f":"DataBase!F958","v":0}]
[{"$f":"DataBase!C959","v":0},{"$f":"DataBase!D959","v":0},{"$f":"DataBase!E959","v":0},{"$f":"DataBase!F959","v":0}]
[{"$f":"DataBase!C960","v":0},{"$f":"DataBase!D960","v":0},{"$f":"DataBase!E960","v":0},{"$f":"DataBase!F960","v":0}]
[{"$f":"DataBase!C961","v":0},{"$f":"DataBase!D961","v":0},{"$f":"DataBase!E961","v":0},{"$f":"DataBase!F961","v":0}]
[{"$f":"DataBase!C962","v":0},{"$f":"DataBase!D962","v":0},{"$f":"DataBase!E962","v":0},{"$f":"DataBase!F962","v":0}]
[{"$f":"DataBase!C963","v":0},{"$f":"DataBase!D963","v":0},{"$f":"DataBase!E963","v":0},{"$f":"DataBase!F963","v":0}]
[{"$f":"DataBase!C964","v":0},{"$f":"DataBase!D964","v":0},{"$f":"DataBase!E964","v":0},{"$f":"DataBase!F964","v":0}]
[{"$f":"DataBase!C965","v":0},{"$f":"DataBase!D965","v":0},{"$f":"DataBase!E965","v":0},{"$f":"DataBase!F965","v":0}]
[{"$f":"DataBase!C966","v":0},{"$f":"DataBase!D966","v":0},{"$f":"DataBase!E966","v":0},{"$f":"DataBase!F966","v":0}]
[{"$f":"DataBase!C967","v":0},{"$f":"DataBase!D967","v":0},{"$f":"DataBase!E967","v":0},{"$f":"DataBase!F967","v":0}]
[{"$f":"DataBase!C968","v":0},{"$f":"DataBase!D968","v":0},{"$f":"DataBase!E968","v":0},{"$f":"DataBase!F968","v":0}]
[{"$f":"DataBase!C969","v":0},{"$f":"DataBase!D969","v":0},{"$f":"DataBase!E969","v":0},{"$f":"DataBase!F969","v":0}]
[{"$f":"DataBase!C970","v":0},{"$f":"DataBase!D970","v":0},{"$f":"DataBase!E970","v":0},{"$f":"DataBase!F970","v":0}]
[{"$f":"DataBase!C971","v":0},{"$f":"DataBase!D971","v":0},{"$f":"DataBase!E971","v":0},{"$f":"DataBase!F971","v":0}]
[{"$f":"DataBase!C972","v":0},{"$f":"DataBase!D972","v":0},{"$f":"DataBase!E972","v":0},{"$f":"DataBase!F972","v":0}]
[{"$f":"DataBase!C973","v":0},{"$f":"DataBase!D973","v":0},{"$f":"DataBase!E973","v":0},{"$f":"DataBase!F973","v":0}]
[{"$f":"DataBase!C974","v":0},{"$f":"DataBase!D974","v":0},{"$f":"DataBase!E974","v":0},{"$f":"DataBase!F974","v":0}]
[{"$f":"DataBase!C975","v":0},{"$f":"DataBase!D975","v":0},{"$f":"DataBase!E975","v":0},{"$f":"DataBase!F975","v":0}]
[{"$f":"DataBase!C976","v":0},{"$f":"DataBase!D976","v":0},{"$f":"DataBase!E976","v":0},{"$f":"DataBase!F976","v":0}]
[{"$f":"DataBase!C977","v":0},{"$f":"DataBase!D977","v":0},{"$f":"DataBase!E977","v":0},{"$f":"DataBase!F977","v":0}]
[{"$f":"DataBase!C978","v":0},{"$f":"DataBase!D978","v":0},{"$f":"DataBase!E978","v":0},{"$f":"DataBase!F978","v":0}]
[{"$f":"DataBase!C979","v":0},{"$f":"DataBase!D979","v":0},{"$f":"DataBase!E979","v":0},{"$f":"DataBase!F979","v":0}]
[{"$f":"DataBase!C980","v":0},{"$f":"DataBase!D980","v":0},{"$f":"DataBase!E980","v":0},{"$f":"DataBase!F980","v":0}]
[{"$f":"DataBase!C981","v":0},{"$f":"DataBase!D981","v":0},{"$f":"DataBase!E981","v":0},{"$f":"DataBase!F981","v":0}]
[{"$f":"DataBase!C982","v":0},{"$f":"DataBase!D982","v":0},{"$f":"DataBase!E982","v":0},{"$f":"DataBase!F982","v":0}]
[{"$f":"DataBase!C983","v":0},{"$f":"DataBase!D983","v":0},{"$f":"DataBase!E983","v":0},{"$f":"DataBase!F983","v":0}]
[{"$f":"DataBase!C984","v":0},{"$f":"DataBase!D984","v":0},{"$f":"DataBase!E984","v":0},{"$f":"DataBase!F984","v":0}]
[{"$f":"DataBase!C985","v":0},{"$f":"DataBase!D985","v":0},{"$f":"DataBase!E985","v":0},{"$f":"DataBase!F985","v":0}]
[{"$f":"DataBase!C986","v":0},{"$f":"DataBase!D986","v":0},{"$f":"DataBase!E986","v":0},{"$f":"DataBase!F986","v":0}]
[{"$f":"DataBase!C987","v":0},{"$f":"DataBase!D987","v":0},{"$f":"DataBase!E987","v":0},{"$f":"DataBase!F987","v":0}]
[{"$f":"DataBase!C988","v":0},{"$f":"DataBase!D988","v":0},{"$f":"DataBase!E988","v":0},{"$f":"DataBase!F988","v":0}]
[{"$f":"DataBase!C989","v":0},{"$f":"DataBase!D989","v":0},{"$f":"DataBase!E989","v":0},{"$f":"DataBase!F989","v":0}]
[{"$f":"DataBase!C990","v":0},{"$f":"DataBase!D990","v":0},{"$f":"DataBase!E990","v":0},{"$f":"DataBase!F990","v":0}]
[{"$f":"DataBase!C991","v":0},{"$f":"DataBase!D991","v":0},{"$f":"DataBase!E991","v":0},{"$f":"DataBase!F991","v":0}]
[{"$f":"DataBase!C992","v":0},{"$f":"DataBase!D992","v":0},{"$f":"DataBase!E992","v":0},{"$f":"DataBase!F992","v":0}]
[{"$f":"DataBase!C993","v":0},{"$f":"DataBase!D993","v":0},{"$f":"DataBase!E993","v":0},{"$f":"DataBase!F993","v":0}]
[{"$f":"DataBase!C994","v":0},{"$f":"DataBase!D994","v":0},{"$f":"DataBase!E994","v":0},{"$f":"DataBase!F994","v":0}]
[{"$f":"DataBase!C995","v":0},{"$f":"DataBase!D995","v":0},{"$f":"DataBase!E995","v":0},{"$f":"DataBase!F995","v":0}]
[{"$f":"DataBase!C996","v":0},{"$f":"DataBase!D996","v":0},{"$f":"DataBase!E996","v":0},{"$f":"DataBase!F996","v":0}]
[{"$f":"DataBase!C997","v":0},{"$f":"DataBase!D997","v":0},{"$f":"DataBase!E997","v":0},{"$f":"DataBase!F997","v":0}]
[{"$f":"DataBase!C998","v":0},{"$f":"DataBase!D998","v":0},{"$f":"DataBase!E998","v":0},{"$f":"DataBase!F998","v":0}]
[{"$f":"DataBase!C999","v":0},{"$f":"DataBase!D999","v":0},{"$f":"DataBase!E999","v":0},{"$f":"DataBase!F999","v":0}]
[{"$f":"DataBase!C1000","v":0},{"$f":"DataBase!D1000","v":0},{"$f":"DataBase!E1000","v":0},{"$f":"DataBase!F1000","v":0}]
[{"$f":"DataBase!C1001","v":0},{"$f":"DataBase!D1001","v":0},{"$f":"DataBase!E1001","v":0},{"$f":"DataBase!F1001","v":0}]
[{"$f":"DataBase!C1002","v":0},{"$f":"DataBase!D1002","v":0},{"$f":"DataBase!E1002","v":0},{"$f":"DataBase!F1002","v":0}]
[{"$f":"DataBase!C1003","v":0},{"$f":"DataBase!D1003","v":0},{"$f":"DataBase!E1003","v":0},{"$f":"DataBase!F1003","v":0}]
[{"$f":"DataBase!C1004","v":0},{"$f":"DataBase!D1004","v":0},{"$f":"DataBase!E1004","v":0},{"$f":"DataBase!F1004","v":0}]
[{"$f":"DataBase!C1005","v":0},{"$f":"DataBase!D1005","v":0},{"$f":"DataBase!E1005","v":0},{"$f":"DataBase!F1005","v":0}]
[{"$f":"DataBase!C1006","v":0},{"$f":"DataBase!D1006","v":0},{"$f":"DataBase!E1006","v":0},{"$f":"DataBase!F1006","v":0}]
[{"$f":"DataBase!C1007","v":0},{"$f":"DataBase!D1007","v":0},{"$f":"DataBase!E1007","v":0},{"$f":"DataBase!F1007","v":0}]
[{"$f":"DataBase!C1008","v":0},{"$f":"DataBase!D1008","v":0},{"$f":"DataBase!E1008","v":0},{"$f":"DataBase!F1008","v":0}]
[{"$f":"DataBase!C1009","v":0},{"$f":"DataBase!D1009","v":0},{"$f":"DataBase!E1009","v":0},{"$f":"DataBase!F1009","v":0}]
[{"$f":"DataBase!C1010","v":0},{"$f":"DataBase!D1010","v":0},{"$f":"DataBase!E1010","v":0},{"$f":"DataBase!F1010","v":0}]
[{"$f":"DataBase!C1011","v":0},{"$f":"DataBase!D1011","v":0},{"$f":"DataBase!E1011","v":0},{"$f":"DataBase!F1011","v":0}]
[{"$f":"DataBase!C1012","v":0},{"$f":"DataBase!D1012","v":0},{"$f":"DataBase!E1012","v":0},{"$f":"DataBase!F1012","v":0}]
[{"$f":"DataBase!C1013","v":0},{"$f":"DataBase!D1013","v":0},{"$f":"DataBase!E1013","v":0},{"$f":"DataBase!F1013","v":0}]
[{"$f":"DataBase!C1014","v":0},{"$f":"DataBase!D1014","v":0},{"$f":"DataBase!E1014","v":0},{"$f":"DataBase!F1014","v":0}]
[{"$f":"DataBase!C1015","v":0},{"$f":"DataBase!D1015","v":0},{"$f":"DataBase!E1015","v":0},{"$f":"DataBase!F1015","v":0}]
[{"$f":"DataBase!C1016","v":0},{"$f":"DataBase!D1016","v":0},{"$f":"DataBase!E1016","v":0},{"$f":"DataBase!F1016","v":0}]
[{"$f":"DataBase!C1017","v":0},{"$f":"DataBase!D1017","v":0},{"$f":"DataBase!E1017","v":0},{"$f":"DataBase!F1017","v":0}]
[{"$f":"DataBase!C1018","v":0},{"$f":"DataBase!D1018","v":0},{"$f":"DataBase!E1018","v":0},{"$f":"DataBase!F1018","v":0}]
[{"$f":"DataBase!C1019","v":0},{"$f":"DataBase!D1019","v":0},{"$f":"DataBase!E1019","v":0},{"$f":"DataBase!F1019","v":0}]
[{"$f":"DataBase!C1020","v":0},{"$f":"DataBase!D1020","v":0},{"$f":"DataBase!E1020","v":0},{"$f":"DataBase!F1020","v":0}]
[{"$f":"DataBase!C1021","v":0},{"$f":"DataBase!D1021","v":0},{"$f":"DataBase!E1021","v":0},{"$f":"DataBase!F1021","v":0}]
[{"$f":"DataBase!C1022","v":0},{"$f":"DataBase!D1022","v":0},{"$f":"DataBase!E1022","v":0},{"$f":"DataBase!F1022","v":0}]
[{"$f":"DataBase!C1023","v":0},{"$f":"DataBase!D1023","v":0},{"$f":"DataBase!E1023","v":0},{"$f":"DataBase!F1023","v":0}]
[{"$f":"DataBase!C1024","v":0},{"$f":"DataBase!D1024","v":0},{"$f":"DataBase!E1024","v":0},{"$f":"DataBase!F1024","v":0}]
[{"$f":"DataBase!C1025","v":0},{"$f":"DataBase!D1025","v":0},{"$f":"DataBase!E1025","v":0},{"$f":"DataBase!F1025","v":0}]
[{"$f":"DataBase!C1026","v":0},{"$f":"DataBase!D1026","v":0},{"$f":"DataBase!E1026","v":0},{"$f":"DataBase!F1026","v":0}]
[{"$f":"DataBase!C1027","v":0},{"$f":"DataBase!D1027","v":0},{"$f":"DataBase!E1027","v":0},{"$f":"DataBase!F1027","v":0}]
[{"$f":"DataBase!C1028","v":0},{"$f":"DataBase!D1028","v":0},{"$f":"DataBase!E1028","v":0},{"$f":"DataBase!F1028","v":0}]
[{"$f":"DataBase!C1029","v":0},{"$f":"DataBase!D1029","v":0},{"$f":"DataBase!E1029","v":0},{"$f":"DataBase!F1029","v":0}]
[{"$f":"DataBase!C1030","v":0},{"$f":"DataBase!D1030","v":0},{"$f":"DataBase!E1030","v":0},{"$f":"DataBase!F1030","v":0}]
[{"$f":"DataBase!C1031","v":0},{"$f":"DataBase!D1031","v":0},{"$f":"DataBase!E1031","v":0},{"$f":"DataBase!F1031","v":0}]
[{"$f":"DataBase!C1032","v":0},{"$f":"DataBase!D1032","v":0},{"$f":"DataBase!E1032","v":0},{"$f":"DataBase!F1032","v":0}]
[{"$f":"DataBase!C1033","v":0},{"$f":"DataBase!D1033","v":0},{"$f":"DataBase!E1033","v":0},{"$f":"DataBase!F1033","v":0}]
[{"$f":"DataBase!C1034","v":0},{"$f":"DataBase!D1034","v":0},{"$f":"DataBase!E1034","v":0},{"$f":"DataBase!F1034","v":0}]
[{"$f":"DataBase!C1035","v":0},{"$f":"DataBase!D1035","v":0},{"$f":"DataBase!E1035","v":0},{"$f":"DataBase!F1035","v":0}]
[{"$f":"DataBase!C1036","v":0},{"$f":"DataBase!D1036","v":0},{"$f":"DataBase!E1036","v":0},{"$f":"DataBase!F1036","v":0}]
[{"$f":"DataBase!C1037","v":0},{"$f":"DataBase!D1037","v":0},{"$f":"DataBase!E1037","v":0},{"$f":"DataBase!F1037","v":0}]
[{"$f":"DataBase!C1038","v":0},{"$f":"DataBase!D1038","v":0},{"$f":"DataBase!E1038","v":0},{"$f":"DataBase!F1038","v":0}]
[{"$f":"DataBase!C1039","v":0},{"$f":"DataBase!D1039","v":0},{"$f":"DataBase!E1039","v":0},{"$f":"DataBase!F1039","v":0}]
[{"$f":"DataBase!C1040","v":0},{"$f":"DataBase!D1040","v":0},{"$f":"DataBase!E1040","v":0},{"$f":"DataBase!F1040","v":0}]
[{"$f":"DataBase!C1041","v":0},{"$f":"DataBase!D1041","v":0},{"$f":"DataBase!E1041","v":0},{"$f":"DataBase!F1041","v":0}]
[{"$f":"DataBase!C1042","v":0},{"$f":"DataBase!D1042","v":0},{"$f":"DataBase!E1042","v":0},{"$f":"DataBase!F1042","v":0}]
[{"$f":"DataBase!C1043","v":0},{"$f":"DataBase!D1043","v":0},{"$f":"DataBase!E1043","v":0},{"$f":"DataBase!F1043","v":0}]
[{"$f":"DataBase!C1044","v":0},{"$f":"DataBase!D1044","v":0},{"$f":"DataBase!E1044","v":0},{"$f":"DataBase!F1044","v":0}]
[{"$f":"DataBase!C1045","v":0},{"$f":"DataBase!D1045","v":0},{"$f":"DataBase!E1045","v":0},{"$f":"DataBase!F1045","v":0}]
[{"$f":"DataBase!C1046","v":0},{"$f":"DataBase!D1046","v":0},{"$f":"DataBase!E1046","v":0},{"$f":"DataBase!F1046","v":0}]
[{"$f":"DataBase!C1047","v":0},{"$f":"DataBase!D1047","v":0},{"$f":"DataBase!E1047","v":0},{"$f":"DataBase!F1047","v":0}]
[{"$f":"DataBase!C1048","v":0},{"$f":"DataBase!D1048","v":0},{"$f":"DataBase!E1048","v":0},{"$f":"DataBase!F1048","v":0}]
[{"$f":"DataBase!C1049","v":0},{"$f":"DataBase!D1049","v":0},{"$f":"DataBase!E1049","v":0},{"$f":"DataBase!F1049","v":0}]
[{"$f":"DataBase!C1050","v":0},{"$f":"DataBase!D1050","v":0},{"$f":"DataBase!E1050","v":0},{"$f":"DataBase!F1050","v":0}]
[{"$f":"DataBase!C1051","v":0},{"$f":"DataBase!D1051","v":0},{"$f":"DataBase!E1051","v":0},{"$f":"DataBase!F1051","v":0}]
[{"$f":"DataBase!C1052","v":0},{"$f":"DataBase!D1052","v":0},{"$f":"DataBase!E1052","v":0},{"$f":"DataBase!F1052","v":0}]
[{"$f":"DataBase!C1053","v":0},{"$f":"DataBase!D1053","v":0},{"$f":"DataBase!E1053","v":0},{"$f":"DataBase!F1053","v":0}]
[{"$f":"DataBase!C1054","v":0},{"$f":"DataBase!D1054","v":0},{"$f":"DataBase!E1054","v":0},{"$f":"DataBase!F1054","v":0}]
[{"$f":"DataBase!C1055","v":0},{"$f":"DataBase!D1055","v":0},{"$f":"DataBase!E1055","v":0},{"$f":"DataBase!F1055","v":0}]
[{"$f":"DataBase!C1056","v":0},{"$f":"DataBase!D1056","v":0},{"$f":"DataBase!E1056","v":0},{"$f":"DataBase!F1056","v":0}]
[{"$f":"DataBase!C1057","v":0},{"$f":"DataBase!D1057","v":0},{"$f":"DataBase!E1057","v":0},{"$f":"DataBase!F1057","v":0}]
[{"$f":"DataBase!C1058","v":0},{"$f":"DataBase!D1058","v":0},{"$f":"DataBase!E1058","v":0},{"$f":"DataBase!F1058","v":0}]
[{"$f":"DataBase!C1059","v":0},{"$f":"DataBase!D1059","v":0},{"$f":"DataBase!E1059","v":0},{"$f":"DataBase!F1059","v":0}]
[{"$f":"DataBase!C1060","v":0},{"$f":"DataBase!D1060","v":0},{"$f":"DataBase!E1060","v":0},{"$f":"DataBase!F1060","v":0}]
[{"$f":"DataBase!C1061","v":0},{"$f":"DataBase!D1061","v":0},{"$f":"DataBase!E1061","v":0},{"$f":"DataBase!F1061","v":0}]
[{"$f":"DataBase!C1062","v":0},{"$f":"DataBase!D1062","v":0},{"$f":"DataBase!E1062","v":0},{"$f":"DataBase!F1062","v":0}]
[{"$f":"DataBase!C1063","v":0},{"$f":"DataBase!D1063","v":0},{"$f":"DataBase!E1063","v":0},{"$f":"DataBase!F1063","v":0}]
[{"$f":"DataBase!C1064","v":0},{"$f":"DataBase!D1064","v":0},{"$f":"DataBase!E1064","v":0},{"$f":"DataBase!F1064","v":0}]
[{"$f":"DataBase!C1065","v":0},{"$f":"DataBase!D1065","v":0},{"$f":"DataBase!E1065","v":0},{"$f":"DataBase!F1065","v":0}]
[{"$f":"DataBase!C1066","v":0},{"$f":"DataBase!D1066","v":0},{"$f":"DataBase!E1066","v":0},{"$f":"DataBase!F1066","v":0}]
[{"$f":"DataBase!C1067","v":0},{"$f":"DataBase!D1067","v":0},{"$f":"DataBase!E1067","v":0},{"$f":"DataBase!F1067","v":0}]
[{"$f":"DataBase!C1068","v":0},{"$f":"DataBase!D1068","v":0},{"$f":"DataBase!E1068","v":0},{"$f":"DataBase!F1068","v":0}]
[{"$f":"DataBase!C1069","v":0},{"$f":"DataBase!D1069","v":0},{"$f":"DataBase!E1069","v":0},{"$f":"DataBase!F1069","v":0}]
[{"$f":"DataBase!C1070","v":0},{"$f":"DataBase!D1070","v":0},{"$f":"DataBase!E1070","v":0},{"$f":"DataBase!F1070","v":0}]
[{"$f":"DataBase!C1071","v":0},{"$f":"DataBase!D1071","v":0},{"$f":"DataBase!E1071","v":0},{"$f":"DataBase!F1071","v":0}]
[{"$f":"DataBase!C1072","v":0},{"$f":"DataBase!D1072","v":0},{"$f":"DataBase!E1072","v":0},{"$f":"DataBase!F1072","v":0}]
[{"$f":"DataBase!C1073","v":0},{"$f":"DataBase!D1073","v":0},{"$f":"DataBase!E1073","v":0},{"$f":"DataBase!F1073","v":0}]
[{"$f":"DataBase!C1074","v":0},{"$f":"DataBase!D1074","v":0},{"$f":"DataBase!E1074","v":0},{"$f":"DataBase!F1074","v":0}]
[{"$f":"DataBase!C1075","v":0},{"$f":"DataBase!D1075","v":0},{"$f":"DataBase!E1075","v":0},{"$f":"DataBase!F1075","v":0}]
[{"$f":"DataBase!C1076","v":0},{"$f":"DataBase!D1076","v":0},{"$f":"DataBase!E1076","v":0},{"$f":"DataBase!F1076","v":0}]
[{"$f":"DataBase!C1077","v":0},{"$f":"DataBase!D1077","v":0},{"$f":"DataBase!E1077","v":0},{"$f":"DataBase!F1077","v":0}]
[{"$f":"DataBase!C1078","v":0},{"$f":"DataBase!D1078","v":0},{"$f":"DataBase!E1078","v":0},{"$f":"DataBase!F1078","v":0}]
[{"$f":"DataBase!C1079","v":0},{"$f":"DataBase!D1079","v":0},{"$f":"DataBase!E1079","v":0},{"$f":"DataBase!F1079","v":0}]
[{"$f":"DataBase!C1080","v":0},{"$f":"DataBase!D1080","v":0},{"$f":"DataBase!E1080","v":0},{"$f":"DataBase!F1080","v":0}]
[{"$f":"DataBase!C1081","v":0},{"$f":"DataBase!D1081","v":0},{"$f":"DataBase!E1081","v":0},{"$f":"DataBase!F1081","v":0}]
[{"$f":"DataBase!C1082","v":0},{"$f":"DataBase!D1082","v":0},{"$f":"DataBase!E1082","v":0},{"$f":"DataBase!F1082","v":0}]
[{"$f":"DataBase!C1083","v":0},{"$f":"DataBase!D1083","v":0},{"$f":"DataBase!E1083","v":0},{"$f":"DataBase!F1083","v":0}]
[{"$f":"DataBase!C1084","v":0},{"$f":"DataBase!D1084","v":0},{"$f":"DataBase!E1084","v":0},{"$f":"DataBase!F1084","v":0}]
[{"$f":"DataBase!C1085","v":0},{"$f":"DataBase!D1085","v":0},{"$f":"DataBase!E1085","v":0},{"$f":"DataBase!F1085","v":0}]
[{"$f":"DataBase!C1086","v":0},{"$f":"DataBase!D1086","v":0},{"$f":"DataBase!E1086","v":0},{"$f":"DataBase!F1086","v":0}]
[{"$f":"DataBase!C1087","v":0},{"$f":"DataBase!D1087","v":0},{"$f":"DataBase!E1087","v":0},{"$f":"DataBase!F1087","v":0}]
[{"$f":"DataBase!C1088","v":0},{"$f":"DataBase!D1088","v":0},{"$f":"DataBase!E1088","v":0},{"$f":"DataBase!F1088","v":0}]
[{"$f":"DataBase!C1089","v":0},{"$f":"DataBase!D1089","v":0},{"$f":"DataBase!E1089","v":0},{"$f":"DataBase!F1089","v":0}]
[{"$f":"DataBase!C1090","v":0},{"$f":"DataBase!D1090","v":0},{"$f":"DataBase!E1090","v":0},{"$f":"DataBase!F1090","v":0}]
[{"$f":"DataBase!C1091","v":0},{"$f":"DataBase!D1091","v":0},{"$f":"DataBase!E1091","v":0},{"$f":"DataBase!F1091","v":0}]
[{"$f":"DataBase!C1092","v":0},{"$f":"DataBase!D1092","v":0},{"$f":"DataBase!E1092","v":0},{"$f":"DataBase!F1092","v":0}]
[{"$f":"DataBase!C1093","v":0},{"$f":"DataBase!D1093","v":0},{"$f":"DataBase!E1093","v":0},{"$f":"DataBase!F1093","v":0}]
[{"$f":"DataBase!C1094","v":0},{"$f":"DataBase!D1094","v":0},{"$f":"DataBase!E1094","v":0},{"$f":"DataBase!F1094","v":0}]
[{"$f":"DataBase!C1095","v":0},{"$f":"DataBase!D1095","v":0},{"$f":"DataBase!E1095","v":0},{"$f":"DataBase!F1095","v":0}]
[{"$f":"DataBase!C1096","v":0},{"$f":"DataBase!D1096","v":0},{"$f":"DataBase!E1096","v":0},{"$f":"DataBase!F1096","v":0}]
[{"$f":"DataBase!C1097","v":0},{"$f":"DataBase!D1097","v":0},{"$f":"DataBase!E1097","v":0},{"$f":"DataBase!F1097","v":0}]
[{"$f":"DataBase!C1098","v":0},{"$f":"DataBase!D1098","v":0},{"$f":"DataBase!E1098","v":0},{"$f":"DataBase!F1098","v":0}]
[{"$f":"DataBase!C1099","v":0},{"$f":"DataBase!D1099","v":0},{"$f":"DataBase!E1099","v":0},{"$f":"DataBase!F1099","v":0}]
[{"$f":"DataBase!C1100","v":0},{"$f":"DataBase!D1100","v":0},{"$f":"DataBase!E1100","v":0},{"$f":"DataBase!F1100","v":0}]
[{"$f":"DataBase!C1101","v":0},{"$f":"DataBase!D1101","v":0},{"$f":"DataBase!E1101","v":0},{"$f":"DataBase!F1101","v":0}]
[{"$f":"DataBase!C1102","v":0},{"$f":"DataBase!D1102","v":0},{"$f":"DataBase!E1102","v":0},{"$f":"DataBase!F1102","v":0}]
[{"$f":"DataBase!C1103","v":0},{"$f":"DataBase!D1103","v":0},{"$f":"DataBase!E1103","v":0},{"$f":"DataBase!F1103","v":0}]
[{"$f":"DataBase!C1104","v":0},{"$f":"DataBase!D1104","v":0},{"$f":"DataBase!E1104","v":0},{"$f":"DataBase!F1104","v":0}]
[{"$f":"DataBase!C1105","v":0},{"$f":"DataBase!D1105","v":0},{"$f":"DataBase!E1105","v":0},{"$f":"DataBase!F1105","v":0}]
[{"$f":"DataBase!C1106","v":0},{"$f":"DataBase!D1106","v":0},{"$f":"DataBase!E1106","v":0},{"$f":"DataBase!F1106","v":0}]
[{"$f":"DataBase!C1107","v":0},{"$f":"DataBase!D1107","v":0},{"$f":"DataBase!E1107","v":0},{"$f":"DataBase!F1107","v":0}]
[{"$f":"DataBase!C1108","v":0},{"$f":"DataBase!D1108","v":0},{"$f":"DataBase!E1108","v":0},{"$f":"DataBase!F1108","v":0}]
[{"$f":"DataBase!C1109","v":0},{"$f":"DataBase!D1109","v":0},{"$f":"DataBase!E1109","v":0},{"$f":"DataBase!F1109","v":0}]
[{"$f":"DataBase!C1110","v":0},{"$f":"DataBase!D1110","v":0},{"$f":"DataBase!E1110","v":0},{"$f":"DataBase!F1110","v":0}]
[{"$f":"DataBase!C1111","v":0},{"$f":"DataBase!D1111","v":0},{"$f":"DataBase!E1111","v":0},{"$f":"DataBase!F1111","v":0}]
[{"$f":"DataBase!C1112","v":0},{"$f":"DataBase!D1112","v":0},{"$f":"DataBase!E1112","v":0},{"$f":"DataBase!F1112","v":0}]
[{"$f":"DataBase!C1113","v":0},{"$f":"DataBase!D1113","v":0},{"$f":"DataBase!E1113","v":0},{"$f":"DataBase!F1113","v":0}]
[{"$f":"DataBase!C1114","v":0},{"$f":"DataBase!D1114","v":0},{"$f":"DataBase!E1114","v":0},{"$f":"DataBase!F1114","v":0}]
[{"$f":"DataBase!C1115","v":0},{"$f":"DataBase!D1115","v":0},{"$f":"DataBase!E1115","v":0},{"$f":"DataBase!F1115","v":0}]
[{"$f":"DataBase!C1116","v":0},{"$f":"DataBase!D1116","v":0},{"$f":"DataBase!E1116","v":0},{"$f":"DataBase!F1116","v":0}]
[{"$f":"DataBase!C1117","v":0},{"$f":"DataBase!D1117","v":0},{"$f":"DataBase!E1117","v":0},{"$f":"DataBase!F1117","v":0}]
[{"$f":"DataBase!C1118","v":0},{"$f":"DataBase!D1118","v":0},{"$f":"DataBase!E1118","v":0},{"$f":"DataBase!F1118","v":0}]
[{"$f":"DataBase!C1119","v":0},{"$f":"DataBase!D1119","v":0},{"$f":"DataBase!E1119","v":0},{"$f":"DataBase!F1119","v":0}]
[{"$f":"DataBase!C1120","v":0},{"$f":"DataBase!D1120","v":0},{"$f":"DataBase!E1120","v":0},{"$f":"DataBase!F1120","v":0}]
[{"$f":"DataBase!C1121","v":0},{"$f":"DataBase!D1121","v":0},{"$f":"DataBase!E1121","v":0},{"$f":"DataBase!F1121","v":0}]
[{"$f":"DataBase!C1122","v":0},{"$f":"DataBase!D1122","v":0},{"$f":"DataBase!E1122","v":0},{"$f":"DataBase!F1122","v":0}]
[{"$f":"DataBase!C1123","v":0},{"$f":"DataBase!D1123","v":0},{"$f":"DataBase!E1123","v":0},{"$f":"DataBase!F1123","v":0}]
[{"$f":"DataBase!C1124","v":0},{"$f":"DataBase!D1124","v":0},{"$f":"DataBase!E1124","v":0},{"$f":"DataBase!F1124","v":0}]
[{"$f":"DataBase!C1125","v":0},{"$f":"DataBase!D1125","v":0},{"$f":"DataBase!E1125","v":0},{"$f":"DataBase!F1125","v":0}]
[{"$f":"DataBase!C1126","v":0},{"$f":"DataBase!D1126","v":0},{"$f":"DataBase!E1126","v":0},{"$f":"DataBase!F1126","v":0}]
[{"$f":"DataBase!C1127","v":0},{"$f":"DataBase!D1127","v":0},{"$f":"DataBase!E1127","v":0},{"$f":"DataBase!F1127","v":0}]
[{"$f":"DataBase!C1128","v":0},{"$f":"DataBase!D1128","v":0},{"$f":"DataBase!E1128","v":0},{"$f":"DataBase!F1128","v":0}]
[{"$f":"DataBase!C1129","v":0},{"$f":"DataBase!D1129","v":0},{"$f":"DataBase!E1129","v":0},{"$f":"DataBase!F1129","v":0}]
[{"$f":"DataBase!C1130","v":0},{"$f":"DataBase!D1130","v":0},{"$f":"DataBase!E1130","v":0},{"$f":"DataBase!F1130","v":0}]
[{"$f":"DataBase!C1131","v":0},{"$f":"DataBase!D1131","v":0},{"$f":"DataBase!E1131","v":0},{"$f":"DataBase!F1131","v":0}]
[{"$f":"DataBase!C1132","v":0},{"$f":"DataBase!D1132","v":0},{"$f":"DataBase!E1132","v":0},{"$f":"DataBase!F1132","v":0}]
[{"$f":"DataBase!C1133","v":0},{"$f":"DataBase!D1133","v":0},{"$f":"DataBase!E1133","v":0},{"$f":"DataBase!F1133","v":0}]
[{"$f":"DataBase!C1134","v":0},{"$f":"DataBase!D1134","v":0},{"$f":"DataBase!E1134","v":0},{"$f":"DataBase!F1134","v":0}]
[{"$f":"DataBase!C1135","v":0},{"$f":"DataBase!D1135","v":0},{"$f":"DataBase!E1135","v":0},{"$f":"DataBase!F1135","v":0}]
[{"$f":"DataBase!C1136","v":0},{"$f":"DataBase!D1136","v":0},{"$f":"DataBase!E1136","v":0},{"$f":"DataBase!F1136","v":0}]
[{"$f":"DataBase!C1137","v":0},{"$f":"DataBase!D1137","v":0},{"$f":"DataBase!E1137","v":0},{"$f":"DataBase!F1137","v":0}]
[{"$f":"DataBase!C1138","v":0},{"$f":"DataBase!D1138","v":0},{"$f":"DataBase!E1138","v":0},{"$f":"DataBase!F1138","v":0}]
[{"$f":"DataBase!C1139","v":0},{"$f":"DataBase!D1139","v":0},{"$f":"DataBase!E1139","v":0},{"$f":"DataBase!F1139","v":0}]
[{"$f":"DataBase!C1140","v":0},{"$f":"DataBase!D1140","v":0},{"$f":"DataBase!E1140","v":0},{"$f":"DataBase!F1140","v":0}]
[{"$f":"DataBase!C1141","v":0},{"$f":"DataBase!D1141","v":0},{"$f":"DataBase!E1141","v":0},{"$f":"DataBase!F1141","v":0}]
[{"$f":"DataBase!C1142","v":0},{"$f":"DataBase!D1142","v":0},{"$f":"DataBase!E1142","v":0},{"$f":"DataBase!F1142","v":0}]
[{"$f":"DataBase!C1143","v":0},{"$f":"DataBase!D1143","v":0},{"$f":"DataBase!E1143","v":0},{"$f":"DataBase!F1143","v":0}]
[{"$f":"DataBase!C1144","v":0},{"$f":"DataBase!D1144","v":0},{"$f":"DataBase!E1144","v":0},{"$f":"DataBase!F1144","v":0}]
[{"$f":"DataBase!C1145","v":0},{"$f":"DataBase!D1145","v":0},{"$f":"DataBase!E1145","v":0},{"$f":"DataBase!F1145","v":0}]
[{"$f":"DataBase!C1146","v":0},{"$f":"DataBase!D1146","v":0},{"$f":"DataBase!E1146","v":0},{"$f":"DataBase!F1146","v":0}]
[{"$f":"DataBase!C1147","v":0},{"$f":"DataBase!D1147","v":0},{"$f":"DataBase!E1147","v":0},{"$f":"DataBase!F1147","v":0}]
[{"$f":"DataBase!C1148","v":0},{"$f":"DataBase!D1148","v":0},{"$f":"DataBase!E1148","v":0},{"$f":"DataBase!F1148","v":0}]
[{"$f":"DataBase!C1149","v":0},{"$f":"DataBase!D1149","v":0},{"$f":"DataBase!E1149","v":0},{"$f":"DataBase!F1149","v":0}]
[{"$f":"DataBase!C1150","v":0},{"$f":"DataBase!D1150","v":0},{"$f":"DataBase!E1150","v":0},{"$f":"DataBase!F1150","v":0}]
[{"$f":"DataBase!C1151","v":0},{"$f":"DataBase!D1151","v":0},{"$f":"DataBase!E1151","v":0},{"$f":"DataBase!F1151","v":0}]
[{"$f":"DataBase!C1152","v":0},{"$f":"DataBase!D1152","v":0},{"$f":"DataBase!E1152","v":0},{"$f":"DataBase!F1152","v":0}]
[{"$f":"DataBase!C1153","v":0},{"$f":"DataBase!D1153","v":0},{"$f":"DataBase!E1153","v":0},{"$f":"DataBase!F1153","v":0}]
[{"$f":"DataBase!C1154","v":0},{"$f":"DataBase!D1154","v":0},{"$f":"DataBase!E1154","v":0},{"$f":"DataBase!F1154","v":0}]
[{"$f":"DataBase!C1155","v":0},{"$f":"DataBase!D1155","v":0},{"$f":"DataBase!E1155","v":0},{"$f":"DataBase!F1155","v":0}]
[{"$f":"DataBase!C1156","v":0},{"$f":"DataBase!D1156","v":0},{"$f":"DataBase!E1156","v":0},{"$f":"DataBase!F1156","v":0}]
[{"$f":"DataBase!C1157","v":0},{"$f":"DataBase!D1157","v":0},{"$f":"DataBase!E1157","v":0},{"$f":"DataBase!F1157","v":0}]
[{"$f":"DataBase!C1158","v":0},{"$f":"DataBase!D1158","v":0},{"$f":"DataBase!E1158","v":0},{"$f":"DataBase!F1158","v":0}]
[{"$f":"DataBase!C1159","v":0},{"$f":"DataBase!D1159","v":0},{"$f":"DataBase!E1159","v":0},{"$f":"DataBase!F1159","v":0}]
[{"$f":"DataBase!C1160","v":0},{"$f":"DataBase!D1160","v":0},{"$f":"DataBase!E1160","v":0},{"$f":"DataBase!F1160","v":0}]
[{"$f":"DataBase!C1161","v":0},{"$f":"DataBase!D1161","v":0},{"$f":"DataBase!E1161","v":0},{"$f":"DataBase!F1161","v":0}]
[{"$f":"DataBase!C1162","v":0},{"$f":"DataBase!D1162","v":0},{"$f":"DataBase!E1162","v":0},{"$f":"DataBase!F1162","v":0}]
[{"$f":"DataBase!C1163","v":0},{"$f":"DataBase!D1163","v":0},{"$f":"DataBase!E1163","v":0},{"$f":"DataBase!F1163","v":0}]
[{"$f":"DataBase!C1164","v":0},{"$f":"DataBase!D1164","v":0},{"$f":"DataBase!E1164","v":0},{"$f":"DataBase!F1164","v":0}]
[{"$f":"DataBase!C1165","v":0},{"$f":"DataBase!D1165","v":0},{"$f":"DataBase!E1165","v":0},{"$f":"DataBase!F1165","v":0}]
[{"$f":"DataBase!C1166","v":0},{"$f":"DataBase!D1166","v":0},{"$f":"DataBase!E1166","v":0},{"$f":"DataBase!F1166","v":0}]
[{"$f":"DataBase!C1167","v":0},{"$f":"DataBase!D1167","v":0},{"$f":"DataBase!E1167","v":0},{"$f":"DataBase!F1167","v":0}]
[{"$f":"DataBase!C1168","v":0},{"$f":"DataBase!D1168","v":0},{"$f":"DataBase!E1168","v":0},{"$f":"DataBase!F1168","v":0}]
[{"$f":"DataBase!C1169","v":0},{"$f":"DataBase!D1169","v":0},{"$f":"DataBase!E1169","v":0},{"$f":"DataBase!F1169","v":0}]
[{"$f":"DataBase!C1170","v":0},{"$f":"DataBase!D1170","v":0},{"$f":"DataBase!E1170","v":0},{"$f":"DataBase!F1170","v":0}]
[{"$f":"DataBase!C1171","v":0},{"$f":"DataBase!D1171","v":0},{"$f":"DataBase!E1171","v":0},{"$f":"DataBase!F1171","v":0}]
[{"$f":"DataBase!C1172","v":0},{"$f":"DataBase!D1172","v":0},{"$f":"DataBase!E1172","v":0},{"$f":"DataBase!F1172","v":0}]
[{"$f":"DataBase!C1173","v":0},{"$f":"DataBase!D1173","v":0},{"$f":"DataBase!E1173","v":0},{"$f":"DataBase!F1173","v":0}]
[{"$f":"DataBase!C1174","v":0},{"$f":"DataBase!D1174","v":0},{"$f":"DataBase!E1174","v":0},{"$f":"DataBase!F1174","v":0}]
[{"$f":"DataBase!C1175","v":0},{"$f":"DataBase!D1175","v":0},{"$f":"DataBase!E1175","v":0},{"$f":"DataBase!F1175","v":0}]
[{"$f":"DataBase!C1176","v":0},{"$f":"DataBase!D1176","v":0},{"$f":"DataBase!E1176","v":0},{"$f":"DataBase!F1176","v":0}]
[{"$f":"DataBase!C1177","v":0},{"$f":"DataBase!D1177","v":0},{"$f":"DataBase!E1177","v":0},{"$f":"DataBase!F1177","v":0}]
[{"$f":"DataBase!C1178","v":0},{"$f":"DataBase!D1178","v":0},{"$f":"DataBase!E1178","v":0},{"$f":"DataBase!F1178","v":0}]
[{"$f":"DataBase!C1179","v":0},{"$f":"DataBase!D1179","v":0},{"$f":"DataBase!E1179","v":0},{"$f":"DataBase!F1179","v":0}]
[{"$f":"DataBase!C1180","v":0},{"$f":"DataBase!D1180","v":0},{"$f":"DataBase!E1180","v":0},{"$f":"DataBase!F1180","v":0}]
[{"$f":"DataBase!C1181","v":0},{"$f":"DataBase!D1181","v":0},{"$f":"DataBase!E1181","v":0},{"$f":"DataBase!F1181","v":0}]
[{"$f":"DataBase!C1182","v":0},{"$f":"DataBase!D1182","v":0},{"$f":"DataBase!E1182","v":0},{"$f":"DataBase!F1182","v":0}]
[{"$f":"DataBase!C1183","v":0},{"$f":"DataBase!D1183","v":0},{"$f":"DataBase!E1183","v":0},{"$f":"DataBase!F1183","v":0}]
[{"$f":"DataBase!C1184","v":0},{"$f":"DataBase!D1184","v":0},{"$f":"DataBase!E1184","v":0},{"$f":"DataBase!F1184","v":0}]
[{"$f":"DataBase!C1185","v":0},{"$f":"DataBase!D1185","v":0},{"$f":"DataBase!E1185","v":0},{"$f":"DataBase!F1185","v":0}]
[{"$f":"DataBase!C1186","v":0},{"$f":"DataBase!D1186","v":0},{"$f":"DataBase!E1186","v":0},{"$f":"DataBase!F1186","v":0}]
[{"$f":"DataBase!C1187","v":0},{"$f":"DataBase!D1187","v":0},{"$f":"DataBase!E1187","v":0},{"$f":"DataBase!F1187","v":0}]
[{"$f":"DataBase!C1188","v":0},{"$f":"DataBase!D1188","v":0},{"$f":"DataBase!E1188","v":0},{"$f":"DataBase!F1188","v":0}]
[{"$f":"DataBase!C1189","v":0},{"$f":"DataBase!D1189","v":0},{"$f":"DataBase!E1189","v":0},{"$f":"DataBase!F1189","v":0}]
[{"$f":"DataBase!C1190","v":0},{"$f":"DataBase!D1190","v":0},{"$f":"DataBase!E1190","v":0},{"$f":"DataBase!F1190","v":0}]
[{"$f":"DataBase!C1191","v":0},{"$f":"DataBase!D1191","v":0},{"$f":"DataBase!E1191","v":0},{"$f":"DataBase!F1191","v":0}]
[{"$f":"DataBase!C1192","v":0},{"$f":"DataBase!D1192","v":0},{"$f":"DataBase!E1192","v":0},{"$f":"DataBase!F1192","v":0}]
[{"$f":"DataBase!C1193","v":0},{"$f":"DataBase!D1193","v":0},{"$f":"DataBase!E1193","v":0},{"$f":"DataBase!F1193","v":0}]
[{"$f":"DataBase!C1194","v":0},{"$f":"DataBase!D1194","v":0},{"$f":"DataBase!E1194","v":0},{"$f":"DataBase!F1194","v":0}]
[{"$f":"DataBase!C1195","v":0},{"$f":"DataBase!D1195","v":0},{"$f":"DataBase!E1195","v":0},{"$f":"DataBase!F1195","v":0}]
[{"$f":"DataBase!C1196","v":0},{"$f":"DataBase!D1196","v":0},{"$f":"DataBase!E1196","v":0},{"$f":"DataBase!F1196","v":0}]
[{"$f":"DataBase!C1197","v":0},{"$f":"DataBase!D1197","v":0},{"$f":"DataBase!E1197","v":0},{"$f":"DataBase!F1197","v":0}]
[{"$f":"DataBase!C1198","v":0},{"$f":"DataBase!D1198","v":0},{"$f":"DataBase!E1198","v":0},{"$f":"DataBase!F1198","v":0}]
[{"$f":"DataBase!C1199","v":0},{"$f":"DataBase!D1199","v":0},{"$f":"DataBase!E1199","v":0},{"$f":"DataBase!F1199","v":0}]
[{"$f":"DataBase!C1200","v":0},{"$f":"DataBase!D1200","v":0},{"$f":"DataBase!E1200","v":0},{"$f":"DataBase!F1200","v":0}]
[{"$f":"DataBase!C1201","v":0},{"$f":"DataBase!D1201","v":0},{"$f":"DataBase!E1201","v":0},{"$f":"DataBase!F1201","v":0}]
[{"$f":"DataBase!C1202","v":0},{"$f":"DataBase!D1202","v":0},{"$f":"DataBase!E1202","v":0},{"$f":"DataBase!F1202","v":0}]
[{"$f":"DataBase!C1203","v":0},{"$f":"DataBase!D1203","v":0},{"$f":"DataBase!E1203","v":0},{"$f":"DataBase!F1203","v":0}]
[{"$f":"DataBase!C1204","v":0},{"$f":"DataBase!D1204","v":0},{"$f":"DataBase!E1204","v":0},{"$f":"DataBase!F1204","v":0}]
[{"$f":"DataBase!C1205","v":0},{"$f":"DataBase!D1205","v":0},{"$f":"DataBase!E1205","v":0},{"$f":"DataBase!F1205","v":0}]
[{"$f":"DataBase!C1206","v":0},{"$f":"DataBase!D1206","v":0},{"$f":"DataBase!E1206","v":0},{"$f":"DataBase!F1206","v":0}]
[{"$f":"DataBase!C1207","v":0},{"$f":"DataBase!D1207","v":0},{"$f":"DataBase!E1207","v":0},{"$f":"DataBase!F1207","v":0}]
[{"$f":"DataBase!C1208","v":0},{"$f":"DataBase!D1208","v":0},{"$f":"DataBase!E1208","v":0},{"$f":"DataBase!F1208","v":0}]
[{"$f":"DataBase!C1209","v":0},{"$f":"DataBase!D1209","v":0},{"$f":"DataBase!E1209","v":0},{"$f":"DataBase!F1209","v":0}]
[{"$f":"DataBase!C1210","v":0},{"$f":"DataBase!D1210","v":0},{"$f":"DataBase!E1210","v":0},{"$f":"DataBase!F1210","v":0}]
[{"$f":"DataBase!C1211","v":0},{"$f":"DataBase!D1211","v":0},{"$f":"DataBase!E1211","v":0},{"$f":"DataBase!F1211","v":0}]
[{"$f":"DataBase!C1212","v":0},{"$f":"DataBase!D1212","v":0},{"$f":"DataBase!E1212","v":0},{"$f":"DataBase!F1212","v":0}]
[{"$f":"DataBase!C1213","v":0},{"$f":"DataBase!D1213","v":0},{"$f":"DataBase!E1213","v":0},{"$f":"DataBase!F1213","v":0}]
[{"$f":"DataBase!C1214","v":0},{"$f":"DataBase!D1214","v":0},{"$f":"DataBase!E1214","v":0},{"$f":"DataBase!F1214","v":0}]
[{"$f":"DataBase!C1215","v":0},{"$f":"DataBase!D1215","v":0},{"$f":"DataBase!E1215","v":0},{"$f":"DataBase!F1215","v":0}]
[{"$f":"DataBase!C1216","v":0},{"$f":"DataBase!D1216","v":0},{"$f":"DataBase!E1216","v":0},{"$f":"DataBase!F1216","v":0}]
[{"$f":"DataBase!C1217","v":0},{"$f":"DataBase!D1217","v":0},{"$f":"DataBase!E1217","v":0},{"$f":"DataBase!F1217","v":0}]
[{"$f":"DataBase!C1218","v":0},{"$f":"DataBase!D1218","v":0},{"$f":"DataBase!E1218","v":0},{"$f":"DataBase!F1218","v":0}]
[{"$f":"DataBase!C1219","v":0},{"$f":"DataBase!D1219","v":0},{"$f":"DataBase!E1219","v":0},{"$f":"DataBase!F1219","v":0}]
[{"$f":"DataBase!C1220","v":0},{"$f":"DataBase!D1220","v":0},{"$f":"DataBase!E1220","v":0},{"$f":"DataBase!F1220","v":0}]
[{"$f":"DataBase!C1221","v":0},{"$f":"DataBase!D1221","v":0},{"$f":"DataBase!E1221","v":0},{"$f":"DataBase!F1221","v":0}]
[{"$f":"DataBase!C1222","v":0},{"$f":"DataBase!D1222","v":0},{"$f":"DataBase!E1222","v":0},{"$f":"DataBase!F1222","v":0}]
[{"$f":"DataBase!C1223","v":0},{"$f":"DataBase!D1223","v":0},{"$f":"DataBase!E1223","v":0},{"$f":"DataBase!F1223","v":0}]
[{"$f":"DataBase!C1224","v":0},{"$f":"DataBase!D1224","v":0},{"$f":"DataBase!E1224","v":0},{"$f":"DataBase!F1224","v":0}]
[{"$f":"DataBase!C1225","v":0},{"$f":"DataBase!D1225","v":0},{"$f":"DataBase!E1225","v":0},{"$f":"DataBase!F1225","v":0}]
[{"$f":"DataBase!C1226","v":0},{"$f":"DataBase!D1226","v":0},{"$f":"DataBase!E1226","v":0},{"$f":"DataBase!F1226","v":0}]
[{"$f":"DataBase!C1227","v":0},{"$f":"DataBase!D1227","v":0},{"$f":"DataBase!E1227","v":0},{"$f":"DataBase!F1227","v":0}]
[{"$f":"DataBase!C1228","v":0},{"$f":"DataBase!D1228","v":0},{"$f":"DataBase!E1228","v":0},{"$f":"DataBase!F1228","v":0}]
[{"$f":"DataBase!C1229","v":0},{"$f":"DataBase!D1229","v":0},{"$f":"DataBase!E1229","v":0},{"$f":"DataBase!F1229","v":0}]
[{"$f":"DataBase!C1230","v":0},{"$f":"DataBase!D1230","v":0},{"$f":"DataBase!E1230","v":0},{"$f":"DataBase!F1230","v":0}]
[{"$f":"DataBase!C1231","v":0},{"$f":"DataBase!D1231","v":0},{"$f":"DataBase!E1231","v":0},{"$f":"DataBase!F1231","v":0}]
[{"$f":"DataBase!C1232","v":0},{"$f":"DataBase!D1232","v":0},{"$f":"DataBase!E1232","v":0},{"$f":"DataBase!F1232","v":0}]
[{"$f":"DataBase!C1233","v":0},{"$f":"DataBase!D1233","v":0},{"$f":"DataBase!E1233","v":0},{"$f":"DataBase!F1233","v":0}]
[{"$f":"DataBase!C1234","v":0},{"$f":"DataBase!D1234","v":0},{"$f":"DataBase!E1234","v":0},{"$f":"DataBase!F1234","v":0}]
[{"$f":"DataBase!C1235","v":0},{"$f":"DataBase!D1235","v":0},{"$f":"DataBase!E1235","v":0},{"$f":"DataBase!F1235","v":0}]
[{"$f":"DataBase!C1236","v":0},{"$f":"DataBase!D1236","v":0},{"$f":"DataBase!E1236","v":0},{"$f":"DataBase!F1236","v":0}]
[{"$f":"DataBase!C1237","v":0},{"$f":"DataBase!D1237","v":0},{"$f":"DataBase!E1237","v":0},{"$f":"DataBase!F1237","v":0}]
[{"$f":"DataBase!C1238","v":0},{"$f":"DataBase!D1238","v":0},{"$f":"DataBase!E1238","v":0},{"$f":"DataBase!F1238","v":0}]
[{"$f":"DataBase!C1239","v":0},{"$f":"DataBase!D1239","v":0},{"$f":"DataBase!E1239","v":0},{"$f":"DataBase!F1239","v":0}]
[{"$f":"DataBase!C1240","v":0},{"$f":"DataBase!D1240","v":0},{"$f":"DataBase!E1240","v":0},{"$f":"DataBase!F1240","v":0}]
[{"$f":"DataBase!C1241","v":0},{"$f":"DataBase!D1241","v":0},{"$f":"DataBase!E1241","v":0},{"$f":"DataBase!F1241","v":0}]
[{"$f":"DataBase!C1242","v":0},{"$f":"DataBase!D1242","v":0},{"$f":"DataBase!E1242","v":0},{"$f":"DataBase!F1242","v":0}]
[{"$f":"DataBase!C1243","v":0},{"$f":"DataBase!D1243","v":0},{"$f":"DataBase!E1243","v":0},{"$f":"DataBase!F1243","v":0}]
[{"$f":"DataBase!C1244","v":0},{"$f":"DataBase!D1244","v":0},{"$f":"DataBase!E1244","v":0},{"$f":"DataBase!F1244","v":0}]
[{"$f":"DataBase!C1245","v":0},{"$f":"DataBase!D1245","v":0},{"$f":"DataBase!E1245","v":0},{"$f":"DataBase!F1245","v":0}]
[{"$f":"DataBase!C1246","v":0},{"$f":"DataBase!D1246","v":0},{"$f":"DataBase!E1246","v":0},{"$f":"DataBase!F1246","v":0}]
[{"$f":"DataBase!C1247","v":0},{"$f":"DataBase!D1247","v":0},{"$f":"DataBase!E1247","v":0},{"$f":"DataBase!F1247","v":0}]
[{"$f":"DataBase!C1248","v":0},{"$f":"DataBase!D1248","v":0},{"$f":"DataBase!E1248","v":0},{"$f":"DataBase!F1248","v":0}]
[{"$f":"DataBase!C1249","v":0},{"$f":"DataBase!D1249","v":0},{"$f":"DataBase!E1249","v":0},{"$f":"DataBase!F1249","v":0}]
[{"$f":"DataBase!C1250","v":0},{"$f":"DataBase!D1250","v":0},{"$f":"DataBase!E1250","v":0},{"$f":"DataBase!F1250","v":0}]
[{"$f":"DataBase!C1251","v":0},{"$f":"DataBase!D1251","v":0},{"$f":"DataBase!E1251","v":0},{"$f":"DataBase!F1251","v":0}]
[{"$f":"DataBase!C1252","v":0},{"$f":"DataBase!D1252","v":0},{"$f":"DataBase!E1252","v":0},{"$f":"DataBase!F1252","v":0}]
[{"$f":"DataBase!C1253","v":0},{"$f":"DataBase!D1253","v":0},{"$f":"DataBase!E1253","v":0},{"$f":"DataBase!F1253","v":0}]
[{"$f":"DataBase!C1254","v":0},{"$f":"DataBase!D1254","v":0},{"$f":"DataBase!E1254","v":0},{"$f":"DataBase!F1254","v":0}]
[{"$f":"DataBase!C1255","v":0},{"$f":"DataBase!D1255","v":0},{"$f":"DataBase!E1255","v":0},{"$f":"DataBase!F1255","v":0}]
[{"$f":"DataBase!C1256","v":0},{"$f":"DataBase!D1256","v":0},{"$f":"DataBase!E1256","v":0},{"$f":"DataBase!F1256","v":0}]
[{"$f":"DataBase!C1257","v":0},{"$f":"DataBase!D1257","v":0},{"$f":"DataBase!E1257","v":0},{"$f":"DataBase!F1257","v":0}]
[{"$f":"DataBase!C1258","v":0},{"$f":"DataBase!D1258","v":0},{"$f":"DataBase!E1258","v":0},{"$f":"DataBase!F1258","v":0}]
[{"$f":"DataBase!C1259","v":0},{"$f":"DataBase!D1259","v":0},{"$f":"DataBase!E1259","v":0},{"$f":"DataBase!F1259","v":0}]
[{"$f":"DataBase!C1260","v":0},{"$f":"DataBase!D1260","v":0},{"$f":"DataBase!E1260","v":0},{"$f":"DataBase!F1260","v":0}]
[{"$f":"DataBase!C1261","v":0},{"$f":"DataBase!D1261","v":0},{"$f":"DataBase!E1261","v":0},{"$f":"DataBase!F1261","v":0}]
[{"$f":"DataBase!C1262","v":0},{"$f":"DataBase!D1262","v":0},{"$f":"DataBase!E1262","v":0},{"$f":"DataBase!F1262","v":0}]
[{"$f":"DataBase!C1263","v":0},{"$f":"DataBase!D1263","v":0},{"$f":"DataBase!E1263","v":0},{"$f":"DataBase!F1263","v":0}]
[{"$f":"DataBase!C1264","v":0},{"$f":"DataBase!D1264","v":0},{"$f":"DataBase!E1264","v":0},{"$f":"DataBase!F1264","v":0}]
[{"$f":"DataBase!C1265","v":0},{"$f":"DataBase!D1265","v":0},{"$f":"DataBase!E1265","v":0},{"$f":"DataBase!F1265","v":0}]
[{"$f":"DataBase!C1266","v":0},{"$f":"DataBase!D1266","v":0},{"$f":"DataBase!E1266","v":0},{"$f":"DataBase!F1266","v":0}]
[{"$f":"DataBase!C1267","v":0},{"$f":"DataBase!D1267","v":0},{"$f":"DataBase!E1267","v":0},{"$f":"DataBase!F1267","v":0}]
[{"$f":"DataBase!C1268","v":0},{"$f":"DataBase!D1268","v":0},{"$f":"DataBase!E1268","v":0},{"$f":"DataBase!F1268","v":0}]
[{"$f":"DataBase!C1269","v":0},{"$f":"DataBase!D1269","v":0},{"$f":"DataBase!E1269","v":0},{"$f":"DataBase!F1269","v":0}]
[{"$f":"DataBase!C1270","v":0},{"$f":"DataBase!D1270","v":0},{"$f":"DataBase!E1270","v":0},{"$f":"DataBase!F1270","v":0}]
[{"$f":"DataBase!C1271","v":0},{"$f":"DataBase!D1271","v":0},{"$f":"DataBase!E1271","v":0},{"$f":"DataBase!F1271","v":0}]
[{"$f":"DataBase!C1272","v":0},{"$f":"DataBase!D1272","v":0},{"$f":"DataBase!E1272","v":0},{"$f":"DataBase!F1272","v":0}]
[{"$f":"DataBase!C1273","v":0},{"$f":"DataBase!D1273","v":0},{"$f":"DataBase!E1273","v":0},{"$f":"DataBase!F1273","v":0}]
[{"$f":"DataBase!C1274","v":0},{"$f":"DataBase!D1274","v":0},{"$f":"DataBase!E1274","v":0},{"$f":"DataBase!F1274","v":0}]
[{"$f":"DataBase!C1275","v":0},{"$f":"DataBase!D1275","v":0},{"$f":"DataBase!E1275","v":0},{"$f":"DataBase!F1275","v":0}]
[{"$f":"DataBase!C1276","v":0},{"$f":"DataBase!D1276","v":0},{"$f":"DataBase!E1276","v":0},{"$f":"DataBase!F1276","v":0}]
[{"$f":"DataBase!C1277","v":0},{"$f":"DataBase!D1277","v":0},{"$f":"DataBase!E1277","v":0},{"$f":"DataBase!F1277","v":0}]
[{"$f":"DataBase!C1278","v":0},{"$f":"DataBase!D1278","v":0},{"$f":"DataBase!E1278","v":0},{"$f":"DataBase!F1278","v":0}]
[{"$f":"DataBase!C1279","v":0},{"$f":"DataBase!D1279","v":0},{"$f":"DataBase!E1279","v":0},{"$f":"DataBase!F1279","v":0}]
[{"$f":"DataBase!C1280","v":0},{"$f":"DataBase!D1280","v":0},{"$f":"DataBase!E1280","v":0},{"$f":"DataBase!F1280","v":0}]
[{"$f":"DataBase!C1281","v":0},{"$f":"DataBase!D1281","v":0},{"$f":"DataBase!E1281","v":0},{"$f":"DataBase!F1281","v":0}]
[{"$f":"DataBase!C1282","v":0},{"$f":"DataBase!D1282","v":0},{"$f":"DataBase!E1282","v":0},{"$f":"DataBase!F1282","v":0}]
[{"$f":"DataBase!C1283","v":0},{"$f":"DataBase!D1283","v":0},{"$f":"DataBase!E1283","v":0},{"$f":"DataBase!F1283","v":0}]
[{"$f":"DataBase!C1284","v":0},{"$f":"DataBase!D1284","v":0},{"$f":"DataBase!E1284","v":0},{"$f":"DataBase!F1284","v":0}]
[{"$f":"DataBase!C1285","v":0},{"$f":"DataBase!D1285","v":0},{"$f":"DataBase!E1285","v":0},{"$f":"DataBase!F1285","v":0}]
[{"$f":"DataBase!C1286","v":0},{"$f":"DataBase!D1286","v":0},{"$f":"DataBase!E1286","v":0},{"$f":"DataBase!F1286","v":0}]
[{"$f":"DataBase!C1287","v":0},{"$f":"DataBase!D1287","v":0},{"$f":"DataBase!E1287","v":0},{"$f":"DataBase!F1287","v":0}]
[{"$f":"DataBase!C1288","v":0},{"$f":"DataBase!D1288","v":0},{"$f":"DataBase!E1288","v":0},{"$f":"DataBase!F1288","v":0}]
[{"$f":"DataBase!C1289","v":0},{"$f":"DataBase!D1289","v":0},{"$f":"DataBase!E1289","v":0},{"$f":"DataBase!F1289","v":0}]
[{"$f":"DataBase!C1290","v":0},{"$f":"DataBase!D1290","v":0},{"$f":"DataBase!E1290","v":0},{"$f":"DataBase!F1290","v":0}]
[{"$f":"DataBase!C1291","v":0},{"$f":"DataBase!D1291","v":0},{"$f":"DataBase!E1291","v":0},{"$f":"DataBase!F1291","v":0}]
[{"$f":"DataBase!C1292","v":0},{"$f":"DataBase!D1292","v":0},{"$f":"DataBase!E1292","v":0},{"$f":"DataBase!F1292","v":0}]
[{"$f":"DataBase!C1293","v":0},{"$f":"DataBase!D1293","v":0},{"$f":"DataBase!E1293","v":0},{"$f":"DataBase!F1293","v":0}]
[{"$f":"DataBase!C1294","v":0},{"$f":"DataBase!D1294","v":0},{"$f":"DataBase!E1294","v":0},{"$f":"DataBase!F1294","v":0}]
[{"$f":"DataBase!C1295","v":0},{"$f":"DataBase!D1295","v":0},{"$f":"DataBase!E1295","v":0},{"$f":"DataBase!F1295","v":0}]
[{"$f":"DataBase!C1296","v":0},{"$f":"DataBase!D1296","v":0},{"$f":"DataBase!E1296","v":0},{"$f":"DataBase!F1296","v":0}]
[{"$f":"DataBase!C1297","v":0},{"$f":"DataBase!D1297","v":0},{"$f":"DataBase!E1297","v":0},{"$f":"DataBase!F1297","v":0}]
[{"$f":"DataBase!C1298","v":0},{"$f":"DataBase!D1298","v":0},{"$f":"DataBase!E1298","v":0},{"$f":"DataBase!F1298","v":0}]
[{"$f":"DataBase!C1299","v":0},{"$f":"DataBase!D1299","v":0},{"$f":"DataBase!E1299","v":0},{"$f":"DataBase!F1299","v":0}]
[{"$f":"DataBase!C1300","v":0},{"$f":"DataBase!D1300","v":0},{"$f":"DataBase!E1300","v":0},{"$f":"DataBase!F1300","v":0}]
[{"$f":"DataBase!C1301","v":0},{"$f":"DataBase!D1301","v":0},{"$f":"DataBase!E1301","v":0},{"$f":"DataBase!F1301","v":0}]
[{"$f":"DataBase!C1302","v":0},{"$f":"DataBase!D1302","v":0},{"$f":"DataBase!E1302","v":0},{"$f":"DataBase!F1302","v":0}]
[{"$f":"DataBase!C1303","v":0},{"$f":"DataBase!D1303","v":0},{"$f":"DataBase!E1303","v":0},{"$f":"DataBase!F1303","v":0}]
[{"$f":"DataBase!C1304","v":0},{"$f":"DataBase!D1304","v":0},{"$f":"DataBase!E1304","v":0},{"$f":"DataBase!F1304","v":0}]
[{"$f":"DataBase!C1305","v":0},{"$f":"DataBase!D1305","v":0},{"$f":"DataBase!E1305","v":0},{"$f":"DataBase!F1305","v":0}]
[{"$f":"DataBase!C1306","v":0},{"$f":"DataBase!D1306","v":0},{"$f":"DataBase!E1306","v":0},{"$f":"DataBase!F1306","v":0}]
[{"$f":"DataBase!C1307","v":0},{"$f":"DataBase!D1307","v":0},{"$f":"DataBase!E1307","v":0},{"$f":"DataBase!F1307","v":0}]
[{"$f":"DataBase!C1308","v":0},{"$f":"DataBase!D1308","v":0},{"$f":"DataBase!E1308","v":0},{"$f":"DataBase!F1308","v":0}]
[{"$f":"DataBase!C1309","v":0},{"$f":"DataBase!D1309","v":0},{"$f":"DataBase!E1309","v":0},{"$f":"DataBase!F1309","v":0}]
[{"$f":"DataBase!C1310","v":0},{"$f":"DataBase!D1310","v":0},{"$f":"DataBase!E1310","v":0},{"$f":"DataBase!F1310","v":0}]
[{"$f":"DataBase!C1311","v":0},{"$f":"DataBase!D1311","v":0},{"$f":"DataBase!E1311","v":0},{"$f":"DataBase!F1311","v":0}]
[{"$f":"DataBase!C1312","v":0},{"$f":"DataBase!D1312","v":0},{"$f":"DataBase!E1312","v":0},{"$f":"DataBase!F1312","v":0}]
[{"$f":"DataBase!C1313","v":0},{"$f":"DataBase!D1313","v":0},{"$f":"DataBase!E1313","v":0},{"$f":"DataBase!F1313","v":0}]
[{"$f":"DataBase!C1314","v":0},{"$f":"DataBase!D1314","v":0},{"$f":"DataBase!E1314","v":0},{"$f":"DataBase!F1314","v":0}]
[{"$f":"DataBase!C1315","v":0},{"$f":"DataBase!D1315","v":0},{"$f":"DataBase!E1315","v":0},{"$f":"DataBase!F1315","v":0}]
[{"$f":"DataBase!C1316","v":0},{"$f":"DataBase!D1316","v":0},{"$f":"DataBase!E1316","v":0},{"$f":"DataBase!F1316","v":0}]
[{"$f":"DataBase!C1317","v":0},{"$f":"DataBase!D1317","v":0},{"$f":"DataBase!E1317","v":0},{"$f":"DataBase!F1317","v":0}]
[{"$f":"DataBase!C1318","v":0},{"$f":"DataBase!D1318","v":0},{"$f":"DataBase!E1318","v":0},{"$f":"DataBase!F1318","v":0}]
[{"$f":"DataBase!C1319","v":0},{"$f":"DataBase!D1319","v":0},{"$f":"DataBase!E1319","v":0},{"$f":"DataBase!F1319","v":0}]
[{"$f":"DataBase!C1320","v":0},{"$f":"DataBase!D1320","v":0},{"$f":"DataBase!E1320","v":0},{"$f":"DataBase!F1320","v":0}]
[{"$f":"DataBase!C1321","v":0},{"$f":"DataBase!D1321","v":0},{"$f":"DataBase!E1321","v":0},{"$f":"DataBase!F1321","v":0}]
[{"$f":"DataBase!C1322","v":0},{"$f":"DataBase!D1322","v":0},{"$f":"DataBase!E1322","v":0},{"$f":"DataBase!F1322","v":0}]
[{"$f":"DataBase!C1323","v":0},{"$f":"DataBase!D1323","v":0},{"$f":"DataBase!E1323","v":0},{"$f":"DataBase!F1323","v":0}]
[{"$f":"DataBase!C1324","v":0},{"$f":"DataBase!D1324","v":0},{"$f":"DataBase!E1324","v":0},{"$f":"DataBase!F1324","v":0}]
[{"$f":"DataBase!C1325","v":0},{"$f":"DataBase!D1325","v":0},{"$f":"DataBase!E1325","v":0},{"$f":"DataBase!F1325","v":0}]
[{"$f":"DataBase!C1326","v":0},{"$f":"DataBase!D1326","v":0},{"$f":"DataBase!E1326","v":0},{"$f":"DataBase!F1326","v":0}]
[{"$f":"DataBase!C1327","v":0},{"$f":"DataBase!D1327","v":0},{"$f":"DataBase!E1327","v":0},{"$f":"DataBase!F1327","v":0}]
[{"$f":"DataBase!C1328","v":0},{"$f":"DataBase!D1328","v":0},{"$f":"DataBase!E1328","v":0},{"$f":"DataBase!F1328","v":0}]
[{"$f":"DataBase!C1329","v":0},{"$f":"DataBase!D1329","v":0},{"$f":"DataBase!E1329","v":0},{"$f":"DataBase!F1329","v":0}]
[{"$f":"DataBase!C1330","v":0},{"$f":"DataBase!D1330","v":0},{"$f":"DataBase!E1330","v":0},{"$f":"DataBase!F1330","v":0}]
[{"$f":"DataBase!C1331","v":0},{"$f":"DataBase!D1331","v":0},{"$f":"DataBase!E1331","v":0},{"$f":"DataBase!F1331","v":0}]
[{"$f":"DataBase!C1332","v":0},{"$f":"DataBase!D1332","v":0},{"$f":"DataBase!E1332","v":0},{"$f":"DataBase!F1332","v":0}]
[{"$f":"DataBase!C1333","v":0},{"$f":"DataBase!D1333","v":0},{"$f":"DataBase!E1333","v":0},{"$f":"DataBase!F1333","v":0}]
[{"$f":"DataBase!C1334","v":0},{"$f":"DataBase!D1334","v":0},{"$f":"DataBase!E1334","v":0},{"$f":"DataBase!F1334","v":0}]
[{"$f":"DataBase!C1335","v":0},{"$f":"DataBase!D1335","v":0},{"$f":"DataBase!E1335","v":0},{"$f":"DataBase!F1335","v":0}]
[{"$f":"DataBase!C1336","v":0},{"$f":"DataBase!D1336","v":0},{"$f":"DataBase!E1336","v":0},{"$f":"DataBase!F1336","v":0}]
[{"$f":"DataBase!C1337","v":0},{"$f":"DataBase!D1337","v":0},{"$f":"DataBase!E1337","v":0},{"$f":"DataBase!F1337","v":0}]
[{"$f":"DataBase!C1338","v":0},{"$f":"DataBase!D1338","v":0},{"$f":"DataBase!E1338","v":0},{"$f":"DataBase!F1338","v":0}]
[{"$f":"DataBase!C1339","v":0},{"$f":"DataBase!D1339","v":0},{"$f":"DataBase!E1339","v":0},{"$f":"DataBase!F1339","v":0}]
[{"$f":"DataBase!C1340","v":0},{"$f":"DataBase!D1340","v":0},{"$f":"DataBase!E1340","v":0},{"$f":"DataBase!F1340","v":0}]
[{"$f":"DataBase!C1341","v":0},{"$f":"DataBase!D1341","v":0},{"$f":"DataBase!E1341","v":0},{"$f":"DataBase!F1341","v":0}]
[{"$f":"DataBase!C1342","v":0},{"$f":"DataBase!D1342","v":0},{"$f":"DataBase!E1342","v":0},{"$f":"DataBase!F1342","v":0}]
[{"$f":"DataBase!C1343","v":0},{"$f":"DataBase!D1343","v":0},{"$f":"DataBase!E1343","v":0},{"$f":"DataBase!F1343","v":0}]
[{"$f":"DataBase!C1344","v":0},{"$f":"DataBase!D1344","v":0},{"$f":"DataBase!E1344","v":0},{"$f":"DataBase!F1344","v":0}]
[{"$f":"DataBase!C1345","v":0},{"$f":"DataBase!D1345","v":0},{"$f":"DataBase!E1345","v":0},{"$f":"DataBase!F1345","v":0}]
[{"$f":"DataBase!C1346","v":0},{"$f":"DataBase!D1346","v":0},{"$f":"DataBase!E1346","v":0},{"$f":"DataBase!F1346","v":0}]
[{"$f":"DataBase!C1347","v":0},{"$f":"DataBase!D1347","v":0},{"$f":"DataBase!E1347","v":0},{"$f":"DataBase!F1347","v":0}]
[{"$f":"DataBase!C1348","v":0},{"$f":"DataBase!D1348","v":0},{"$f":"DataBase!E1348","v":0},{"$f":"DataBase!F1348","v":0}]
[{"$f":"DataBase!C1349","v":0},{"$f":"DataBase!D1349","v":0},{"$f":"DataBase!E1349","v":0},{"$f":"DataBase!F1349","v":0}]
[{"$f":"DataBase!C1350","v":0},{"$f":"DataBase!D1350","v":0},{"$f":"DataBase!E1350","v":0},{"$f":"DataBase!F1350","v":0}]
[{"$f":"DataBase!C1351","v":0},{"$f":"DataBase!D1351","v":0},{"$f":"DataBase!E1351","v":0},{"$f":"DataBase!F1351","v":0}]
[{"$f":"DataBase!C1352","v":0},{"$f":"DataBase!D1352","v":0},{"$f":"DataBase!E1352","v":0},{"$f":"DataBase!F1352","v":0}]
[{"$f":"DataBase!C1353","v":0},{"$f":"DataBase!D1353","v":0},{"$f":"DataBase!E1353","v":0},{"$f":"DataBase!F1353","v":0}]
[{"$f":"DataBase!C1354","v":0},{"$f":"DataBase!D1354","v":0},{"$f":"DataBase!E1354","v":0},{"$f":"DataBase!F1354","v":0}]
[{"$f":"DataBase!C1355","v":0},{"$f":"DataBase!D1355","v":0},{"$f":"DataBase!E1355","v":0},{"$f":"DataBase!F1355","v":0}]
[{"$f":"DataBase!C1356","v":0},{"$f":"DataBase!D1356","v":0},{"$f":"DataBase!E1356","v":0},{"$f":"DataBase!F1356","v":0}]
[{"$f":"DataBase!C1357","v":0},{"$f":"DataBase!D1357","v":0},{"$f":"DataBase!E1357","v":0},{"$f":"DataBase!F1357","v":0}]
[{"$f":"DataBase!C1358","v":0},{"$f":"DataBase!D1358","v":0},{"$f":"DataBase!E1358","v":0},{"$f":"DataBase!F1358","v":0}]
[{"$f":"DataBase!C1359","v":0},{"$f":"DataBase!D1359","v":0},{"$f":"DataBase!E1359","v":0},{"$f":"DataBase!F1359","v":0}]
[{"$f":"DataBase!C1360","v":0},{"$f":"DataBase!D1360","v":0},{"$f":"DataBase!E1360","v":0},{"$f":"DataBase!F1360","v":0}]
[{"$f":"DataBase!C1361","v":0},{"$f":"DataBase!D1361","v":0},{"$f":"DataBase!E1361","v":0},{"$f":"DataBase!F1361","v":0}]
[{"$f":"DataBase!C1362","v":0},{"$f":"DataBase!D1362","v":0},{"$f":"DataBase!E1362","v":0},{"$f":"DataBase!F1362","v":0}]
[{"$f":"DataBase!C1363","v":0},{"$f":"DataBase!D1363","v":0},{"$f":"DataBase!E1363","v":0},{"$f":"DataBase!F1363","v":0}]
[{"$f":"DataBase!C1364","v":0},{"$f":"DataBase!D1364","v":0},{"$f":"DataBase!E1364","v":0},{"$f":"DataBase!F1364","v":0}]
[{"$f":"DataBase!C1365","v":0},{"$f":"DataBase!D1365","v":0},{"$f":"DataBase!E1365","v":0},{"$f":"DataBase!F1365","v":0}]
[{"$f":"DataBase!C1366","v":0},{"$f":"DataBase!D1366","v":0},{"$f":"DataBase!E1366","v":0},{"$f":"DataBase!F1366","v":0}]
[{"$f":"DataBase!C1367","v":0},{"$f":"DataBase!D1367","v":0},{"$f":"DataBase!E1367","v":0},{"$f":"DataBase!F1367","v":0}]
[{"$f":"DataBase!C1368","v":0},{"$f":"DataBase!D1368","v":0},{"$f":"DataBase!E1368","v":0},{"$f":"DataBase!F1368","v":0}]
[{"$f":"DataBase!C1369","v":0},{"$f":"DataBase!D1369","v":0},{"$f":"DataBase!E1369","v":0},{"$f":"DataBase!F1369","v":0}]
[{"$f":"DataBase!C1370","v":0},{"$f":"DataBase!D1370","v":0},{"$f":"DataBase!E1370","v":0},{"$f":"DataBase!F1370","v":0}]
[{"$f":"DataBase!C1371","v":0},{"$f":"DataBase!D1371","v":0},{"$f":"DataBase!E1371","v":0},{"$f":"DataBase!F1371","v":0}]
[{"$f":"DataBase!C1372","v":0},{"$f":"DataBase!D1372","v":0},{"$f":"DataBase!E1372","v":0},{"$f":"DataBase!F1372","v":0}]
[{"$f":"DataBase!C1373","v":0},{"$f":"DataBase!D1373","v":0},{"$f":"DataBase!E1373","v":0},{"$f":"DataBase!F1373","v":0}]
[{"$f":"DataBase!C1374","v":0},{"$f":"DataBase!D1374","v":0},{"$f":"DataBase!E1374","v":0},{"$f":"DataBase!F1374","v":0}]
[{"$f":"DataBase!C1375","v":0},{"$f":"DataBase!D1375","v":0},{"$f":"DataBase!E1375","v":0},{"$f":"DataBase!F1375","v":0}]
[{"$f":"DataBase!C1376","v":0},{"$f":"DataBase!D1376","v":0},{"$f":"DataBase!E1376","v":0},{"$f":"DataBase!F1376","v":0}]
[{"$f":"DataBase!C1377","v":0},{"$f":"DataBase!D1377","v":0},{"$f":"DataBase!E1377","v":0},{"$f":"DataBase!F1377","v":0}]
[{"$f":"DataBase!C1378","v":0},{"$f":"DataBase!D1378","v":0},{"$f":"DataBase!E1378","v":0},{"$f":"DataBase!F1378","v":0}]
[{"$f":"DataBase!C1379","v":0},{"$f":"DataBase!D1379","v":0},{"$f":"DataBase!E1379","v":0},{"$f":"DataBase!F1379","v":0}]
[{"$f":"DataBase!C1380","v":0},{"$f":"DataBase!D1380","v":0},{"$f":"DataBase!E1380","v":0},{"$f":"DataBase!F1380","v":0}]
[{"$f":"DataBase!C1381","v":0},{"$f":"DataBase!D1381","v":0},{"$f":"DataBase!E1381","v":0},{"$f":"DataBase!F1381","v":0}]
[{"$f":"DataBase!C1382","v":0},{"$f":"DataBase!D1382","v":0},{"$f":"DataBase!E1382","v":0},{"$f":"DataBase!F1382","v":0}]
[{"$f":"DataBase!C1383","v":0},{"$f":"DataBase!D1383","v":0},{"$f":"DataBase!E1383","v":0},{"$f":"DataBase!F1383","v":0}]
[{"$f":"DataBase!C1384","v":0},{"$f":"DataBase!D1384","v":0},{"$f":"DataBase!E1384","v":0},{"$f":"DataBase!F1384","v":0}]
[{"$f":"DataBase!C1385","v":0},{"$f":"DataBase!D1385","v":0},{"$f":"DataBase!E1385","v":0},{"$f":"DataBase!F1385","v":0}]
[{"$f":"DataBase!C1386","v":0},{"$f":"DataBase!D1386","v":0},{"$f":"DataBase!E1386","v":0},{"$f":"DataBase!F1386","v":0}]
[{"$f":"DataBase!C1387","v":0},{"$f":"DataBase!D1387","v":0},{"$f":"DataBase!E1387","v":0},{"$f":"DataBase!F1387","v":0}]
[{"$f":"DataBase!C1388","v":0},{"$f":"DataBase!D1388","v":0},{"$f":"DataBase!E1388","v":0},{"$f":"DataBase!F1388","v":0}]
[{"$f":"DataBase!C1389","v":0},{"$f":"DataBase!D1389","v":0},{"$f":"DataBase!E1389","v":0},{"$f":"DataBase!F1389","v":0}]
[{"$f":"DataBase!C1390","v":0},{"$f":"DataBase!D1390","v":0},{"$f":"DataBase!E1390","v":0},{"$f":"DataBase!F1390","v":0}]
[{"$f":"DataBase!C1391","v":0},{"$f":"DataBase!D1391","v":0},{"$f":"DataBase!E1391","v":0},{"$f":"DataBase!F1391","v":0}]
[{"$f":"DataBase!C1392","v":0},{"$f":"DataBase!D1392","v":0},{"$f":"DataBase!E1392","v":0},{"$f":"DataBase!F1392","v":0}]
[{"$f":"DataBase!C1393","v":0},{"$f":"DataBase!D1393","v":0},{"$f":"DataBase!E1393","v":0},{"$f":"DataBase!F1393","v":0}]
[{"$f":"DataBase!C1394","v":0},{"$f":"DataBase!D1394","v":0},{"$f":"DataBase!E1394","v":0},{"$f":"DataBase!F1394","v":0}]
[{"$f":"DataBase!C1395","v":0},{"$f":"DataBase!D1395","v":0},{"$f":"DataBase!E1395","v":0},{"$f":"DataBase!F1395","v":0}]
[{"$f":"DataBase!C1396","v":0},{"$f":"DataBase!D1396","v":0},{"$f":"DataBase!E1396","v":0},{"$f":"DataBase!F1396","v":0}]
[{"$f":"DataBase!C1397","v":0},{"$f":"DataBase!D1397","v":0},{"$f":"DataBase!E1397","v":0},{"$f":"DataBase!F1397","v":0}]
[{"$f":"DataBase!C1398","v":0},{"$f":"DataBase!D1398","v":0},{"$f":"DataBase!E1398","v":0},{"$f":"DataBase!F1398","v":0}]
[{"$f":"DataBase!C1399","v":0},{"$f":"DataBase!D1399","v":0},{"$f":"DataBase!E1399","v":0},{"$f":"DataBase!F1399","v":0}]
[{"$f":"DataBase!C1400","v":0},{"$f":"DataBase!D1400","v":0},{"$f":"DataBase!E1400","v":0},{"$f":"DataBase!F1400","v":0}]
[{"$f":"DataBase!C1401","v":0},{"$f":"DataBase!D1401","v":0},{"$f":"DataBase!E1401","v":0},{"$f":"DataBase!F1401","v":0}]
[{"$f":"DataBase!C1402","v":0},{"$f":"DataBase!D1402","v":0},{"$f":"DataBase!E1402","v":0},{"$f":"DataBase!F1402","v":0}]
[{"$f":"DataBase!C1403","v":0},{"$f":"DataBase!D1403","v":0},{"$f":"DataBase!E1403","v":0},{"$f":"DataBase!F1403","v":0}]
[{"$f":"DataBase!C1404","v":0},{"$f":"DataBase!D1404","v":0},{"$f":"DataBase!E1404","v":0},{"$f":"DataBase!F1404","v":0}]
[{"$f":"DataBase!C1405","v":0},{"$f":"DataBase!D1405","v":0},{"$f":"DataBase!E1405","v":0},{"$f":"DataBase!F1405","v":0}]
[{"$f":"DataBase!C1406","v":0},{"$f":"DataBase!D1406","v":0},{"$f":"DataBase!E1406","v":0},{"$f":"DataBase!F1406","v":0}]
[{"$f":"DataBase!C1407","v":0},{"$f":"DataBase!D1407","v":0},{"$f":"DataBase!E1407","v":0},{"$f":"DataBase!F1407","v":0}]
[{"$f":"DataBase!C1408","v":0},{"$f":"DataBase!D1408","v":0},{"$f":"DataBase!E1408","v":0},{"$f":"DataBase!F1408","v":0}]
[{"$f":"DataBase!C1409","v":0},{"$f":"DataBase!D1409","v":0},{"$f":"DataBase!E1409","v":0},{"$f":"DataBase!F1409","v":0}]
[{"$f":"DataBase!C1410","v":0},{"$f":"DataBase!D1410","v":0},{"$f":"DataBase!E1410","v":0},{"$f":"DataBase!F1410","v":0}]
[{"$f":"DataBase!C1411","v":0},{"$f":"DataBase!D1411","v":0},{"$f":"DataBase!E1411","v":0},{"$f":"DataBase!F1411","v":0}]
[{"$f":"DataBase!C1412","v":0},{"$f":"DataBase!D1412","v":0},{"$f":"DataBase!E1412","v":0},{"$f":"DataBase!F1412","v":0}]
[{"$f":"DataBase!C1413","v":0},{"$f":"DataBase!D1413","v":0},{"$f":"DataBase!E1413","v":0},{"$f":"DataBase!F1413","v":0}]
[{"$f":"DataBase!C1414","v":0},{"$f":"DataBase!D1414","v":0},{"$f":"DataBase!E1414","v":0},{"$f":"DataBase!F1414","v":0}]
[{"$f":"DataBase!C1415","v":0},{"$f":"DataBase!D1415","v":0},{"$f":"DataBase!E1415","v":0},{"$f":"DataBase!F1415","v":0}]
[{"$f":"DataBase!C1416","v":0},{"$f":"DataBase!D1416","v":0},{"$f":"DataBase!E1416","v":0},{"$f":"DataBase!F1416","v":0}]
[{"$f":"DataBase!C1417","v":0},{"$f":"DataBase!D1417","v":0},{"$f":"DataBase!E1417","v":0},{"$f":"DataBase!F1417","v":0}]
[{"$f":"DataBase!C1418","v":0},{"$f":"DataBase!D1418","v":0},{"$f":"DataBase!E1418","v":0},{"$f":"DataBase!F1418","v":0}]
[{"$f":"DataBase!C1419","v":0},{"$f":"DataBase!D1419","v":0},{"$f":"DataBase!E1419","v":0},{"$f":"DataBase!F1419","v":0}]
[{"$f":"DataBase!C1420","v":0},{"$f":"DataBase!D1420","v":0},{"$f":"DataBase!E1420","v":0},{"$f":"DataBase!F1420","v":0}]
[{"$f":"DataBase!C1421","v":0},{"$f":"DataBase!D1421","v":0},{"$f":"DataBase!E1421","v":0},{"$f":"DataBase!F1421","v":0}]
[{"$f":"DataBase!C1422","v":0},{"$f":"DataBase!D1422","v":0},{"$f":"DataBase!E1422","v":0},{"$f":"DataBase!F1422","v":0}]
[{"$f":"DataBase!C1423","v":0},{"$f":"DataBase!D1423","v":0},{"$f":"DataBase!E1423","v":0},{"$f":"DataBase!F1423","v":0}]
[{"$f":"DataBase!C1424","v":0},{"$f":"DataBase!D1424","v":0},{"$f":"DataBase!E1424","v":0},{"$f":"DataBase!F1424","v":0}]
[{"$f":"DataBase!C1425","v":0},{"$f":"DataBase!D1425","v":0},{"$f":"DataBase!E1425","v":0},{"$f":"DataBase!F1425","v":0}]
[{"$f":"DataBase!C1426","v":0},{"$f":"DataBase!D1426","v":0},{"$f":"DataBase!E1426","v":0},{"$f":"DataBase!F1426","v":0}]
[{"$f":"DataBase!C1427","v":0},{"$f":"DataBase!D1427","v":0},{"$f":"DataBase!E1427","v":0},{"$f":"DataBase!F1427","v":0}]
[{"$f":"DataBase!C1428","v":0},{"$f":"DataBase!D1428","v":0},{"$f":"DataBase!E1428","v":0},{"$f":"DataBase!F1428","v":0}]
[{"$f":"DataBase!C1429","v":0},{"$f":"DataBase!D1429","v":0},{"$f":"DataBase!E1429","v":0},{"$f":"DataBase!F1429","v":0}]
[{"$f":"DataBase!C1430","v":0},{"$f":"DataBase!D1430","v":0},{"$f":"DataBase!E1430","v":0},{"$f":"DataBase!F1430","v":0}]
[{"$f":"DataBase!C1431","v":0},{"$f":"DataBase!D1431","v":0},{"$f":"DataBase!E1431","v":0},{"$f":"DataBase!F1431","v":0}]
[{"$f":"DataBase!C1432","v":0},{"$f":"DataBase!D1432","v":0},{"$f":"DataBase!E1432","v":0},{"$f":"DataBase!F1432","v":0}]
[{"$f":"DataBase!C1433","v":0},{"$f":"DataBase!D1433","v":0},{"$f":"DataBase!E1433","v":0},{"$f":"DataBase!F1433","v":0}]
[{"$f":"DataBase!C1434","v":0},{"$f":"DataBase!D1434","v":0},{"$f":"DataBase!E1434","v":0},{"$f":"DataBase!F1434","v":0}]
[{"$f":"DataBase!C1435","v":0},{"$f":"DataBase!D1435","v":0},{"$f":"DataBase!E1435","v":0},{"$f":"DataBase!F1435","v":0}]
[{"$f":"DataBase!C1436","v":0},{"$f":"DataBase!D1436","v":0},{"$f":"DataBase!E1436","v":0},{"$f":"DataBase!F1436","v":0}]
[{"$f":"DataBase!C1437","v":0},{"$f":"DataBase!D1437","v":0},{"$f":"DataBase!E1437","v":0},{"$f":"DataBase!F1437","v":0}]
[{"$f":"DataBase!C1438","v":0},{"$f":"DataBase!D1438","v":0},{"$f":"DataBase!E1438","v":0},{"$f":"DataBase!F1438","v":0}]
[{"$f":"DataBase!C1439","v":0},{"$f":"DataBase!D1439","v":0},{"$f":"DataBase!E1439","v":0},{"$f":"DataBase!F1439","v":0}]
[{"$f":"DataBase!C1440","v":0},{"$f":"DataBase!D1440","v":0},{"$f":"DataBase!E1440","v":0},{"$f":"DataBase!F1440","v":0}]
[{"$f":"DataBase!C1441","v":0},{"$f":"DataBase!D1441","v":0},{"$f":"DataBase!E1441","v":0},{"$f":"DataBase!F1441","v":0}]
[{"$f":"DataBase!C1442","v":0},{"$f":"DataBase!D1442","v":0},{"$f":"DataBase!E1442","v":0},{"$f":"DataBase!F1442","v":0}]
[{"$f":"DataBase!C1443","v":0},{"$f":"DataBase!D1443","v":0},{"$f":"DataBase!E1443","v":0},{"$f":"DataBase!F1443","v":0}]
[{"$f":"DataBase!C1444","v":0},{"$f":"DataBase!D1444","v":0},{"$f":"DataBase!E1444","v":0},{"$f":"DataBase!F1444","v":0}]
[{"$f":"DataBase!C1445","v":0},{"$f":"DataBase!D1445","v":0},{"$f":"DataBase!E1445","v":0},{"$f":"DataBase!F1445","v":0}]
[{"$f":"DataBase!C1446","v":0},{"$f":"DataBase!D1446","v":0},{"$f":"DataBase!E1446","v":0},{"$f":"DataBase!F1446","v":0}]
[{"$f":"DataBase!C1447","v":0},{"$f":"DataBase!D1447","v":0},{"$f":"DataBase!E1447","v":0},{"$f":"DataBase!F1447","v":0}]
[{"$f":"DataBase!C1448","v":0},{"$f":"DataBase!D1448","v":0},{"$f":"DataBase!E1448","v":0},{"$f":"DataBase!F1448","v":0}]
[{"$f":"DataBase!C1449","v":0},{"$f":"DataBase!D1449","v":0},{"$f":"DataBase!E1449","v":0},{"$f":"DataBase!F1449","v":0}]
[{"$f":"DataBase!C1450","v":0},{"$f":"DataBase!D1450","v":0},{"$f":"DataBase!E1450","v":0},{"$f":"DataBase!F1450","v":0}]
[{"$f":"DataBase!C1451","v":0},{"$f":"DataBase!D1451","v":0},{"$f":"DataBase!E1451","v":0},{"$f":"DataBase!F1451","v":0}]
[{"$f":"DataBase!C1452","v":0},{"$f":"DataBase!D1452","v":0},{"$f":"DataBase!E1452","v":0},{"$f":"DataBase!F1452","v":0}]
[{"$f":"DataBase!C1453","v":0},{"$f":"DataBase!D1453","v":0},{"$f":"DataBase!E1453","v":0},{"$f":"DataBase!F1453","v":0}]
[{"$f":"DataBase!C1454","v":0},{"$f":"DataBase!D1454","v":0},{"$f":"DataBase!E1454","v":0},{"$f":"DataBase!F1454","v":0}]
[{"$f":"DataBase!C1455","v":0},{"$f":"DataBase!D1455","v":0},{"$f":"DataBase!E1455","v":0},{"$f":"DataBase!F1455","v":0}]
[{"$f":"DataBase!C1456","v":0},{"$f":"DataBase!D1456","v":0},{"$f":"DataBase!E1456","v":0},{"$f":"DataBase!F1456","v":0}]
[{"$f":"DataBase!C1457","v":0},{"$f":"DataBase!D1457","v":0},{"$f":"DataBase!E1457","v":0},{"$f":"DataBase!F1457","v":0}]
[{"$f":"DataBase!C1458","v":0},{"$f":"DataBase!D1458","v":0},{"$f":"DataBase!E1458","v":0},{"$f":"DataBase!F1458","v":0}]
[{"$f":"DataBase!C1459","v":0},{"$f":"DataBase!D1459","v":0},{"$f":"DataBase!E1459","v":0},{"$f":"DataBase!F1459","v":0}]
[{"$f":"DataBase!C1460","v":0},{"$f":"DataBase!D1460","v":0},{"$f":"DataBase!E1460","v":0},{"$f":"DataBase!F1460","v":0}]
[{"$f":"DataBase!C1461","v":0},{"$f":"DataBase!D1461","v":0},{"$f":"DataBase!E1461","v":0},{"$f":"DataBase!F1461","v":0}]
[{"$f":"DataBase!C1462","v":0},{"$f":"DataBase!D1462","v":0},{"$f":"DataBase!E1462","v":0},{"$f":"DataBase!F1462","v":0}]
[{"$f":"DataBase!C1463","v":0},{"$f":"DataBase!D1463","v":0},{"$f":"DataBase!E1463","v":0},{"$f":"DataBase!F1463","v":0}]
[{"$f":"DataBase!C1464","v":0},{"$f":"DataBase!D1464","v":0},{"$f":"DataBase!E1464","v":0},{"$f":"DataBase!F1464","v":0}]
[{"$f":"DataBase!C1465","v":0},{"$f":"DataBase!D1465","v":0},{"$f":"DataBase!E1465","v":0},{"$f":"DataBase!F1465","v":0}]
[{"$f":"DataBase!C1466","v":0},{"$f":"DataBase!D1466","v":0},{"$f":"DataBase!E1466","v":0},{"$f":"DataBase!F1466","v":0}]
[{"$f":"DataBase!C1467","v":0},{"$f":"DataBase!D1467","v":0},{"$f":"DataBase!E1467","v":0},{"$f":"DataBase!F1467","v":0}]
[{"$f":"DataBase!C1468","v":0},{"$f":"DataBase!D1468","v":0},{"$f":"DataBase!E1468","v":0},{"$f":"DataBase!F1468","v":0}]
[{"$f":"DataBase!C1469","v":0},{"$f":"DataBase!D1469","v":0},{"$f":"DataBase!E1469","v":0},{"$f":"DataBase!F1469","v":0}]
[{"$f":"DataBase!C1470","v":0},{"$f":"DataBase!D1470","v":0},{"$f":"DataBase!E1470","v":0},{"$f":"DataBase!F1470","v":0}]
[{"$f":"DataBase!C1471","v":0},{"$f":"DataBase!D1471","v":0},{"$f":"DataBase!E1471","v":0},{"$f":"DataBase!F1471","v":0}]
[{"$f":"DataBase!C1472","v":0},{"$f":"DataBase!D1472","v":0},{"$f":"DataBase!E1472","v":0},{"$f":"DataBase!F1472","v":0}]
[{"$f":"DataBase!C1473","v":0},{"$f":"DataBase!D1473","v":0},{"$f":"DataBase!E1473","v":0},{"$f":"DataBase!F1473","v":0}]
[{"$f":"DataBase!C1474","v":0},{"$f":"DataBase!D1474","v":0},{"$f":"DataBase!E1474","v":0},{"$f":"DataBase!F1474","v":0}]
[{"$f":"DataBase!C1475","v":0},{"$f":"DataBase!D1475","v":0},{"$f":"DataBase!E1475","v":0},{"$f":"DataBase!F1475","v":0}]
[{"$f":"DataBase!C1476","v":0},{"$f":"DataBase!D1476","v":0},{"$f":"DataBase!E1476","v":0},{"$f":"DataBase!F1476","v":0}]
[{"$f":"DataBase!C1477","v":0},{"$f":"DataBase!D1477","v":0},{"$f":"DataBase!E1477","v":0},{"$f":"DataBase!F1477","v":0}]
[{"$f":"DataBase!C1478","v":0},{"$f":"DataBase!D1478","v":0},{"$f":"DataBase!E1478","v":0},{"$f":"DataBase!F1478","v":0}]
[{"$f":"DataBase!C1479","v":0},{"$f":"DataBase!D1479","v":0},{"$f":"DataBase!E1479","v":0},{"$f":"DataBase!F1479","v":0}]
[{"$f":"DataBase!C1480","v":0},{"$f":"DataBase!D1480","v":0},{"$f":"DataBase!E1480","v":0},{"$f":"DataBase!F1480","v":0}]
[{"$f":"DataBase!C1481","v":0},{"$f":"DataBase!D1481","v":0},{"$f":"DataBase!E1481","v":0},{"$f":"DataBase!F1481","v":0}]
[{"$f":"DataBase!C1482","v":0},{"$f":"DataBase!D1482","v":0},{"$f":"DataBase!E1482","v":0},{"$f":"DataBase!F1482","v":0}]
[{"$f":"DataBase!C1483","v":0},{"$f":"DataBase!D1483","v":0},{"$f":"DataBase!E1483","v":0},{"$f":"DataBase!F1483","v":0}]
[{"$f":"DataBase!C1484","v":0},{"$f":"DataBase!D1484","v":0},{"$f":"DataBase!E1484","v":0},{"$f":"DataBase!F1484","v":0}]
[{"$f":"DataBase!C1485","v":0},{"$f":"DataBase!D1485","v":0},{"$f":"DataBase!E1485","v":0},{"$f":"DataBase!F1485","v":0}]
[{"$f":"DataBase!C1486","v":0},{"$f":"DataBase!D1486","v":0},{"$f":"DataBase!E1486","v":0},{"$f":"DataBase!F1486","v":0}]
[{"$f":"DataBase!C1487","v":0},{"$f":"DataBase!D1487","v":0},{"$f":"DataBase!E1487","v":0},{"$f":"DataBase!F1487","v":0}]
[{"$f":"DataBase!C1488","v":0},{"$f":"DataBase!D1488","v":0},{"$f":"DataBase!E1488","v":0},{"$f":"DataBase!F1488","v":0}]
[{"$f":"DataBase!C1489","v":0},{"$f":"DataBase!D1489","v":0},{"$f":"DataBase!E1489","v":0},{"$f":"DataBase!F1489","v":0}]
[{"$f":"DataBase!C1490","v":0},{"$f":"DataBase!D1490","v":0},{"$f":"DataBase!E1490","v":0},{"$f":"DataBase!F1490","v":0}]
[{"$f":"DataBase!C1491","v":0},{"$f":"DataBase!D1491","v":0},{"$f":"DataBase!E1491","v":0},{"$f":"DataBase!F1491","v":0}]
[{"$f":"DataBase!C1492","v":0},{"$f":"DataBase!D1492","v":0},{"$f":"DataBase!E1492","v":0},{"$f":"DataBase!F1492","v":0}]
[{"$f":"DataBase!C1493","v":0},{"$f":"DataBase!D1493","v":0},{"$f":"DataBase!E1493","v":0},{"$f":"DataBase!F1493","v":0}]
[{"$f":"DataBase!C1494","v":0},{"$f":"DataBase!D1494","v":0},{"$f":"DataBase!E1494","v":0},{"$f":"DataBase!F1494","v":0}]
[{"$f":"DataBase!C1495","v":0},{"$f":"DataBase!D1495","v":0},{"$f":"DataBase!E1495","v":0},{"$f":"DataBase!F1495","v":0}]
[{"$f":"DataBase!C1496","v":0},{"$f":"DataBase!D1496","v":0},{"$f":"DataBase!E1496","v":0},{"$f":"DataBase!F1496","v":0}]
[{"$f":"DataBase!C1497","v":0},{"$f":"DataBase!D1497","v":0},{"$f":"DataBase!E1497","v":0},{"$f":"DataBase!F1497","v":0}]
[{"$f":"DataBase!C1498","v":0},{"$f":"DataBase!D1498","v":0},{"$f":"DataBase!E1498","v":0},{"$f":"DataBase!F1498","v":0}]
[{"$f":"DataBase!C1499","v":0},{"$f":"DataBase!D1499","v":0},{"$f":"DataBase!E1499","v":0},{"$f":"DataBase!F1499","v":0}]
[{"$f":"DataBase!C1500","v":0},{"$f":"DataBase!D1500","v":0},{"$f":"DataBase!E1500","v":0},{"$f":"DataBase!F1500","v":0}]
[{"$f":"DataBase!C1501","v":0},{"$f":"DataBase!D1501","v":0},{"$f":"DataBase!E1501","v":0},{"$f":"DataBase!F1501","v":0}]
[{"$f":"DataBase!C1502","v":0},{"$f":"DataBase!D1502","v":0},{"$f":"DataBase!E1502","v":0},{"$f":"DataBase!F1502","v":0}]
[{"$f":"DataBase!C1503","v":0},{"$f":"DataBase!D1503","v":0},{"$f":"DataBase!E1503","v":0},{"$f":"DataBase!F1503","v":0}]
[{"$f":"DataBase!C1504","v":0},{"$f":"DataBase!D1504","v":0},{"$f":"DataBase!E1504","v":0},{"$f":"DataBase!F1504","v":0}]
[{"$f":"DataBase!C1505","v":0},{"$f":"DataBase!D1505","v":0},{"$f":"DataBase!E1505","v":0},{"$f":"DataBase!F1505","v":0}]
[{"$f":"DataBase!C1506","v":0},{"$f":"DataBase!D1506","v":0},{"$f":"DataBase!E1506","v":0},{"$f":"DataBase!F1506","v":0}]
[{"$f":"DataBase!C1507","v":0},{"$f":"DataBase!D1507","v":0},{"$f":"DataBase!E1507","v":0},{"$f":"DataBase!F1507","v":0}]
[{"$f":"DataBase!C1508","v":0},{"$f":"DataBase!D1508","v":0},{"$f":"DataBase!E1508","v":0},{"$f":"DataBase!F1508","v":0}]
[{"$f":"DataBase!C1509","v":0},{"$f":"DataBase!D1509","v":0},{"$f":"DataBase!E1509","v":0},{"$f":"DataBase!F1509","v":0}]
[{"$f":"DataBase!C1510","v":0},{"$f":"DataBase!D1510","v":0},{"$f":"DataBase!E1510","v":0},{"$f":"DataBase!F1510","v":0}]
[{"$f":"DataBase!C1511","v":0},{"$f":"DataBase!D1511","v":0},{"$f":"DataBase!E1511","v":0},{"$f":"DataBase!F1511","v":0}]
[{"$f":"DataBase!C1512","v":0},{"$f":"DataBase!D1512","v":0},{"$f":"DataBase!E1512","v":0},{"$f":"DataBase!F1512","v":0}]
[{"$f":"DataBase!C1513","v":0},{"$f":"DataBase!D1513","v":0},{"$f":"DataBase!E1513","v":0},{"$f":"DataBase!F1513","v":0}]
[{"$f":"DataBase!C1514","v":0},{"$f":"DataBase!D1514","v":0},{"$f":"DataBase!E1514","v":0},{"$f":"DataBase!F1514","v":0}]
[{"$f":"DataBase!C1515","v":0},{"$f":"DataBase!D1515","v":0},{"$f":"DataBase!E1515","v":0},{"$f":"DataBase!F1515","v":0}]
[{"$f":"DataBase!C1516","v":0},{"$f":"DataBase!D1516","v":0},{"$f":"DataBase!E1516","v":0},{"$f":"DataBase!F1516","v":0}]
[{"$f":"DataBase!C1517","v":0},{"$f":"DataBase!D1517","v":0},{"$f":"DataBase!E1517","v":0},{"$f":"DataBase!F1517","v":0}]
[{"$f":"DataBase!C1518","v":0},{"$f":"DataBase!D1518","v":0},{"$f":"DataBase!E1518","v":0},{"$f":"DataBase!F1518","v":0}]
[{"$f":"DataBase!C1519","v":0},{"$f":"DataBase!D1519","v":0},{"$f":"DataBase!E1519","v":0},{"$f":"DataBase!F1519","v":0}]
[{"$f":"DataBase!C1520","v":0},{"$f":"DataBase!D1520","v":0},{"$f":"DataBase!E1520","v":0},{"$f":"DataBase!F1520","v":0}]
[{"$f":"DataBase!C1521","v":0},{"$f":"DataBase!D1521","v":0},{"$f":"DataBase!E1521","v":0},{"$f":"DataBase!F1521","v":0}]
[{"$f":"DataBase!C1522","v":0},{"$f":"DataBase!D1522","v":0},{"$f":"DataBase!E1522","v":0},{"$f":"DataBase!F1522","v":0}]
[{"$f":"DataBase!C1523","v":0},{"$f":"DataBase!D1523","v":0},{"$f":"DataBase!E1523","v":0},{"$f":"DataBase!F1523","v":0}]
[{"$f":"DataBase!C1524","v":0},{"$f":"DataBase!D1524","v":0},{"$f":"DataBase!E1524","v":0},{"$f":"DataBase!F1524","v":0}]
[{"$f":"DataBase!C1525","v":0},{"$f":"DataBase!D1525","v":0},{"$f":"DataBase!E1525","v":0},{"$f":"DataBase!F1525","v":0}]
[{"$f":"DataBase!C1526","v":0},{"$f":"DataBase!D1526","v":0},{"$f":"DataBase!E1526","v":0},{"$f":"DataBase!F1526","v":0}]
[{"$f":"DataBase!C1527","v":0},{"$f":"DataBase!D1527","v":0},{"$f":"DataBase!E1527","v":0},{"$f":"DataBase!F1527","v":0}]
[{"$f":"DataBase!C1528","v":0},{"$f":"DataBase!D1528","v":0},{"$f":"DataBase!E1528","v":0},{"$f":"DataBase!F1528","v":0}]
[{"$f":"DataBase!C1529","v":0},{"$f":"DataBase!D1529","v":0},{"$f":"DataBase!E1529","v":0},{"$f":"DataBase!F1529","v":0}]
[{"$f":"DataBase!C1530","v":0},{"$f":"DataBase!D1530","v":0},{"$f":"DataBase!E1530","v":0},{"$f":"DataBase!F1530","v":0}]
[{"$f":"DataBase!C1531","v":0},{"$f":"DataBase!D1531","v":0},{"$f":"DataBase!E1531","v":0},{"$f":"DataBase!F1531","v":0}]
[{"$f":"DataBase!C1532","v":0},{"$f":"DataBase!D1532","v":0},{"$f":"DataBase!E1532","v":0},{"$f":"DataBase!F1532","v":0}]
[{"$f":"DataBase!C1533","v":0},{"$f":"DataBase!D1533","v":0},{"$f":"DataBase!E1533","v":0},{"$f":"DataBase!F1533","v":0}]
[{"$f":"DataBase!C1534","v":0},{"$f":"DataBase!D1534","v":0},{"$f":"DataBase!E1534","v":0},{"$f":"DataBase!F1534","v":0}]
[{"$f":"DataBase!C1535","v":0},{"$f":"DataBase!D1535","v":0},{"$f":"DataBase!E1535","v":0},{"$f":"DataBase!F1535","v":0}]
[{"$f":"DataBase!C1536","v":0},{"$f":"DataBase!D1536","v":0},{"$f":"DataBase!E1536","v":0},{"$f":"DataBase!F1536","v":0}]
[{"$f":"DataBase!C1537","v":0},{"$f":"DataBase!D1537","v":0},{"$f":"DataBase!E1537","v":0},{"$f":"DataBase!F1537","v":0}]
[{"$f":"DataBase!C1538","v":0},{"$f":"DataBase!D1538","v":0},{"$f":"DataBase!E1538","v":0},{"$f":"DataBase!F1538","v":0}]
[{"$f":"DataBase!C1539","v":0},{"$f":"DataBase!D1539","v":0},{"$f":"DataBase!E1539","v":0},{"$f":"DataBase!F1539","v":0}]
[{"$f":"DataBase!C1540","v":0},{"$f":"DataBase!D1540","v":0},{"$f":"DataBase!E1540","v":0},{"$f":"DataBase!F1540","v":0}]
[{"$f":"DataBase!C1541","v":0},{"$f":"DataBase!D1541","v":0},{"$f":"DataBase!E1541","v":0},{"$f":"DataBase!F1541","v":0}]
[{"$f":"DataBase!C1542","v":0},{"$f":"DataBase!D1542","v":0},{"$f":"DataBase!E1542","v":0},{"$f":"DataBase!F1542","v":0}]
[{"$f":"DataBase!C1543","v":0},{"$f":"DataBase!D1543","v":0},{"$f":"DataBase!E1543","v":0},{"$f":"DataBase!F1543","v":0}]
[{"$f":"DataBase!C1544","v":0},{"$f":"DataBase!D1544","v":0},{"$f":"DataBase!E1544","v":0},{"$f":"DataBase!F1544","v":0}]
[{"$f":"DataBase!C1545","v":0},{"$f":"DataBase!D1545","v":0},{"$f":"DataBase!E1545","v":0},{"$f":"DataBase!F1545","v":0}]
[{"$f":"DataBase!C1546","v":0},{"$f":"DataBase!D1546","v":0},{"$f":"DataBase!E1546","v":0},{"$f":"DataBase!F1546","v":0}]
[{"$f":"DataBase!C1547","v":0},{"$f":"DataBase!D1547","v":0},{"$f":"DataBase!E1547","v":0},{"$f":"DataBase!F1547","v":0}]
[{"$f":"DataBase!C1548","v":0},{"$f":"DataBase!D1548","v":0},{"$f":"DataBase!E1548","v":0},{"$f":"DataBase!F1548","v":0}]
[{"$f":"DataBase!C1549","v":0},{"$f":"DataBase!D1549","v":0},{"$f":"DataBase!E1549","v":0},{"$f":"DataBase!F1549","v":0}]
[{"$f":"DataBase!C1550","v":0},{"$f":"DataBase!D1550","v":0},{"$f":"DataBase!E1550","v":0},{"$f":"DataBase!F1550","v":0}]
[{"$f":"DataBase!C1551","v":0},{"$f":"DataBase!D1551","v":0},{"$f":"DataBase!E1551","v":0},{"$f":"DataBase!F1551","v":0}]
[{"$f":"DataBase!C1552","v":0},{"$f":"DataBase!D1552","v":0},{"$f":"DataBase!E1552","v":0},{"$f":"DataBase!F1552","v":0}]
[{"$f":"DataBase!C1553","v":0},{"$f":"DataBase!D1553","v":0},{"$f":"DataBase!E1553","v":0},{"$f":"DataBase!F1553","v":0}]
[{"$f":"DataBase!C1554","v":0},{"$f":"DataBase!D1554","v":0},{"$f":"DataBase!E1554","v":0},{"$f":"DataBase!F1554","v":0}]
[{"$f":"DataBase!C1555","v":0},{"$f":"DataBase!D1555","v":0},{"$f":"DataBase!E1555","v":0},{"$f":"DataBase!F1555","v":0}]
[{"$f":"DataBase!C1556","v":0},{"$f":"DataBase!D1556","v":0},{"$f":"DataBase!E1556","v":0},{"$f":"DataBase!F1556","v":0}]
[{"$f":"DataBase!C1557","v":0},{"$f":"DataBase!D1557","v":0},{"$f":"DataBase!E1557","v":0},{"$f":"DataBase!F1557","v":0}]
[{"$f":"DataBase!C1558","v":0},{"$f":"DataBase!D1558","v":0},{"$f":"DataBase!E1558","v":0},{"$f":"DataBase!F1558","v":0}]
[{"$f":"DataBase!C1559","v":0},{"$f":"DataBase!D1559","v":0},{"$f":"DataBase!E1559","v":0},{"$f":"DataBase!F1559","v":0}]
[{"$f":"DataBase!C1560","v":0},{"$f":"DataBase!D1560","v":0},{"$f":"DataBase!E1560","v":0},{"$f":"DataBase!F1560","v":0}]
[{"$f":"DataBase!C1561","v":0},{"$f":"DataBase!D1561","v":0},{"$f":"DataBase!E1561","v":0},{"$f":"DataBase!F1561","v":0}]
[{"$f":"DataBase!C1562","v":0},{"$f":"DataBase!D1562","v":0},{"$f":"DataBase!E1562","v":0},{"$f":"DataBase!F1562","v":0}]
[{"$f":"DataBase!C1563","v":0},{"$f":"DataBase!D1563","v":0},{"$f":"DataBase!E1563","v":0},{"$f":"DataBase!F1563","v":0}]
[{"$f":"DataBase!C1564","v":0},{"$f":"DataBase!D1564","v":0},{"$f":"DataBase!E1564","v":0},{"$f":"DataBase!F1564","v":0}]
[{"$f":"DataBase!C1565","v":0},{"$f":"DataBase!D1565","v":0},{"$f":"DataBase!E1565","v":0},{"$f":"DataBase!F1565","v":0}]
[{"$f":"DataBase!C1566","v":0},{"$f":"DataBase!D1566","v":0},{"$f":"DataBase!E1566","v":0},{"$f":"DataBase!F1566","v":0}]
[{"$f":"DataBase!C1567","v":0},{"$f":"DataBase!D1567","v":0},{"$f":"DataBase!E1567","v":0},{"$f":"DataBase!F1567","v":0}]
[{"$f":"DataBase!C1568","v":0},{"$f":"DataBase!D1568","v":0},{"$f":"DataBase!E1568","v":0},{"$f":"DataBase!F1568","v":0}]
[{"$f":"DataBase!C1569","v":0},{"$f":"DataBase!D1569","v":0},{"$f":"DataBase!E1569","v":0},{"$f":"DataBase!F1569","v":0}]
[{"$f":"DataBase!C1570","v":0},{"$f":"DataBase!D1570","v":0},{"$f":"DataBase!E1570","v":0},{"$f":"DataBase!F1570","v":0}]
[{"$f":"DataBase!C1571","v":0},{"$f":"DataBase!D1571","v":0},{"$f":"DataBase!E1571","v":0},{"$f":"DataBase!F1571","v":0}]
[{"$f":"DataBase!C1572","v":0},{"$f":"DataBase!D1572","v":0},{"$f":"DataBase!E1572","v":0},{"$f":"DataBase!F1572","v":0}]
[{"$f":"DataBase!C1573","v":0},{"$f":"DataBase!D1573","v":0},{"$f":"DataBase!E1573","v":0},{"$f":"DataBase!F1573","v":0}]
[{"$f":"DataBase!C1574","v":0},{"$f":"DataBase!D1574","v":0},{"$f":"DataBase!E1574","v":0},{"$f":"DataBase!F1574","v":0}]
[{"$f":"DataBase!C1575","v":0},{"$f":"DataBase!D1575","v":0},{"$f":"DataBase!E1575","v":0},{"$f":"DataBase!F1575","v":0}]
[{"$f":"DataBase!C1576","v":0},{"$f":"DataBase!D1576","v":0},{"$f":"DataBase!E1576","v":0},{"$f":"DataBase!F1576","v":0}]
[{"$f":"DataBase!C1577","v":0},{"$f":"DataBase!D1577","v":0},{"$f":"DataBase!E1577","v":0},{"$f":"DataBase!F1577","v":0}]
[{"$f":"DataBase!C1578","v":0},{"$f":"DataBase!D1578","v":0},{"$f":"DataBase!E1578","v":0},{"$f":"DataBase!F1578","v":0}]
[{"$f":"DataBase!C1579","v":0},{"$f":"DataBase!D1579","v":0},{"$f":"DataBase!E1579","v":0},{"$f":"DataBase!F1579","v":0}]
[{"$f":"DataBase!C1580","v":0},{"$f":"DataBase!D1580","v":0},{"$f":"DataBase!E1580","v":0},{"$f":"DataBase!F1580","v":0}]
[{"$f":"DataBase!C1581","v":0},{"$f":"DataBase!D1581","v":0},{"$f":"DataBase!E1581","v":0},{"$f":"DataBase!F1581","v":0}]
[{"$f":"DataBase!C1582","v":0},{"$f":"DataBase!D1582","v":0},{"$f":"DataBase!E1582","v":0},{"$f":"DataBase!F1582","v":0}]
[{"$f":"DataBase!C1583","v":0},{"$f":"DataBase!D1583","v":0},{"$f":"DataBase!E1583","v":0},{"$f":"DataBase!F1583","v":0}]
[{"$f":"DataBase!C1584","v":0},{"$f":"DataBase!D1584","v":0},{"$f":"DataBase!E1584","v":0},{"$f":"DataBase!F1584","v":0}]
[{"$f":"DataBase!C1585","v":0},{"$f":"DataBase!D1585","v":0},{"$f":"DataBase!E1585","v":0},{"$f":"DataBase!F1585","v":0}]
[{"$f":"DataBase!C1586","v":0},{"$f":"DataBase!D1586","v":0},{"$f":"DataBase!E1586","v":0},{"$f":"DataBase!F1586","v":0}]
[{"$f":"DataBase!C1587","v":0},{"$f":"DataBase!D1587","v":0},{"$f":"DataBase!E1587","v":0},{"$f":"DataBase!F1587","v":0}]
[{"$f":"DataBase!C1588","v":0},{"$f":"DataBase!D1588","v":0},{"$f":"DataBase!E1588","v":0},{"$f":"DataBase!F1588","v":0}]
[{"$f":"DataBase!C1589","v":0},{"$f":"DataBase!D1589","v":0},{"$f":"DataBase!E1589","v":0},{"$f":"DataBase!F1589","v":0}]
[{"$f":"DataBase!C1590","v":0},{"$f":"DataBase!D1590","v":0},{"$f":"DataBase!E1590","v":0},{"$f":"DataBase!F1590","v":0}]
[{"$f":"DataBase!C1591","v":0},{"$f":"DataBase!D1591","v":0},{"$f":"DataBase!E1591","v":0},{"$f":"DataBase!F1591","v":0}]
[{"$f":"DataBase!C1592","v":0},{"$f":"DataBase!D1592","v":0},{"$f":"DataBase!E1592","v":0},{"$f":"DataBase!F1592","v":0}]
[{"$f":"DataBase!C1593","v":0},{"$f":"DataBase!D1593","v":0},{"$f":"DataBase!E1593","v":0},{"$f":"DataBase!F1593","v":0}]
[{"$f":"DataBase!C1594","v":0},{"$f":"DataBase!D1594","v":0},{"$f":"DataBase!E1594","v":0},{"$f":"DataBase!F1594","v":0}]
[{"$f":"DataBase!C1595","v":0},{"$f":"DataBase!D1595","v":0},{"$f":"DataBase!E1595","v":0},{"$f":"DataBase!F1595","v":0}]
[{"$f":"DataBase!C1596","v":0},{"$f":"DataBase!D1596","v":0},{"$f":"DataBase!E1596","v":0},{"$f":"DataBase!F1596","v":0}]
[{"$f":"DataBase!C1597","v":0},{"$f":"DataBase!D1597","v":0},{"$f":"DataBase!E1597","v":0},{"$f":"DataBase!F1597","v":0}]
[{"$f":"DataBase!C1598","v":0},{"$f":"DataBase!D1598","v":0},{"$f":"DataBase!E1598","v":0},{"$f":"DataBase!F1598","v":0}]
[{"$f":"DataBase!C1599","v":0},{"$f":"DataBase!D1599","v":0},{"$f":"DataBase!E1599","v":0},{"$f":"DataBase!F1599","v":0}]
[{"$f":"DataBase!C1600","v":0},{"$f":"DataBase!D1600","v":0},{"$f":"DataBase!E1600","v":0},{"$f":"DataBase!F1600","v":0}]
[{"$f":"DataBase!C1601","v":0},{"$f":"DataBase!D1601","v":0},{"$f":"DataBase!E1601","v":0},{"$f":"DataBase!F1601","v":0}]
[{"$f":"DataBase!C1602","v":0},{"$f":"DataBase!D1602","v":0},{"$f":"DataBase!E1602","v":0},{"$f":"DataBase!F1602","v":0}]
[{"$f":"DataBase!C1603","v":0},{"$f":"DataBase!D1603","v":0},{"$f":"DataBase!E1603","v":0},{"$f":"DataBase!F1603","v":0}]
[{"$f":"DataBase!C1604","v":0},{"$f":"DataBase!D1604","v":0},{"$f":"DataBase!E1604","v":0},{"$f":"DataBase!F1604","v":0}]
[{"$f":"DataBase!C1605","v":0},{"$f":"DataBase!D1605","v":0},{"$f":"DataBase!E1605","v":0},{"$f":"DataBase!F1605","v":0}]
[{"$f":"DataBase!C1606","v":0},{"$f":"DataBase!D1606","v":0},{"$f":"DataBase!E1606","v":0},{"$f":"DataBase!F1606","v":0}]
[{"$f":"DataBase!C1607","v":0},{"$f":"DataBase!D1607","v":0},{"$f":"DataBase!E1607","v":0},{"$f":"DataBase!F1607","v":0}]
[{"$f":"DataBase!C1608","v":0},{"$f":"DataBase!D1608","v":0},{"$f":"DataBase!E1608","v":0},{"$f":"DataBase!F1608","v":0}]
[{"$f":"DataBase!C1609","v":0},{"$f":"DataBase!D1609","v":0},{"$f":"DataBase!E1609","v":0},{"$f":"DataBase!F1609","v":0}]
[{"$f":"DataBase!C1610","v":0},{"$f":"DataBase!D1610","v":0},{"$f":"DataBase!E1610","v":0},{"$f":"DataBase!F1610","v":0}]
[{"$f":"DataBase!C1611","v":0},{"$f":"DataBase!D1611","v":0},{"$f":"DataBase!E1611","v":0},{"$f":"DataBase!F1611","v":0}]
[{"$f":"DataBase!C1612","v":0},{"$f":"DataBase!D1612","v":0},{"$f":"DataBase!E1612","v":0},{"$f":"DataBase!F1612","v":0}]
[{"$f":"DataBase!C1613","v":0},{"$f":"DataBase!D1613","v":0},{"$f":"DataBase!E1613","v":0},{"$f":"DataBase!F1613","v":0}]
[{"$f":"DataBase!C1614","v":0},{"$f":"DataBase!D1614","v":0},{"$f":"DataBase!E1614","v":0},{"$f":"DataBase!F1614","v":0}]
[{"$f":"DataBase!C1615","v":0},{"$f":"DataBase!D1615","v":0},{"$f":"DataBase!E1615","v":0},{"$f":"DataBase!F1615","v":0}]
[{"$f":"DataBase!C1616","v":0},{"$f":"DataBase!D1616","v":0},{"$f":"DataBase!E1616","v":0},{"$f":"DataBase!F1616","v":0}]
[{"$f":"DataBase!C1617","v":0},{"$f":"DataBase!D1617","v":0},{"$f":"DataBase!E1617","v":0},{"$f":"DataBase!F1617","v":0}]
[{"$f":"DataBase!C1618","v":0},{"$f":"DataBase!D1618","v":0},{"$f":"DataBase!E1618","v":0},{"$f":"DataBase!F1618","v":0}]
[{"$f":"DataBase!C1619","v":0},{"$f":"DataBase!D1619","v":0},{"$f":"DataBase!E1619","v":0},{"$f":"DataBase!F1619","v":0}]
[{"$f":"DataBase!C1620","v":0},{"$f":"DataBase!D1620","v":0},{"$f":"DataBase!E1620","v":0},{"$f":"DataBase!F1620","v":0}]
[{"$f":"DataBase!C1621","v":0},{"$f":"DataBase!D1621","v":0},{"$f":"DataBase!E1621","v":0},{"$f":"DataBase!F1621","v":0}]
[{"$f":"DataBase!C1622","v":0},{"$f":"DataBase!D1622","v":0},{"$f":"DataBase!E1622","v":0},{"$f":"DataBase!F1622","v":0}]
[{"$f":"DataBase!C1623","v":0},{"$f":"DataBase!D1623","v":0},{"$f":"DataBase!E1623","v":0},{"$f":"DataBase!F1623","v":0}]
[{"$f":"DataBase!C1624","v":0},{"$f":"DataBase!D1624","v":0},{"$f":"DataBase!E1624","v":0},{"$f":"DataBase!F1624","v":0}]
[{"$f":"DataBase!C1625","v":0},{"$f":"DataBase!D1625","v":0},{"$f":"DataBase!E1625","v":0},{"$f":"DataBase!F1625","v":0}]
[{"$f":"DataBase!C1626","v":0},{"$f":"DataBase!D1626","v":0},{"$f":"DataBase!E1626","v":0},{"$f":"DataBase!F1626","v":0}]
[{"$f":"DataBase!C1627","v":0},{"$f":"DataBase!D1627","v":0},{"$f":"DataBase!E1627","v":0},{"$f":"DataBase!F1627","v":0}]
[{"$f":"DataBase!C1628","v":0},{"$f":"DataBase!D1628","v":0},{"$f":"DataBase!E1628","v":0},{"$f":"DataBase!F1628","v":0}]
[{"$f":"DataBase!C1629","v":0},{"$f":"DataBase!D1629","v":0},{"$f":"DataBase!E1629","v":0},{"$f":"DataBase!F1629","v":0}]
[{"$f":"DataBase!C1630","v":0},{"$f":"DataBase!D1630","v":0},{"$f":"DataBase!E1630","v":0},{"$f":"DataBase!F1630","v":0}]
[{"$f":"DataBase!C1631","v":0},{"$f":"DataBase!D1631","v":0},{"$f":"DataBase!E1631","v":0},{"$f":"DataBase!F1631","v":0}]
[{"$f":"DataBase!C1632","v":0},{"$f":"DataBase!D1632","v":0},{"$f":"DataBase!E1632","v":0},{"$f":"DataBase!F1632","v":0}]
[{"$f":"DataBase!C1633","v":0},{"$f":"DataBase!D1633","v":0},{"$f":"DataBase!E1633","v":0},{"$f":"DataBase!F1633","v":0}]
[{"$f":"DataBase!C1634","v":0},{"$f":"DataBase!D1634","v":0},{"$f":"DataBase!E1634","v":0},{"$f":"DataBase!F1634","v":0}]
[{"$f":"DataBase!C1635","v":0},{"$f":"DataBase!D1635","v":0},{"$f":"DataBase!E1635","v":0},{"$f":"DataBase!F1635","v":0}]
[{"$f":"DataBase!C1636","v":0},{"$f":"DataBase!D1636","v":0},{"$f":"DataBase!E1636","v":0},{"$f":"DataBase!F1636","v":0}]
[{"$f":"DataBase!C1637","v":0},{"$f":"DataBase!D1637","v":0},{"$f":"DataBase!E1637","v":0},{"$f":"DataBase!F1637","v":0}]
[{"$f":"DataBase!C1638","v":0},{"$f":"DataBase!D1638","v":0},{"$f":"DataBase!E1638","v":0},{"$f":"DataBase!F1638","v":0}]
[{"$f":"DataBase!C1639","v":0},{"$f":"DataBase!D1639","v":0},{"$f":"DataBase!E1639","v":0},{"$f":"DataBase!F1639","v":0}]
[{"$f":"DataBase!C1640","v":0},{"$f":"DataBase!D1640","v":0},{"$f":"DataBase!E1640","v":0},{"$f":"DataBase!F1640","v":0}]
[{"$f":"DataBase!C1641","v":0},{"$f":"DataBase!D1641","v":0},{"$f":"DataBase!E1641","v":0},{"$f":"DataBase!F1641","v":0}]
[{"$f":"DataBase!C1642","v":0},{"$f":"DataBase!D1642","v":0},{"$f":"DataBase!E1642","v":0},{"$f":"DataBase!F1642","v":0}]
[{"$f":"DataBase!C1643","v":0},{"$f":"DataBase!D1643","v":0},{"$f":"DataBase!E1643","v":0},{"$f":"DataBase!F1643","v":0}]
[{"$f":"DataBase!C1644","v":0},{"$f":"DataBase!D1644","v":0},{"$f":"DataBase!E1644","v":0},{"$f":"DataBase!F1644","v":0}]
[{"$f":"DataBase!C1645","v":0},{"$f":"DataBase!D1645","v":0},{"$f":"DataBase!E1645","v":0},{"$f":"DataBase!F1645","v":0}]
[{"$f":"DataBase!C1646","v":0},{"$f":"DataBase!D1646","v":0},{"$f":"DataBase!E1646","v":0},{"$f":"DataBase!F1646","v":0}]
[{"$f":"DataBase!C1647","v":0},{"$f":"DataBase!D1647","v":0},{"$f":"DataBase!E1647","v":0},{"$f":"DataBase!F1647","v":0}]
[{"$f":"DataBase!C1648","v":0},{"$f":"DataBase!D1648","v":0},{"$f":"DataBase!E1648","v":0},{"$f":"DataBase!F1648","v":0}]
[{"$f":"DataBase!C1649","v":0},{"$f":"DataBase!D1649","v":0},{"$f":"DataBase!E1649","v":0},{"$f":"DataBase!F1649","v":0}]
[{"$f":"DataBase!C1650","v":0},{"$f":"DataBase!D1650","v":0},{"$f":"DataBase!E1650","v":0},{"$f":"DataBase!F1650","v":0}]
[{"$f":"DataBase!C1651","v":0},{"$f":"DataBase!D1651","v":0},{"$f":"DataBase!E1651","v":0},{"$f":"DataBase!F1651","v":0}]
[{"$f":"DataBase!C1652","v":0},{"$f":"DataBase!D1652","v":0},{"$f":"DataBase!E1652","v":0},{"$f":"DataBase!F1652","v":0}]
[{"$f":"DataBase!C1653","v":0},{"$f":"DataBase!D1653","v":0},{"$f":"DataBase!E1653","v":0},{"$f":"DataBase!F1653","v":0}]
[{"$f":"DataBase!C1654","v":0},{"$f":"DataBase!D1654","v":0},{"$f":"DataBase!E1654","v":0},{"$f":"DataBase!F1654","v":0}]
[{"$f":"DataBase!C1655","v":0},{"$f":"DataBase!D1655","v":0},{"$f":"DataBase!E1655","v":0},{"$f":"DataBase!F1655","v":0}]
[{"$f":"DataBase!C1656","v":0},{"$f":"DataBase!D1656","v":0},{"$f":"DataBase!E1656","v":0},{"$f":"DataBase!F1656","v":0}]
[{"$f":"DataBase!C1657","v":0},{"$f":"DataBase!D1657","v":0},{"$f":"DataBase!E1657","v":0},{"$f":"DataBase!F1657","v":0}]
[{"$f":"DataBase!C1658","v":0},{"$f":"DataBase!D1658","v":0},{"$f":"DataBase!E1658","v":0},{"$f":"DataBase!F1658","v":0}]
[{"$f":"DataBase!C1659","v":0},{"$f":"DataBase!D1659","v":0},{"$f":"DataBase!E1659","v":0},{"$f":"DataBase!F1659","v":0}]
[{"$f":"DataBase!C1660","v":0},{"$f":"DataBase!D1660","v":0},{"$f":"DataBase!E1660","v":0},{"$f":"DataBase!F1660","v":0}]
[{"$f":"DataBase!C1661","v":0},{"$f":"DataBase!D1661","v":0},{"$f":"DataBase!E1661","v":0},{"$f":"DataBase!F1661","v":0}]
[{"$f":"DataBase!C1662","v":0},{"$f":"DataBase!D1662","v":0},{"$f":"DataBase!E1662","v":0},{"$f":"DataBase!F1662","v":0}]
[{"$f":"DataBase!C1663","v":0},{"$f":"DataBase!D1663","v":0},{"$f":"DataBase!E1663","v":0},{"$f":"DataBase!F1663","v":0}]
[{"$f":"DataBase!C1664","v":0},{"$f":"DataBase!D1664","v":0},{"$f":"DataBase!E1664","v":0},{"$f":"DataBase!F1664","v":0}]
[{"$f":"DataBase!C1665","v":0},{"$f":"DataBase!D1665","v":0},{"$f":"DataBase!E1665","v":0},{"$f":"DataBase!F1665","v":0}]
[{"$f":"DataBase!C1666","v":0},{"$f":"DataBase!D1666","v":0},{"$f":"DataBase!E1666","v":0},{"$f":"DataBase!F1666","v":0}]
[{"$f":"DataBase!C1667","v":0},{"$f":"DataBase!D1667","v":0},{"$f":"DataBase!E1667","v":0},{"$f":"DataBase!F1667","v":0}]
[{"$f":"DataBase!C1668","v":0},{"$f":"DataBase!D1668","v":0},{"$f":"DataBase!E1668","v":0},{"$f":"DataBase!F1668","v":0}]
[{"$f":"DataBase!C1669","v":0},{"$f":"DataBase!D1669","v":0},{"$f":"DataBase!E1669","v":0},{"$f":"DataBase!F1669","v":0}]
[{"$f":"DataBase!C1670","v":0},{"$f":"DataBase!D1670","v":0},{"$f":"DataBase!E1670","v":0},{"$f":"DataBase!F1670","v":0}]
[{"$f":"DataBase!C1671","v":0},{"$f":"DataBase!D1671","v":0},{"$f":"DataBase!E1671","v":0},{"$f":"DataBase!F1671","v":0}]
[{"$f":"DataBase!C1672","v":0},{"$f":"DataBase!D1672","v":0},{"$f":"DataBase!E1672","v":0},{"$f":"DataBase!F1672","v":0}]
[{"$f":"DataBase!C1673","v":0},{"$f":"DataBase!D1673","v":0},{"$f":"DataBase!E1673","v":0},{"$f":"DataBase!F1673","v":0}]
[{"$f":"DataBase!C1674","v":0},{"$f":"DataBase!D1674","v":0},{"$f":"DataBase!E1674","v":0},{"$f":"DataBase!F1674","v":0}]
[{"$f":"DataBase!C1675","v":0},{"$f":"DataBase!D1675","v":0},{"$f":"DataBase!E1675","v":0},{"$f":"DataBase!F1675","v":0}]
[{"$f":"DataBase!C1676","v":0},{"$f":"DataBase!D1676","v":0},{"$f":"DataBase!E1676","v":0},{"$f":"DataBase!F1676","v":0}]
[{"$f":"DataBase!C1677","v":0},{"$f":"DataBase!D1677","v":0},{"$f":"DataBase!E1677","v":0},{"$f":"DataBase!F1677","v":0}]
[{"$f":"DataBase!C1678","v":0},{"$f":"DataBase!D1678","v":0},{"$f":"DataBase!E1678","v":0},{"$f":"DataBase!F1678","v":0}]
[{"$f":"DataBase!C1679","v":0},{"$f":"DataBase!D1679","v":0},{"$f":"DataBase!E1679","v":0},{"$f":"DataBase!F1679","v":0}]
[{"$f":"DataBase!C1680","v":0},{"$f":"DataBase!D1680","v":0},{"$f":"DataBase!E1680","v":0},{"$f":"DataBase!F1680","v":0}]
[{"$f":"DataBase!C1681","v":0},{"$f":"DataBase!D1681","v":0},{"$f":"DataBase!E1681","v":0},{"$f":"DataBase!F1681","v":0}]
[{"$f":"DataBase!C1682","v":0},{"$f":"DataBase!D1682","v":0},{"$f":"DataBase!E1682","v":0},{"$f":"DataBase!F1682","v":0}]
[{"$f":"DataBase!C1683","v":0},{"$f":"DataBase!D1683","v":0},{"$f":"DataBase!E1683","v":0},{"$f":"DataBase!F1683","v":0}]
[{"$f":"DataBase!C1684","v":0},{"$f":"DataBase!D1684","v":0},{"$f":"DataBase!E1684","v":0},{"$f":"DataBase!F1684","v":0}]
[{"$f":"DataBase!C1685","v":0},{"$f":"DataBase!D1685","v":0},{"$f":"DataBase!E1685","v":0},{"$f":"DataBase!F1685","v":0}]
[{"$f":"DataBase!C1686","v":0},{"$f":"DataBase!D1686","v":0},{"$f":"DataBase!E1686","v":0},{"$f":"DataBase!F1686","v":0}]
[{"$f":"DataBase!C1687","v":0},{"$f":"DataBase!D1687","v":0},{"$f":"DataBase!E1687","v":0},{"$f":"DataBase!F1687","v":0}]
[{"$f":"DataBase!C1688","v":0},{"$f":"DataBase!D1688","v":0},{"$f":"DataBase!E1688","v":0},{"$f":"DataBase!F1688","v":0}]
[{"$f":"DataBase!C1689","v":0},{"$f":"DataBase!D1689","v":0},{"$f":"DataBase!E1689","v":0},{"$f":"DataBase!F1689","v":0}]
[{"$f":"DataBase!C1690","v":0},{"$f":"DataBase!D1690","v":0},{"$f":"DataBase!E1690","v":0},{"$f":"DataBase!F1690","v":0}]
[{"$f":"DataBase!C1691","v":0},{"$f":"DataBase!D1691","v":0},{"$f":"DataBase!E1691","v":0},{"$f":"DataBase!F1691","v":0}]
[{"$f":"DataBase!C1692","v":0},{"$f":"DataBase!D1692","v":0},{"$f":"DataBase!E1692","v":0},{"$f":"DataBase!F1692","v":0}]
[{"$f":"DataBase!C1693","v":0},{"$f":"DataBase!D1693","v":0},{"$f":"DataBase!E1693","v":0},{"$f":"DataBase!F1693","v":0}]
[{"$f":"DataBase!C1694","v":0},{"$f":"DataBase!D1694","v":0},{"$f":"DataBase!E1694","v":0},{"$f":"DataBase!F1694","v":0}]
[{"$f":"DataBase!C1695","v":0},{"$f":"DataBase!D1695","v":0},{"$f":"DataBase!E1695","v":0},{"$f":"DataBase!F1695","v":0}]
[{"$f":"DataBase!C1696","v":0},{"$f":"DataBase!D1696","v":0},{"$f":"DataBase!E1696","v":0},{"$f":"DataBase!F1696","v":0}]
[{"$f":"DataBase!C1697","v":0},{"$f":"DataBase!D1697","v":0},{"$f":"DataBase!E1697","v":0},{"$f":"DataBase!F1697","v":0}]
[{"$f":"DataBase!C1698","v":0},{"$f":"DataBase!D1698","v":0},{"$f":"DataBase!E1698","v":0},{"$f":"DataBase!F1698","v":0}]
[{"$f":"DataBase!C1699","v":0},{"$f":"DataBase!D1699","v":0},{"$f":"DataBase!E1699","v":0},{"$f":"DataBase!F1699","v":0}]
[{"$f":"DataBase!C1700","v":0},{"$f":"DataBase!D1700","v":0},{"$f":"DataBase!E1700","v":0},{"$f":"DataBase!F1700","v":0}]
[{"$f":"DataBase!C1701","v":0},{"$f":"DataBase!D1701","v":0},{"$f":"DataBase!E1701","v":0},{"$f":"DataBase!F1701","v":0}]
[{"$f":"DataBase!C1702","v":0},{"$f":"DataBase!D1702","v":0},{"$f":"DataBase!E1702","v":0},{"$f":"DataBase!F1702","v":0}]
[{"$f":"DataBase!C1703","v":0},{"$f":"DataBase!D1703","v":0},{"$f":"DataBase!E1703","v":0},{"$f":"DataBase!F1703","v":0}]
[{"$f":"DataBase!C1704","v":0},{"$f":"DataBase!D1704","v":0},{"$f":"DataBase!E1704","v":0},{"$f":"DataBase!F1704","v":0}]
[{"$f":"DataBase!C1705","v":0},{"$f":"DataBase!D1705","v":0},{"$f":"DataBase!E1705","v":0},{"$f":"DataBase!F1705","v":0}]
[{"$f":"DataBase!C1706","v":0},{"$f":"DataBase!D1706","v":0},{"$f":"DataBase!E1706","v":0},{"$f":"DataBase!F1706","v":0}]
[{"$f":"DataBase!C1707","v":0},{"$f":"DataBase!D1707","v":0},{"$f":"DataBase!E1707","v":0},{"$f":"DataBase!F1707","v":0}]
[{"$f":"DataBase!C1708","v":0},{"$f":"DataBase!D1708","v":0},{"$f":"DataBase!E1708","v":0},{"$f":"DataBase!F1708","v":0}]
[{"$f":"DataBase!C1709","v":0},{"$f":"DataBase!D1709","v":0},{"$f":"DataBase!E1709","v":0},{"$f":"DataBase!F1709","v":0}]
[{"$f":"DataBase!C1710","v":0},{"$f":"DataBase!D1710","v":0},{"$f":"DataBase!E1710","v":0},{"$f":"DataBase!F1710","v":0}]
[{"$f":"DataBase!C1711","v":0},{"$f":"DataBase!D1711","v":0},{"$f":"DataBase!E1711","v":0},{"$f":"DataBase!F1711","v":0}]
[{"$f":"DataBase!C1712","v":0},{"$f":"DataBase!D1712","v":0},{"$f":"DataBase!E1712","v":0},{"$f":"DataBase!F1712","v":0}]
[{"$f":"DataBase!C1713","v":0},{"$f":"DataBase!D1713","v":0},{"$f":"DataBase!E1713","v":0},{"$f":"DataBase!F1713","v":0}]
[{"$f":"DataBase!C1714","v":0},{"$f":"DataBase!D1714","v":0},{"$f":"DataBase!E1714","v":0},{"$f":"DataBase!F1714","v":0}]
[{"$f":"DataBase!C1715","v":0},{"$f":"DataBase!D1715","v":0},{"$f":"DataBase!E1715","v":0},{"$f":"DataBase!F1715","v":0}]
[{"$f":"DataBase!C1716","v":0},{"$f":"DataBase!D1716","v":0},{"$f":"DataBase!E1716","v":0},{"$f":"DataBase!F1716","v":0}]
[{"$f":"DataBase!C1717","v":0},{"$f":"DataBase!D1717","v":0},{"$f":"DataBase!E1717","v":0},{"$f":"DataBase!F1717","v":0}]
[{"$f":"DataBase!C1718","v":0},{"$f":"DataBase!D1718","v":0},{"$f":"DataBase!E1718","v":0},{"$f":"DataBase!F1718","v":0}]
[{"$f":"DataBase!C1719","v":0},{"$f":"DataBase!D1719","v":0},{"$f":"DataBase!E1719","v":0},{"$f":"DataBase!F1719","v":0}]
[{"$f":"DataBase!C1720","v":0},{"$f":"DataBase!D1720","v":0},{"$f":"DataBase!E1720","v":0},{"$f":"DataBase!F1720","v":0}]
[{"$f":"DataBase!C1721","v":0},{"$f":"DataBase!D1721","v":0},{"$f":"DataBase!E1721","v":0},{"$f":"DataBase!F1721","v":0}]
[{"$f":"DataBase!C1722","v":0},{"$f":"DataBase!D1722","v":0},{"$f":"DataBase!E1722","v":0},{"$f":"DataBase!F1722","v":0}]
[{"$f":"DataBase!C1723","v":0},{"$f":"DataBase!D1723","v":0},{"$f":"DataBase!E1723","v":0},{"$f":"DataBase!F1723","v":0}]
[{"$f":"DataBase!C1724","v":0},{"$f":"DataBase!D1724","v":0},{"$f":"DataBase!E1724","v":0},{"$f":"DataBase!F1724","v":0}]
[{"$f":"DataBase!C1725","v":0},{"$f":"DataBase!D1725","v":0},{"$f":"DataBase!E1725","v":0},{"$f":"DataBase!F1725","v":0}]
[{"$f":"DataBase!C1726","v":0},{"$f":"DataBase!D1726","v":0},{"$f":"DataBase!E1726","v":0},{"$f":"DataBase!F1726","v":0}]
[{"$f":"DataBase!C1727","v":0},{"$f":"DataBase!D1727","v":0},{"$f":"DataBase!E1727","v":0},{"$f":"DataBase!F1727","v":0}]
[{"$f":"DataBase!C1728","v":0},{"$f":"DataBase!D1728","v":0},{"$f":"DataBase!E1728","v":0},{"$f":"DataBase!F1728","v":0}]
[{"$f":"DataBase!C1729","v":0},{"$f":"DataBase!D1729","v":0},{"$f":"DataBase!E1729","v":0},{"$f":"DataBase!F1729","v":0}]
[{"$f":"DataBase!C1730","v":0},{"$f":"DataBase!D1730","v":0},{"$f":"DataBase!E1730","v":0},{"$f":"DataBase!F1730","v":0}]
[{"$f":"DataBase!C1731","v":0},{"$f":"DataBase!D1731","v":0},{"$f":"DataBase!E1731","v":0},{"$f":"DataBase!F1731","v":0}]
[{"$f":"DataBase!C1732","v":0},{"$f":"DataBase!D1732","v":0},{"$f":"DataBase!E1732","v":0},{"$f":"DataBase!F1732","v":0}]
[{"$f":"DataBase!C1733","v":0},{"$f":"DataBase!D1733","v":0},{"$f":"DataBase!E1733","v":0},{"$f":"DataBase!F1733","v":0}]
[{"$f":"DataBase!C1734","v":0},{"$f":"DataBase!D1734","v":0},{"$f":"DataBase!E1734","v":0},{"$f":"DataBase!F1734","v":0}]
[{"$f":"DataBase!C1735","v":0},{"$f":"DataBase!D1735","v":0},{"$f":"DataBase!E1735","v":0},{"$f":"DataBase!F1735","v":0}]
[{"$f":"DataBase!C1736","v":0},{"$f":"DataBase!D1736","v":0},{"$f":"DataBase!E1736","v":0},{"$f":"DataBase!F1736","v":0}]
[{"$f":"DataBase!C1737","v":0},{"$f":"DataBase!D1737","v":0},{"$f":"DataBase!E1737","v":0},{"$f":"DataBase!F1737","v":0}]
[{"$f":"DataBase!C1738","v":0},{"$f":"DataBase!D1738","v":0},{"$f":"DataBase!E1738","v":0},{"$f":"DataBase!F1738","v":0}]
[{"$f":"DataBase!C1739","v":0},{"$f":"DataBase!D1739","v":0},{"$f":"DataBase!E1739","v":0},{"$f":"DataBase!F1739","v":0}]
[{"$f":"DataBase!C1740","v":0},{"$f":"DataBase!D1740","v":0},{"$f":"DataBase!E1740","v":0},{"$f":"DataBase!F1740","v":0}]
[{"$f":"DataBase!C1741","v":0},{"$f":"DataBase!D1741","v":0},{"$f":"DataBase!E1741","v":0},{"$f":"DataBase!F1741","v":0}]
[{"$f":"DataBase!C1742","v":0},{"$f":"DataBase!D1742","v":0},{"$f":"DataBase!E1742","v":0},{"$f":"DataBase!F1742","v":0}]
[{"$f":"DataBase!C1743","v":0},{"$f":"DataBase!D1743","v":0},{"$f":"DataBase!E1743","v":0},{"$f":"DataBase!F1743","v":0}]
[{"$f":"DataBase!C1744","v":0},{"$f":"DataBase!D1744","v":0},{"$f":"DataBase!E1744","v":0},{"$f":"DataBase!F1744","v":0}]
[{"$f":"DataBase!C1745","v":0},{"$f":"DataBase!D1745","v":0},{"$f":"DataBase!E1745","v":0},{"$f":"DataBase!F1745","v":0}]
[{"$f":"DataBase!C1746","v":0},{"$f":"DataBase!D1746","v":0},{"$f":"DataBase!E1746","v":0},{"$f":"DataBase!F1746","v":0}]
[{"$f":"DataBase!C1747","v":0},{"$f":"DataBase!D1747","v":0},{"$f":"DataBase!E1747","v":0},{"$f":"DataBase!F1747","v":0}]
[{"$f":"DataBase!C1748","v":0},{"$f":"DataBase!D1748","v":0},{"$f":"DataBase!E1748","v":0},{"$f":"DataBase!F1748","v":0}]
[{"$f":"DataBase!C1749","v":0},{"$f":"DataBase!D1749","v":0},{"$f":"DataBase!E1749","v":0},{"$f":"DataBase!F1749","v":0}]
[{"$f":"DataBase!C1750","v":0},{"$f":"DataBase!D1750","v":0},{"$f":"DataBase!E1750","v":0},{"$f":"DataBase!F1750","v":0}]
[{"$f":"DataBase!C1751","v":0},{"$f":"DataBase!D1751","v":0},{"$f":"DataBase!E1751","v":0},{"$f":"DataBase!F1751","v":0}]
[{"$f":"DataBase!C1752","v":0},{"$f":"DataBase!D1752","v":0},{"$f":"DataBase!E1752","v":0},{"$f":"DataBase!F1752","v":0}]
[{"$f":"DataBase!C1753","v":0},{"$f":"DataBase!D1753","v":0},{"$f":"DataBase!E1753","v":0},{"$f":"DataBase!F1753","v":0}]
[{"$f":"DataBase!C1754","v":0},{"$f":"DataBase!D1754","v":0},{"$f":"DataBase!E1754","v":0},{"$f":"DataBase!F1754","v":0}]
[{"$f":"DataBase!C1755","v":0},{"$f":"DataBase!D1755","v":0},{"$f":"DataBase!E1755","v":0},{"$f":"DataBase!F1755","v":0}]
[{"$f":"DataBase!C1756","v":0},{"$f":"DataBase!D1756","v":0},{"$f":"DataBase!E1756","v":0},{"$f":"DataBase!F1756","v":0}]
[{"$f":"DataBase!C1757","v":0},{"$f":"DataBase!D1757","v":0},{"$f":"DataBase!E1757","v":0},{"$f":"DataBase!F1757","v":0}]
[{"$f":"DataBase!C1758","v":0},{"$f":"DataBase!D1758","v":0},{"$f":"DataBase!E1758","v":0},{"$f":"DataBase!F1758","v":0}]
[{"$f":"DataBase!C1759","v":0},{"$f":"DataBase!D1759","v":0},{"$f":"DataBase!E1759","v":0},{"$f":"DataBase!F1759","v":0}]
[{"$f":"DataBase!C1760","v":0},{"$f":"DataBase!D1760","v":0},{"$f":"DataBase!E1760","v":0},{"$f":"DataBase!F1760","v":0}]
[{"$f":"DataBase!C1761","v":0},{"$f":"DataBase!D1761","v":0},{"$f":"DataBase!E1761","v":0},{"$f":"DataBase!F1761","v":0}]
[{"$f":"DataBase!C1762","v":0},{"$f":"DataBase!D1762","v":0},{"$f":"DataBase!E1762","v":0},{"$f":"DataBase!F1762","v":0}]
[{"$f":"DataBase!C1763","v":0},{"$f":"DataBase!D1763","v":0},{"$f":"DataBase!E1763","v":0},{"$f":"DataBase!F1763","v":0}]
[{"$f":"DataBase!C1764","v":0},{"$f":"DataBase!D1764","v":0},{"$f":"DataBase!E1764","v":0},{"$f":"DataBase!F1764","v":0}]
[{"$f":"DataBase!C1765","v":0},{"$f":"DataBase!D1765","v":0},{"$f":"DataBase!E1765","v":0},{"$f":"DataBase!F1765","v":0}]
[{"$f":"DataBase!C1766","v":0},{"$f":"DataBase!D1766","v":0},{"$f":"DataBase!E1766","v":0},{"$f":"DataBase!F1766","v":0}]
[{"$f":"DataBase!C1767","v":0},{"$f":"DataBase!D1767","v":0},{"$f":"DataBase!E1767","v":0},{"$f":"DataBase!F1767","v":0}]
[{"$f":"DataBase!C1768","v":0},{"$f":"DataBase!D1768","v":0},{"$f":"DataBase!E1768","v":0},{"$f":"DataBase!F1768","v":0}]
[{"$f":"DataBase!C1769","v":0},{"$f":"DataBase!D1769","v":0},{"$f":"DataBase!E1769","v":0},{"$f":"DataBase!F1769","v":0}]
[{"$f":"DataBase!C1770","v":0},{"$f":"DataBase!D1770","v":0},{"$f":"DataBase!E1770","v":0},{"$f":"DataBase!F1770","v":0}]
[{"$f":"DataBase!C1771","v":0},{"$f":"DataBase!D1771","v":0},{"$f":"DataBase!E1771","v":0},{"$f":"DataBase!F1771","v":0}]
[{"$f":"DataBase!C1772","v":0},{"$f":"DataBase!D1772","v":0},{"$f":"DataBase!E1772","v":0},{"$f":"DataBase!F1772","v":0}]
[{"$f":"DataBase!C1773","v":0},{"$f":"DataBase!D1773","v":0},{"$f":"DataBase!E1773","v":0},{"$f":"DataBase!F1773","v":0}]
[{"$f":"DataBase!C1774","v":0},{"$f":"DataBase!D1774","v":0},{"$f":"DataBase!E1774","v":0},{"$f":"DataBase!F1774","v":0}]
[{"$f":"DataBase!C1775","v":0},{"$f":"DataBase!D1775","v":0},{"$f":"DataBase!E1775","v":0},{"$f":"DataBase!F1775","v":0}]
[{"$f":"DataBase!C1776","v":0},{"$f":"DataBase!D1776","v":0},{"$f":"DataBase!E1776","v":0},{"$f":"DataBase!F1776","v":0}]
[{"$f":"DataBase!C1777","v":0},{"$f":"DataBase!D1777","v":0},{"$f":"DataBase!E1777","v":0},{"$f":"DataBase!F1777","v":0}]
[{"$f":"DataBase!C1778","v":0},{"$f":"DataBase!D1778","v":0},{"$f":"DataBase!E1778","v":0},{"$f":"DataBase!F1778","v":0}]
[{"$f":"DataBase!C1779","v":0},{"$f":"DataBase!D1779","v":0},{"$f":"DataBase!E1779","v":0},{"$f":"DataBase!F1779","v":0}]
[{"$f":"DataBase!C1780","v":0},{"$f":"DataBase!D1780","v":0},{"$f":"DataBase!E1780","v":0},{"$f":"DataBase!F1780","v":0}]
[{"$f":"DataBase!C1781","v":0},{"$f":"DataBase!D1781","v":0},{"$f":"DataBase!E1781","v":0},{"$f":"DataBase!F1781","v":0}]
[{"$f":"DataBase!C1782","v":0},{"$f":"DataBase!D1782","v":0},{"$f":"DataBase!E1782","v":0},{"$f":"DataBase!F1782","v":0}]
[{"$f":"DataBase!C1783","v":0},{"$f":"DataBase!D1783","v":0},{"$f":"DataBase!E1783","v":0},{"$f":"DataBase!F1783","v":0}]
[{"$f":"DataBase!C1784","v":0},{"$f":"DataBase!D1784","v":0},{"$f":"DataBase!E1784","v":0},{"$f":"DataBase!F1784","v":0}]
[{"$f":"DataBase!C1785","v":0},{"$f":"DataBase!D1785","v":0},{"$f":"DataBase!E1785","v":0},{"$f":"DataBase!F1785","v":0}]
[{"$f":"DataBase!C1786","v":0},{"$f":"DataBase!D1786","v":0},{"$f":"DataBase!E1786","v":0},{"$f":"DataBase!F1786","v":0}]
[{"$f":"DataBase!C1787","v":0},{"$f":"DataBase!D1787","v":0},{"$f":"DataBase!E1787","v":0},{"$f":"DataBase!F1787","v":0}]
[{"$f":"DataBase!C1788","v":0},{"$f":"DataBase!D1788","v":0},{"$f":"DataBase!E1788","v":0},{"$f":"DataBase!F1788","v":0}]
[{"$f":"DataBase!C1789","v":0},{"$f":"DataBase!D1789","v":0},{"$f":"DataBase!E1789","v":0},{"$f":"DataBase!F1789","v":0}]
[{"$f":"DataBase!C1790","v":0},{"$f":"DataBase!D1790","v":0},{"$f":"DataBase!E1790","v":0},{"$f":"DataBase!F1790","v":0}]
[{"$f":"DataBase!C1791","v":0},{"$f":"DataBase!D1791","v":0},{"$f":"DataBase!E1791","v":0},{"$f":"DataBase!F1791","v":0}]
[{"$f":"DataBase!C1792","v":0},{"$f":"DataBase!D1792","v":0},{"$f":"DataBase!E1792","v":0},{"$f":"DataBase!F1792","v":0}]
[{"$f":"DataBase!C1793","v":0},{"$f":"DataBase!D1793","v":0},{"$f":"DataBase!E1793","v":0},{"$f":"DataBase!F1793","v":0}]
[{"$f":"DataBase!C1794","v":0},{"$f":"DataBase!D1794","v":0},{"$f":"DataBase!E1794","v":0},{"$f":"DataBase!F1794","v":0}]
[{"$f":"DataBase!C1795","v":0},{"$f":"DataBase!D1795","v":0},{"$f":"DataBase!E1795","v":0},{"$f":"DataBase!F1795","v":0}]
[{"$f":"DataBase!C1796","v":0},{"$f":"DataBase!D1796","v":0},{"$f":"DataBase!E1796","v":0},{"$f":"DataBase!F1796","v":0}]
[{"$f":"DataBase!C1797","v":0},{"$f":"DataBase!D1797","v":0},{"$f":"DataBase!E1797","v":0},{"$f":"DataBase!F1797","v":0}]
[{"$f":"DataBase!C1798","v":0},{"$f":"DataBase!D1798","v":0},{"$f":"DataBase!E1798","v":0},{"$f":"DataBase!F1798","v":0}]
[{"$f":"DataBase!C1799","v":0},{"$f":"DataBase!D1799","v":0},{"$f":"DataBase!E1799","v":0},{"$f":"DataBase!F1799","v":0}]
[{"$f":"DataBase!C1800","v":0},{"$f":"DataBase!D1800","v":0},{"$f":"DataBase!E1800","v":0},{"$f":"DataBase!F1800","v":0}]
[{"$f":"DataBase!C1801","v":0},{"$f":"DataBase!D1801","v":0},{"$f":"DataBase!E1801","v":0},{"$f":"DataBase!F1801","v":0}]
[{"$f":"DataBase!C1802","v":0},{"$f":"DataBase!D1802","v":0},{"$f":"DataBase!E1802","v":0},{"$f":"DataBase!F1802","v":0}]
[{"$f":"DataBase!C1803","v":0},{"$f":"DataBase!D1803","v":0},{"$f":"DataBase!E1803","v":0},{"$f":"DataBase!F1803","v":0}]
[{"$f":"DataBase!C1804","v":0},{"$f":"DataBase!D1804","v":0},{"$f":"DataBase!E1804","v":0},{"$f":"DataBase!F1804","v":0}]
[{"$f":"DataBase!C1805","v":0},{"$f":"DataBase!D1805","v":0},{"$f":"DataBase!E1805","v":0},{"$f":"DataBase!F1805","v":0}]
[{"$f":"DataBase!C1806","v":0},{"$f":"DataBase!D1806","v":0},{"$f":"DataBase!E1806","v":0},{"$f":"DataBase!F1806","v":0}]
[{"$f":"DataBase!C1807","v":0},{"$f":"DataBase!D1807","v":0},{"$f":"DataBase!E1807","v":0},{"$f":"DataBase!F1807","v":0}]
[{"$f":"DataBase!C1808","v":0},{"$f":"DataBase!D1808","v":0},{"$f":"DataBase!E1808","v":0},{"$f":"DataBase!F1808","v":0}]
[{"$f":"DataBase!C1809","v":0},{"$f":"DataBase!D1809","v":0},{"$f":"DataBase!E1809","v":0},{"$f":"DataBase!F1809","v":0}]
[{"$f":"DataBase!C1810","v":0},{"$f":"DataBase!D1810","v":0},{"$f":"DataBase!E1810","v":0},{"$f":"DataBase!F1810","v":0}]
[{"$f":"DataBase!C1811","v":0},{"$f":"DataBase!D1811","v":0},{"$f":"DataBase!E1811","v":0},{"$f":"DataBase!F1811","v":0}]
[{"$f":"DataBase!C1812","v":0},{"$f":"DataBase!D1812","v":0},{"$f":"DataBase!E1812","v":0},{"$f":"DataBase!F1812","v":0}]
[{"$f":"DataBase!C1813","v":0},{"$f":"DataBase!D1813","v":0},{"$f":"DataBase!E1813","v":0},{"$f":"DataBase!F1813","v":0}]
[{"$f":"DataBase!C1814","v":0},{"$f":"DataBase!D1814","v":0},{"$f":"DataBase!E1814","v":0},{"$f":"DataBase!F1814","v":0}]
[{"$f":"DataBase!C1815","v":0},{"$f":"DataBase!D1815","v":0},{"$f":"DataBase!E1815","v":0},{"$f":"DataBase!F1815","v":0}]
[{"$f":"DataBase!C1816","v":0},{"$f":"DataBase!D1816","v":0},{"$f":"DataBase!E1816","v":0},{"$f":"DataBase!F1816","v":0}]
[{"$f":"DataBase!C1817","v":0},{"$f":"DataBase!D1817","v":0},{"$f":"DataBase!E1817","v":0},{"$f":"DataBase!F1817","v":0}]
[{"$f":"DataBase!C1818","v":0},{"$f":"DataBase!D1818","v":0},{"$f":"DataBase!E1818","v":0},{"$f":"DataBase!F1818","v":0}]
[{"$f":"DataBase!C1819","v":0},{"$f":"DataBase!D1819","v":0},{"$f":"DataBase!E1819","v":0},{"$f":"DataBase!F1819","v":0}]
[{"$f":"DataBase!C1820","v":0},{"$f":"DataBase!D1820","v":0},{"$f":"DataBase!E1820","v":0},{"$f":"DataBase!F1820","v":0}]
[{"$f":"DataBase!C1821","v":0},{"$f":"DataBase!D1821","v":0},{"$f":"DataBase!E1821","v":0},{"$f":"DataBase!F1821","v":0}]
[{"$f":"DataBase!C1822","v":0},{"$f":"DataBase!D1822","v":0},{"$f":"DataBase!E1822","v":0},{"$f":"DataBase!F1822","v":0}]
[{"$f":"DataBase!C1823","v":0},{"$f":"DataBase!D1823","v":0},{"$f":"DataBase!E1823","v":0},{"$f":"DataBase!F1823","v":0}]
[{"$f":"DataBase!C1824","v":0},{"$f":"DataBase!D1824","v":0},{"$f":"DataBase!E1824","v":0},{"$f":"DataBase!F1824","v":0}]
[{"$f":"DataBase!C1825","v":0},{"$f":"DataBase!D1825","v":0},{"$f":"DataBase!E1825","v":0},{"$f":"DataBase!F1825","v":0}]
[{"$f":"DataBase!C1826","v":0},{"$f":"DataBase!D1826","v":0},{"$f":"DataBase!E1826","v":0},{"$f":"DataBase!F1826","v":0}]
[{"$f":"DataBase!C1827","v":0},{"$f":"DataBase!D1827","v":0},{"$f":"DataBase!E1827","v":0},{"$f":"DataBase!F1827","v":0}]
[{"$f":"DataBase!C1828","v":0},{"$f":"DataBase!D1828","v":0},{"$f":"DataBase!E1828","v":0},{"$f":"DataBase!F1828","v":0}]
[{"$f":"DataBase!C1829","v":0},{"$f":"DataBase!D1829","v":0},{"$f":"DataBase!E1829","v":0},{"$f":"DataBase!F1829","v":0}]
[{"$f":"DataBase!C1830","v":0},{"$f":"DataBase!D1830","v":0},{"$f":"DataBase!E1830","v":0},{"$f":"DataBase!F1830","v":0}]
[{"$f":"DataBase!C1831","v":0},{"$f":"DataBase!D1831","v":0},{"$f":"DataBase!E1831","v":0},{"$f":"DataBase!F1831","v":0}]
[{"$f":"DataBase!C1832","v":0},{"$f":"DataBase!D1832","v":0},{"$f":"DataBase!E1832","v":0},{"$f":"DataBase!F1832","v":0}]
[{"$f":"DataBase!C1833","v":0},{"$f":"DataBase!D1833","v":0},{"$f":"DataBase!E1833","v":0},{"$f":"DataBase!F1833","v":0}]
[{"$f":"DataBase!C1834","v":0},{"$f":"DataBase!D1834","v":0},{"$f":"DataBase!E1834","v":0},{"$f":"DataBase!F1834","v":0}]
[{"$f":"DataBase!C1835","v":0},{"$f":"DataBase!D1835","v":0},{"$f":"DataBase!E1835","v":0},{"$f":"DataBase!F1835","v":0}]
[{"$f":"DataBase!C1836","v":0},{"$f":"DataBase!D1836","v":0},{"$f":"DataBase!E1836","v":0},{"$f":"DataBase!F1836","v":0}]
[{"$f":"DataBase!C1837","v":0},{"$f":"DataBase!D1837","v":0},{"$f":"DataBase!E1837","v":0},{"$f":"DataBase!F1837","v":0}]
[{"$f":"DataBase!C1838","v":0},{"$f":"DataBase!D1838","v":0},{"$f":"DataBase!E1838","v":0},{"$f":"DataBase!F1838","v":0}]
[{"$f":"DataBase!C1839","v":0},{"$f":"DataBase!D1839","v":0},{"$f":"DataBase!E1839","v":0},{"$f":"DataBase!F1839","v":0}]
[{"$f":"DataBase!C1840","v":0},{"$f":"DataBase!D1840","v":0},{"$f":"DataBase!E1840","v":0},{"$f":"DataBase!F1840","v":0}]
[{"$f":"DataBase!C1841","v":0},{"$f":"DataBase!D1841","v":0},{"$f":"DataBase!E1841","v":0},{"$f":"DataBase!F1841","v":0}]
[{"$f":"DataBase!C1842","v":0},{"$f":"DataBase!D1842","v":0},{"$f":"DataBase!E1842","v":0},{"$f":"DataBase!F1842","v":0}]
[{"$f":"DataBase!C1843","v":0},{"$f":"DataBase!D1843","v":0},{"$f":"DataBase!E1843","v":0},{"$f":"DataBase!F1843","v":0}]
[{"$f":"DataBase!C1844","v":0},{"$f":"DataBase!D1844","v":0},{"$f":"DataBase!E1844","v":0},{"$f":"DataBase!F1844","v":0}]
[{"$f":"DataBase!C1845","v":0},{"$f":"DataBase!D1845","v":0},{"$f":"DataBase!E1845","v":0},{"$f":"DataBase!F1845","v":0}]
[{"$f":"DataBase!C1846","v":0},{"$f":"DataBase!D1846","v":0},{"$f":"DataBase!E1846","v":0},{"$f":"DataBase!F1846","v":0}]
[{"$f":"DataBase!C1847","v":0},{"$f":"DataBase!D1847","v":0},{"$f":"DataBase!E1847","v":0},{"$f":"DataBase!F1847","v":0}]
[{"$f":"DataBase!C1848","v":0},{"$f":"DataBase!D1848","v":0},{"$f":"DataBase!E1848","v":0},{"$f":"DataBase!F1848","v":0}]
[{"$f":"DataBase!C1849","v":0},{"$f":"DataBase!D1849","v":0},{"$f":"DataBase!E1849","v":0},{"$f":"DataBase!F1849","v":0}]
[{"$f":"DataBase!C1850","v":0},{"$f":"DataBase!D1850","v":0},{"$f":"DataBase!E1850","v":0},{"$f":"DataBase!F1850","v":0}]
[{"$f":"DataBase!C1851","v":0},{"$f":"DataBase!D1851","v":0},{"$f":"DataBase!E1851","v":0},{"$f":"DataBase!F1851","v":0}]
[{"$f":"DataBase!C1852","v":0},{"$f":"DataBase!D1852","v":0},{"$f":"DataBase!E1852","v":0},{"$f":"DataBase!F1852","v":0}]
[{"$f":"DataBase!C1853","v":0},{"$f":"DataBase!D1853","v":0},{"$f":"DataBase!E1853","v":0},{"$f":"DataBase!F1853","v":0}]
[{"$f":"DataBase!C1854","v":0},{"$f":"DataBase!D1854","v":0},{"$f":"DataBase!E1854","v":0},{"$f":"DataBase!F1854","v":0}]
[{"$f":"DataBase!C1855","v":0},{"$f":"DataBase!D1855","v":0},{"$f":"DataBase!E1855","v":0},{"$f":"DataBase!F1855","v":0}]
[{"$f":"DataBase!C1856","v":0},{"$f":"DataBase!D1856","v":0},{"$f":"DataBase!E1856","v":0},{"$f":"DataBase!F1856","v":0}]
[{"$f":"DataBase!C1857","v":0},{"$f":"DataBase!D1857","v":0},{"$f":"DataBase!E1857","v":0},{"$f":"DataBase!F1857","v":0}]
[{"$f":"DataBase!C1858","v":0},{"$f":"DataBase!D1858","v":0},{"$f":"DataBase!E1858","v":0},{"$f":"DataBase!F1858","v":0}]
[{"$f":"DataBase!C1859","v":0},{"$f":"DataBase!D1859","v":0},{"$f":"DataBase!E1859","v":0},{"$f":"DataBase!F1859","v":0}]
[{"$f":"DataBase!C1860","v":0},{"$f":"DataBase!D1860","v":0},{"$f":"DataBase!E1860","v":0},{"$f":"DataBase!F1860","v":0}]
[{"$f":"DataBase!C1861","v":0},{"$f":"DataBase!D1861","v":0},{"$f":"DataBase!E1861","v":0},{"$f":"DataBase!F1861","v":0}]
[{"$f":"DataBase!C1862","v":0},{"$f":"DataBase!D1862","v":0},{"$f":"DataBase!E1862","v":0},{"$f":"DataBase!F1862","v":0}]
[{"$f":"DataBase!C1863","v":0},{"$f":"DataBase!D1863","v":0},{"$f":"DataBase!E1863","v":0},{"$f":"DataBase!F1863","v":0}]
[{"$f":"DataBase!C1864","v":0},{"$f":"DataBase!D1864","v":0},{"$f":"DataBase!E1864","v":0},{"$f":"DataBase!F1864","v":0}]
[{"$f":"DataBase!C1865","v":0},{"$f":"DataBase!D1865","v":0},{"$f":"DataBase!E1865","v":0},{"$f":"DataBase!F1865","v":0}]
[{"$f":"DataBase!C1866","v":0},{"$f":"DataBase!D1866","v":0},{"$f":"DataBase!E1866","v":0},{"$f":"DataBase!F1866","v":0}]
[{"$f":"DataBase!C1867","v":0},{"$f":"DataBase!D1867","v":0},{"$f":"DataBase!E1867","v":0},{"$f":"DataBase!F1867","v":0}]
[{"$f":"DataBase!C1868","v":0},{"$f":"DataBase!D1868","v":0},{"$f":"DataBase!E1868","v":0},{"$f":"DataBase!F1868","v":0}]
[{"$f":"DataBase!C1869","v":0},{"$f":"DataBase!D1869","v":0},{"$f":"DataBase!E1869","v":0},{"$f":"DataBase!F1869","v":0}]
[{"$f":"DataBase!C1870","v":0},{"$f":"DataBase!D1870","v":0},{"$f":"DataBase!E1870","v":0},{"$f":"DataBase!F1870","v":0}]
[{"$f":"DataBase!C1871","v":0},{"$f":"DataBase!D1871","v":0},{"$f":"DataBase!E1871","v":0},{"$f":"DataBase!F1871","v":0}]
[{"$f":"DataBase!C1872","v":0},{"$f":"DataBase!D1872","v":0},{"$f":"DataBase!E1872","v":0},{"$f":"DataBase!F1872","v":0}]
[{"$f":"DataBase!C1873","v":0},{"$f":"DataBase!D1873","v":0},{"$f":"DataBase!E1873","v":0},{"$f":"DataBase!F1873","v":0}]
[{"$f":"DataBase!C1874","v":0},{"$f":"DataBase!D1874","v":0},{"$f":"DataBase!E1874","v":0},{"$f":"DataBase!F1874","v":0}]
[{"$f":"DataBase!C1875","v":0},{"$f":"DataBase!D1875","v":0},{"$f":"DataBase!E1875","v":0},{"$f":"DataBase!F1875","v":0}]
[{"$f":"DataBase!C1876","v":0},{"$f":"DataBase!D1876","v":0},{"$f":"DataBase!E1876","v":0},{"$f":"DataBase!F1876","v":0}]
[{"$f":"DataBase!C1877","v":0},{"$f":"DataBase!D1877","v":0},{"$f":"DataBase!E1877","v":0},{"$f":"DataBase!F1877","v":0}]
[{"$f":"DataBase!C1878","v":0},{"$f":"DataBase!D1878","v":0},{"$f":"DataBase!E1878","v":0},{"$f":"DataBase!F1878","v":0}]
[{"$f":"DataBase!C1879","v":0},{"$f":"DataBase!D1879","v":0},{"$f":"DataBase!E1879","v":0},{"$f":"DataBase!F1879","v":0}]
[{"$f":"DataBase!C1880","v":0},{"$f":"DataBase!D1880","v":0},{"$f":"DataBase!E1880","v":0},{"$f":"DataBase!F1880","v":0}]
[{"$f":"DataBase!C1881","v":0},{"$f":"DataBase!D1881","v":0},{"$f":"DataBase!E1881","v":0},{"$f":"DataBase!F1881","v":0}]
[{"$f":"DataBase!C1882","v":0},{"$f":"DataBase!D1882","v":0},{"$f":"DataBase!E1882","v":0},{"$f":"DataBase!F1882","v":0}]
[{"$f":"DataBase!C1883","v":0},{"$f":"DataBase!D1883","v":0},{"$f":"DataBase!E1883","v":0},{"$f":"DataBase!F1883","v":0}]
[{"$f":"DataBase!C1884","v":0},{"$f":"DataBase!D1884","v":0},{"$f":"DataBase!E1884","v":0},{"$f":"DataBase!F1884","v":0}]
[{"$f":"DataBase!C1885","v":0},{"$f":"DataBase!D1885","v":0},{"$f":"DataBase!E1885","v":0},{"$f":"DataBase!F1885","v":0}]
[{"$f":"DataBase!C1886","v":0},{"$f":"DataBase!D1886","v":0},{"$f":"DataBase!E1886","v":0},{"$f":"DataBase!F1886","v":0}]
[{"$f":"DataBase!C1887","v":0},{"$f":"DataBase!D1887","v":0},{"$f":"DataBase!E1887","v":0},{"$f":"DataBase!F1887","v":0}]
[{"$f":"DataBase!C1888","v":0},{"$f":"DataBase!D1888","v":0},{"$f":"DataBase!E1888","v":0},{"$f":"DataBase!F1888","v":0}]
[{"$f":"DataBase!C1889","v":0},{"$f":"DataBase!D1889","v":0},{"$f":"DataBase!E1889","v":0},{"$f":"DataBase!F1889","v":0}]
[{"$f":"DataBase!C1890","v":0},{"$f":"DataBase!D1890","v":0},{"$f":"DataBase!E1890","v":0},{"$f":"DataBase!F1890","v":0}]
[{"$f":"DataBase!C1891","v":0},{"$f":"DataBase!D1891","v":0},{"$f":"DataBase!E1891","v":0},{"$f":"DataBase!F1891","v":0}]
[{"$f":"DataBase!C1892","v":0},{"$f":"DataBase!D1892","v":0},{"$f":"DataBase!E1892","v":0},{"$f":"DataBase!F1892","v":0}]
[{"$f":"DataBase!C1893","v":0},{"$f":"DataBase!D1893","v":0},{"$f":"DataBase!E1893","v":0},{"$f":"DataBase!F1893","v":0}]
[{"$f":"DataBase!C1894","v":0},{"$f":"DataBase!D1894","v":0},{"$f":"DataBase!E1894","v":0},{"$f":"DataBase!F1894","v":0}]
[{"$f":"DataBase!C1895","v":0},{"$f":"DataBase!D1895","v":0},{"$f":"DataBase!E1895","v":0},{"$f":"DataBase!F1895","v":0}]
[{"$f":"DataBase!C1896","v":0},{"$f":"DataBase!D1896","v":0},{"$f":"DataBase!E1896","v":0},{"$f":"DataBase!F1896","v":0}]
[{"$f":"DataBase!C1897","v":0},{"$f":"DataBase!D1897","v":0},{"$f":"DataBase!E1897","v":0},{"$f":"DataBase!F1897","v":0}]
[{"$f":"DataBase!C1898","v":0},{"$f":"DataBase!D1898","v":0},{"$f":"DataBase!E1898","v":0},{"$f":"DataBase!F1898","v":0}]
[{"$f":"DataBase!C1899","v":0},{"$f":"DataBase!D1899","v":0},{"$f":"DataBase!E1899","v":0},{"$f":"DataBase!F1899","v":0}]
[{"$f":"DataBase!C1900","v":0},{"$f":"DataBase!D1900","v":0},{"$f":"DataBase!E1900","v":0},{"$f":"DataBase!F1900","v":0}]
[{"$f":"DataBase!C1901","v":0},{"$f":"DataBase!D1901","v":0},{"$f":"DataBase!E1901","v":0},{"$f":"DataBase!F1901","v":0}]
[{"$f":"DataBase!C1902","v":0},{"$f":"DataBase!D1902","v":0},{"$f":"DataBase!E1902","v":0},{"$f":"DataBase!F1902","v":0}]
[{"$f":"DataBase!C1903","v":0},{"$f":"DataBase!D1903","v":0},{"$f":"DataBase!E1903","v":0},{"$f":"DataBase!F1903","v":0}]
[{"$f":"DataBase!C1904","v":0},{"$f":"DataBase!D1904","v":0},{"$f":"DataBase!E1904","v":0},{"$f":"DataBase!F1904","v":0}]
[{"$f":"DataBase!C1905","v":0},{"$f":"DataBase!D1905","v":0},{"$f":"DataBase!E1905","v":0},{"$f":"DataBase!F1905","v":0}]
[{"$f":"DataBase!C1906","v":0},{"$f":"DataBase!D1906","v":0},{"$f":"DataBase!E1906","v":0},{"$f":"DataBase!F1906","v":0}]
[{"$f":"DataBase!C1907","v":0},{"$f":"DataBase!D1907","v":0},{"$f":"DataBase!E1907","v":0},{"$f":"DataBase!F1907","v":0}]
[{"$f":"DataBase!C1908","v":0},{"$f":"DataBase!D1908","v":0},{"$f":"DataBase!E1908","v":0},{"$f":"DataBase!F1908","v":0}]
[{"$f":"DataBase!C1909","v":0},{"$f":"DataBase!D1909","v":0},{"$f":"DataBase!E1909","v":0},{"$f":"DataBase!F1909","v":0}]
[{"$f":"DataBase!C1910","v":0},{"$f":"DataBase!D1910","v":0},{"$f":"DataBase!E1910","v":0},{"$f":"DataBase!F1910","v":0}]
[{"$f":"DataBase!C1911","v":0},{"$f":"DataBase!D1911","v":0},{"$f":"DataBase!E1911","v":0},{"$f":"DataBase!F1911","v":0}]
[{"$f":"DataBase!C1912","v":0},{"$f":"DataBase!D1912","v":0},{"$f":"DataBase!E1912","v":0},{"$f":"DataBase!F1912","v":0}]
[{"$f":"DataBase!C1913","v":0},{"$f":"DataBase!D1913","v":0},{"$f":"DataBase!E1913","v":0},{"$f":"DataBase!F1913","v":0}]
[{"$f":"DataBase!C1914","v":0},{"$f":"DataBase!D1914","v":0},{"$f":"DataBase!E1914","v":0},{"$f":"DataBase!F1914","v":0}]
[{"$f":"DataBase!C1915","v":0},{"$f":"DataBase!D1915","v":0},{"$f":"DataBase!E1915","v":0},{"$f":"DataBase!F1915","v":0}]
[{"$f":"DataBase!C1916","v":0},{"$f":"DataBase!D1916","v":0},{"$f":"DataBase!E1916","v":0},{"$f":"DataBase!F1916","v":0}]
[{"$f":"DataBase!C1917","v":0},{"$f":"DataBase!D1917","v":0},{"$f":"DataBase!E1917","v":0},{"$f":"DataBase!F1917","v":0}]
[{"$f":"DataBase!C1918","v":0},{"$f":"DataBase!D1918","v":0},{"$f":"DataBase!E1918","v":0},{"$f":"DataBase!F1918","v":0}]
[{"$f":"DataBase!C1919","v":0},{"$f":"DataBase!D1919","v":0},{"$f":"DataBase!E1919","v":0},{"$f":"DataBase!F1919","v":0}]
[{"$f":"DataBase!C1920","v":0},{"$f":"DataBase!D1920","v":0},{"$f":"DataBase!E1920","v":0},{"$f":"DataBase!F1920","v":0}]
[{"$f":"DataBase!C1921","v":0},{"$f":"DataBase!D1921","v":0},{"$f":"DataBase!E1921","v":0},{"$f":"DataBase!F1921","v":0}]
[{"$f":"DataBase!C1922","v":0},{"$f":"DataBase!D1922","v":0},{"$f":"DataBase!E1922","v":0},{"$f":"DataBase!F1922","v":0}]
[{"$f":"DataBase!C1923","v":0},{"$f":"DataBase!D1923","v":0},{"$f":"DataBase!E1923","v":0},{"$f":"DataBase!F1923","v":0}]
[{"$f":"DataBase!C1924","v":0},{"$f":"DataBase!D1924","v":0},{"$f":"DataBase!E1924","v":0},{"$f":"DataBase!F1924","v":0}]
[{"$f":"DataBase!C1925","v":0},{"$f":"DataBase!D1925","v":0},{"$f":"DataBase!E1925","v":0},{"$f":"DataBase!F1925","v":0}]
[{"$f":"DataBase!C1926","v":0},{"$f":"DataBase!D1926","v":0},{"$f":"DataBase!E1926","v":0},{"$f":"DataBase!F1926","v":0}]
[{"$f":"DataBase!C1927","v":0},{"$f":"DataBase!D1927","v":0},{"$f":"DataBase!E1927","v":0},{"$f":"DataBase!F1927","v":0}]
[{"$f":"DataBase!C1928","v":0},{"$f":"DataBase!D1928","v":0},{"$f":"DataBase!E1928","v":0},{"$f":"DataBase!F1928","v":0}]
[{"$f":"DataBase!C1929","v":0},{"$f":"DataBase!D1929","v":0},{"$f":"DataBase!E1929","v":0},{"$f":"DataBase!F1929","v":0}]
[{"$f":"DataBase!C1930","v":0},{"$f":"DataBase!D1930","v":0},{"$f":"DataBase!E1930","v":0},{"$f":"DataBase!F1930","v":0}]
[{"$f":"DataBase!C1931","v":0},{"$f":"DataBase!D1931","v":0},{"$f":"DataBase!E1931","v":0},{"$f":"DataBase!F1931","v":0}]
[{"$f":"DataBase!C1932","v":0},{"$f":"DataBase!D1932","v":0},{"$f":"DataBase!E1932","v":0},{"$f":"DataBase!F1932","v":0}]
[{"$f":"DataBase!C1933","v":0},{"$f":"DataBase!D1933","v":0},{"$f":"DataBase!E1933","v":0},{"$f":"DataBase!F1933","v":0}]
[{"$f":"DataBase!C1934","v":0},{"$f":"DataBase!D1934","v":0},{"$f":"DataBase!E1934","v":0},{"$f":"DataBase!F1934","v":0}]
[{"$f":"DataBase!C1935","v":0},{"$f":"DataBase!D1935","v":0},{"$f":"DataBase!E1935","v":0},{"$f":"DataBase!F1935","v":0}]
[{"$f":"DataBase!C1936","v":0},{"$f":"DataBase!D1936","v":0},{"$f":"DataBase!E1936","v":0},{"$f":"DataBase!F1936","v":0}]
[{"$f":"DataBase!C1937","v":0},{"$f":"DataBase!D1937","v":0},{"$f":"DataBase!E1937","v":0},{"$f":"DataBase!F1937","v":0}]
[{"$f":"DataBase!C1938","v":0},{"$f":"DataBase!D1938","v":0},{"$f":"DataBase!E1938","v":0},{"$f":"DataBase!F1938","v":0}]
[{"$f":"DataBase!C1939","v":0},{"$f":"DataBase!D1939","v":0},{"$f":"DataBase!E1939","v":0},{"$f":"DataBase!F1939","v":0}]
[{"$f":"DataBase!C1940","v":0},{"$f":"DataBase!D1940","v":0},{"$f":"DataBase!E1940","v":0},{"$f":"DataBase!F1940","v":0}]
[{"$f":"DataBase!C1941","v":0},{"$f":"DataBase!D1941","v":0},{"$f":"DataBase!E1941","v":0},{"$f":"DataBase!F1941","v":0}]
[{"$f":"DataBase!C1942","v":0},{"$f":"DataBase!D1942","v":0},{"$f":"DataBase!E1942","v":0},{"$f":"DataBase!F1942","v":0}]
[{"$f":"DataBase!C1943","v":0},{"$f":"DataBase!D1943","v":0},{"$f":"DataBase!E1943","v":0},{"$f":"DataBase!F1943","v":0}]
[{"$f":"DataBase!C1944","v":0},{"$f":"DataBase!D1944","v":0},{"$f":"DataBase!E1944","v":0},{"$f":"DataBase!F1944","v":0}]
[{"$f":"DataBase!C1945","v":0},{"$f":"DataBase!D1945","v":0},{"$f":"DataBase!E1945","v":0},{"$f":"DataBase!F1945","v":0}]
[{"$f":"DataBase!C1946","v":0},{"$f":"DataBase!D1946","v":0},{"$f":"DataBase!E1946","v":0},{"$f":"DataBase!F1946","v":0}]
[{"$f":"DataBase!C1947","v":0},{"$f":"DataBase!D1947","v":0},{"$f":"DataBase!E1947","v":0},{"$f":"DataBase!F1947","v":0}]
[{"$f":"DataBase!C1948","v":0},{"$f":"DataBase!D1948","v":0},{"$f":"DataBase!E1948","v":0},{"$f":"DataBase!F1948","v":0}]
[{"$f":"DataBase!C1949","v":0},{"$f":"DataBase!D1949","v":0},{"$f":"DataBase!E1949","v":0},{"$f":"DataBase!F1949","v":0}]
[{"$f":"DataBase!C1950","v":0},{"$f":"DataBase!D1950","v":0},{"$f":"DataBase!E1950","v":0},{"$f":"DataBase!F1950","v":0}]
[{"$f":"DataBase!C1951","v":0},{"$f":"DataBase!D1951","v":0},{"$f":"DataBase!E1951","v":0},{"$f":"DataBase!F1951","v":0}]
[{"$f":"DataBase!C1952","v":0},{"$f":"DataBase!D1952","v":0},{"$f":"DataBase!E1952","v":0},{"$f":"DataBase!F1952","v":0}]
[{"$f":"DataBase!C1953","v":0},{"$f":"DataBase!D1953","v":0},{"$f":"DataBase!E1953","v":0},{"$f":"DataBase!F1953","v":0}]
[{"$f":"DataBase!C1954","v":0},{"$f":"DataBase!D1954","v":0},{"$f":"DataBase!E1954","v":0},{"$f":"DataBase!F1954","v":0}]
[{"$f":"DataBase!C1955","v":0},{"$f":"DataBase!D1955","v":0},{"$f":"DataBase!E1955","v":0},{"$f":"DataBase!F1955","v":0}]
[{"$f":"DataBase!C1956","v":0},{"$f":"DataBase!D1956","v":0},{"$f":"DataBase!E1956","v":0},{"$f":"DataBase!F1956","v":0}]
[{"$f":"DataBase!C1957","v":0},{"$f":"DataBase!D1957","v":0},{"$f":"DataBase!E1957","v":0},{"$f":"DataBase!F1957","v":0}]
[{"$f":"DataBase!C1958","v":0},{"$f":"DataBase!D1958","v":0},{"$f":"DataBase!E1958","v":0},{"$f":"DataBase!F1958","v":0}]
[{"$f":"DataBase!C1959","v":0},{"$f":"DataBase!D1959","v":0},{"$f":"DataBase!E1959","v":0},{"$f":"DataBase!F1959","v":0}]
[{"$f":"DataBase!C1960","v":0},{"$f":"DataBase!D1960","v":0},{"$f":"DataBase!E1960","v":0},{"$f":"DataBase!F1960","v":0}]
[{"$f":"DataBase!C1961","v":0},{"$f":"DataBase!D1961","v":0},{"$f":"DataBase!E1961","v":0},{"$f":"DataBase!F1961","v":0}]
[{"$f":"DataBase!C1962","v":0},{"$f":"DataBase!D1962","v":0},{"$f":"DataBase!E1962","v":0},{"$f":"DataBase!F1962","v":0}]
[{"$f":"DataBase!C1963","v":0},{"$f":"DataBase!D1963","v":0},{"$f":"DataBase!E1963","v":0},{"$f":"DataBase!F1963","v":0}]
[{"$f":"DataBase!C1964","v":0},{"$f":"DataBase!D1964","v":0},{"$f":"DataBase!E1964","v":0},{"$f":"DataBase!F1964","v":0}]
[{"$f":"DataBase!C1965","v":0},{"$f":"DataBase!D1965","v":0},{"$f":"DataBase!E1965","v":0},{"$f":"DataBase!F1965","v":0}]
[{"$f":"DataBase!C1966","v":0},{"$f":"DataBase!D1966","v":0},{"$f":"DataBase!E1966","v":0},{"$f":"DataBase!F1966","v":0}]
[{"$f":"DataBase!C1967","v":0},{"$f":"DataBase!D1967","v":0},{"$f":"DataBase!E1967","v":0},{"$f":"DataBase!F1967","v":0}]
[{"$f":"DataBase!C1968","v":0},{"$f":"DataBase!D1968","v":0},{"$f":"DataBase!E1968","v":0},{"$f":"DataBase!F1968","v":0}]
[{"$f":"DataBase!C1969","v":0},{"$f":"DataBase!D1969","v":0},{"$f":"DataBase!E1969","v":0},{"$f":"DataBase!F1969","v":0}]
[{"$f":"DataBase!C1970","v":0},{"$f":"DataBase!D1970","v":0},{"$f":"DataBase!E1970","v":0},{"$f":"DataBase!F1970","v":0}]
[{"$f":"DataBase!C1971","v":0},{"$f":"DataBase!D1971","v":0},{"$f":"DataBase!E1971","v":0},{"$f":"DataBase!F1971","v":0}]
[{"$f":"DataBase!C1972","v":0},{"$f":"DataBase!D1972","v":0},{"$f":"DataBase!E1972","v":0},{"$f":"DataBase!F1972","v":0}]
[{"$f":"DataBase!C1973","v":0},{"$f":"DataBase!D1973","v":0},{"$f":"DataBase!E1973","v":0},{"$f":"DataBase!F1973","v":0}]
[{"$f":"DataBase!C1974","v":0},{"$f":"DataBase!D1974","v":0},{"$f":"DataBase!E1974","v":0},{"$f":"DataBase!F1974","v":0}]
[{"$f":"DataBase!C1975","v":0},{"$f":"DataBase!D1975","v":0},{"$f":"DataBase!E1975","v":0},{"$f":"DataBase!F1975","v":0}]
[{"$f":"DataBase!C1976","v":0},{"$f":"DataBase!D1976","v":0},{"$f":"DataBase!E1976","v":0},{"$f":"DataBase!F1976","v":0}]
[{"$f":"DataBase!C1977","v":0},{"$f":"DataBase!D1977","v":0},{"$f":"DataBase!E1977","v":0},{"$f":"DataBase!F1977","v":0}]
[{"$f":"DataBase!C1978","v":0},{"$f":"DataBase!D1978","v":0},{"$f":"DataBase!E1978","v":0},{"$f":"DataBase!F1978","v":0}]
[{"$f":"DataBase!C1979","v":0},{"$f":"DataBase!D1979","v":0},{"$f":"DataBase!E1979","v":0},{"$f":"DataBase!F1979","v":0}]
[{"$f":"DataBase!C1980","v":0},{"$f":"DataBase!D1980","v":0},{"$f":"DataBase!E1980","v":0},{"$f":"DataBase!F1980","v":0}]
[{"$f":"DataBase!C1981","v":0},{"$f":"DataBase!D1981","v":0},{"$f":"DataBase!E1981","v":0},{"$f":"DataBase!F1981","v":0}]
[{"$f":"DataBase!C1982","v":0},{"$f":"DataBase!D1982","v":0},{"$f":"DataBase!E1982","v":0},{"$f":"DataBase!F1982","v":0}]
[{"$f":"DataBase!C1983","v":0},{"$f":"DataBase!D1983","v":0},{"$f":"DataBase!E1983","v":0},{"$f":"DataBase!F1983","v":0}]
[{"$f":"DataBase!C1984","v":0},{"$f":"DataBase!D1984","v":0},{"$f":"DataBase!E1984","v":0},{"$f":"DataBase!F1984","v":0}]
[{"$f":"DataBase!C1985","v":0},{"$f":"DataBase!D1985","v":0},{"$f":"DataBase!E1985","v":0},{"$f":"DataBase!F1985","v":0}]
[{"$f":"DataBase!C1986","v":0},{"$f":"DataBase!D1986","v":0},{"$f":"DataBase!E1986","v":0},{"$f":"DataBase!F1986","v":0}]
[{"$f":"DataBase!C1987","v":0},{"$f":"DataBase!D1987","v":0},{"$f":"DataBase!E1987","v":0},{"$f":"DataBase!F1987","v":0}]
[{"$f":"DataBase!C1988","v":0},{"$f":"DataBase!D1988","v":0},{"$f":"DataBase!E1988","v":0},{"$f":"DataBase!F1988","v":0}]
[{"$f":"DataBase!C1989","v":0},{"$f":"DataBase!D1989","v":0},{"$f":"DataBase!E1989","v":0},{"$f":"DataBase!F1989","v":0}]
[{"$f":"DataBase!C1990","v":0},{"$f":"DataBase!D1990","v":0},{"$f":"DataBase!E1990","v":0},{"$f":"DataBase!F1990","v":0}]
[{"$f":"DataBase!C1991","v":0},{"$f":"DataBase!D1991","v":0},{"$f":"DataBase!E1991","v":0},{"$f":"DataBase!F1991","v":0}]
[{"$f":"DataBase!C1992","v":0},{"$f":"DataBase!D1992","v":0},{"$f":"DataBase!E1992","v":0},{"$f":"DataBase!F1992","v":0}]
[{"$f":"DataBase!C1993","v":0},{"$f":"DataBase!D1993","v":0},{"$f":"DataBase!E1993","v":0},{"$f":"DataBase!F1993","v":0}]
[{"$f":"DataBase!C1994","v":0},{"$f":"DataBase!D1994","v":0},{"$f":"DataBase!E1994","v":0},{"$f":"DataBase!F1994","v":0}]
[{"$f":"DataBase!C1995","v":0},{"$f":"DataBase!D1995","v":0},{"$f":"DataBase!E1995","v":0},{"$f":"DataBase!F1995","v":0}]
[{"$f":"DataBase!C1996","v":0},{"$f":"DataBase!D1996","v":0},{"$f":"DataBase!E1996","v":0},{"$f":"DataBase!F1996","v":0}]
[{"$f":"DataBase!C1997","v":0},{"$f":"DataBase!D1997","v":0},{"$f":"DataBase!E1997","v":0},{"$f":"DataBase!F1997","v":0}]
[{"$f":"DataBase!C1998","v":0},{"$f":"DataBase!D1998","v":0},{"$f":"DataBase!E1998","v":0},{"$f":"DataBase!F1998","v":0}]
[{"$f":"DataBase!C1999","v":0},{"$f":"DataBase!D1999","v":0},{"$f":"DataBase!E1999","v":0},{"$f":"DataBase!F1999","v":0}]
[{"$f":"DataBase!C2000","v":0},{"$f":"DataBase!D2000","v":0},{"$f":"DataBase!E2000","v":0},{"$f":"DataBase!F2000","v":0}]
[{"$f":"DataBase!C2001","v":0},{"$f":"DataBase!D2001","v":0},{"$f":"DataBase!E2001","v":0},{"$f":"DataBase!F2001","v":0}]
[{"$f":"DataBase!C2002","v":0},{"$f":"DataBase!D2002","v":0},{"$f":"DataBase!E2002","v":0},{"$f":"DataBase!F2002","v":0}]
[{"$f":"DataBase!C2003","v":0},{"$f":"DataBase!D2003","v":0},{"$f":"DataBase!E2003","v":0},{"$f":"DataBase!F2003","v":0}]
[{"$f":"DataBase!C2004","v":0},{"$f":"DataBase!D2004","v":0},{"$f":"DataBase!E2004","v":0},{"$f":"DataBase!F2004","v":0}]
[{"$f":"DataBase!C2005","v":0},{"$f":"DataBase!D2005","v":0},{"$f":"DataBase!E2005","v":0},{"$f":"DataBase!F2005","v":0}]
[{"$f":"DataBase!C2006","v":0},{"$f":"DataBase!D2006","v":0},{"$f":"DataBase!E2006","v":0},{"$f":"DataBase!F2006","v":0}]
[{"$f":"DataBase!C2007","v":0},{"$f":"DataBase!D2007","v":0},{"$f":"DataBase!E2007","v":0},{"$f":"DataBase!F2007","v":0}]
[{"$f":"DataBase!C2008","v":0},{"$f":"DataBase!D2008","v":0},{"$f":"DataBase!E2008","v":0},{"$f":"DataBase!F2008","v":0}]
[{"$f":"DataBase!C2009","v":0},{"$f":"DataBase!D2009","v":0},{"$f":"DataBase!E2009","v":0},{"$f":"DataBase!F2009","v":0}]
[{"$f":"DataBase!C2010","v":0},{"$f":"DataBase!D2010","v":0},{"$f":"DataBase!E2010","v":0},{"$f":"DataBase!F2010","v":0}]
[{"$f":"DataBase!C2011","v":0},{"$f":"DataBase!D2011","v":0},{"$f":"DataBase!E2011","v":0},{"$f":"DataBase!F2011","v":0}]
[{"$f":"DataBase!C2012","v":0},{"$f":"DataBase!D2012","v":0},{"$f":"DataBase!E2012","v":0},{"$f":"DataBase!F2012","v":0}]
[{"$f":"DataBase!C2013","v":0},{"$f":"DataBase!D2013","v":0},{"$f":"DataBase!E2013","v":0},{"$f":"DataBase!F2013","v":0}]
[{"$f":"DataBase!C2014","v":0},{"$f":"DataBase!D2014","v":0},{"$f":"DataBase!E2014","v":0},{"$f":"DataBase!F2014","v":0}]
[{"$f":"DataBase!C2015","v":0},{"$f":"DataBase!D2015","v":0},{"$f":"DataBase!E2015","v":0},{"$f":"DataBase!F2015","v":0}]
[{"$f":"DataBase!C2016","v":0},{"$f":"DataBase!D2016","v":0},{"$f":"DataBase!E2016","v":0},{"$f":"DataBase!F2016","v":0}]
[{"$f":"DataBase!C2017","v":0},{"$f":"DataBase!D2017","v":0},{"$f":"DataBase!E2017","v":0},{"$f":"DataBase!F2017","v":0}]
[{"$f":"DataBase!C2018","v":0},{"$f":"DataBase!D2018","v":0},{"$f":"DataBase!E2018","v":0},{"$f":"DataBase!F2018","v":0}]
[{"$f":"DataBase!C2019","v":0},{"$f":"DataBase!D2019","v":0},{"$f":"DataBase!E2019","v":0},{"$f":"DataBase!F2019","v":0}]
[{"$f":"DataBase!C2020","v":0},{"$f":"DataBase!D2020","v":0},{"$f":"DataBase!E2020","v":0},{"$f":"DataBase!F2020","v":0}]
[{"$f":"DataBase!C2021","v":0},{"$f":"DataBase!D2021","v":0},{"$f":"DataBase!E2021","v":0},{"$f":"DataBase!F2021","v":0}]
[{"$f":"DataBase!C2022","v":0},{"$f":"DataBase!D2022","v":0},{"$f":"DataBase!E2022","v":0},{"$f":"DataBase!F2022","v":0}]
[{"$f":"DataBase!C2023","v":0},{"$f":"DataBase!D2023","v":0},{"$f":"DataBase!E2023","v":0},{"$f":"DataBase!F2023","v":0}]
[{"$f":"DataBase!C2024","v":0},{"$f":"DataBase!D2024","v":0},{"$f":"DataBase!E2024","v":0},{"$f":"DataBase!F2024","v":0}]
[{"$f":"DataBase!C2025","v":0},{"$f":"DataBase!D2025","v":0},{"$f":"DataBase!E2025","v":0},{"$f":"DataBase!F2025","v":0}]
[{"$f":"DataBase!C2026","v":0},{"$f":"DataBase!D2026","v":0},{"$f":"DataBase!E2026","v":0},{"$f":"DataBase!F2026","v":0}]
[{"$f":"DataBase!C2027","v":0},{"$f":"DataBase!D2027","v":0},{"$f":"DataBase!E2027","v":0},{"$f":"DataBase!F2027","v":0}]
[{"$f":"DataBase!C2028","v":0},{"$f":"DataBase!D2028","v":0},{"$f":"DataBase!E2028","v":0},{"$f":"DataBase!F2028","v":0}]
[{"$f":"DataBase!C2029","v":0},{"$f":"DataBase!D2029","v":0},{"$f":"DataBase!E2029","v":0},{"$f":"DataBase!F2029","v":0}]
[{"$f":"DataBase!C2030","v":0},{"$f":"DataBase!D2030","v":0},{"$f":"DataBase!E2030","v":0},{"$f":"DataBase!F2030","v":0}]
[{"$f":"DataBase!C2031","v":0},{"$f":"DataBase!D2031","v":0},{"$f":"DataBase!E2031","v":0},{"$f":"DataBase!F2031","v":0}]
[{"$f":"DataBase!C2032","v":0},{"$f":"DataBase!D2032","v":0},{"$f":"DataBase!E2032","v":0},{"$f":"DataBase!F2032","v":0}]
[{"$f":"DataBase!C2033","v":0},{"$f":"DataBase!D2033","v":0},{"$f":"DataBase!E2033","v":0},{"$f":"DataBase!F2033","v":0}]
[{"$f":"DataBase!C2034","v":0},{"$f":"DataBase!D2034","v":0},{"$f":"DataBase!E2034","v":0},{"$f":"DataBase!F2034","v":0}]
[{"$f":"DataBase!C2035","v":0},{"$f":"DataBase!D2035","v":0},{"$f":"DataBase!E2035","v":0},{"$f":"DataBase!F2035","v":0}]
[{"$f":"DataBase!C2036","v":0},{"$f":"DataBase!D2036","v":0},{"$f":"DataBase!E2036","v":0},{"$f":"DataBase!F2036","v":0}]
[{"$f":"DataBase!C2037","v":0},{"$f":"DataBase!D2037","v":0},{"$f":"DataBase!E2037","v":0},{"$f":"DataBase!F2037","v":0}]
[{"$f":"DataBase!C2038","v":0},{"$f":"DataBase!D2038","v":0},{"$f":"DataBase!E2038","v":0},{"$f":"DataBase!F2038","v":0}]
[{"$f":"DataBase!C2039","v":0},{"$f":"DataBase!D2039","v":0},{"$f":"DataBase!E2039","v":0},{"$f":"DataBase!F2039","v":0}]
[{"$f":"DataBase!C2040","v":0},{"$f":"DataBase!D2040","v":0},{"$f":"DataBase!E2040","v":0},{"$f":"DataBase!F2040","v":0}]
[{"$f":"DataBase!C2041","v":0},{"$f":"DataBase!D2041","v":0},{"$f":"DataBase!E2041","v":0},{"$f":"DataBase!F2041","v":0}]
[{"$f":"DataBase!C2042","v":0},{"$f":"DataBase!D2042","v":0},{"$f":"DataBase!E2042","v":0},{"$f":"DataBase!F2042","v":0}]
[{"$f":"DataBase!C2043","v":0},{"$f":"DataBase!D2043","v":0},{"$f":"DataBase!E2043","v":0},{"$f":"DataBase!F2043","v":0}]
[{"$f":"DataBase!C2044","v":0},{"$f":"DataBase!D2044","v":0},{"$f":"DataBase!E2044","v":0},{"$f":"DataBase!F2044","v":0}]
[{"$f":"DataBase!C2045","v":0},{"$f":"DataBase!D2045","v":0},{"$f":"DataBase!E2045","v":0},{"$f":"DataBase!F2045","v":0}]
[{"$f":"DataBase!C2046","v":0},{"$f":"DataBase!D2046","v":0},{"$f":"DataBase!E2046","v":0},{"$f":"DataBase!F2046","v":0}]
[{"$f":"DataBase!C2047","v":0},{"$f":"DataBase!D2047","v":0},{"$f":"DataBase!E2047","v":0},{"$f":"DataBase!F2047","v":0}]
[{"$f":"DataBase!C2048","v":0},{"$f":"DataBase!D2048","v":0},{"$f":"DataBase!E2048","v":0},{"$f":"DataBase!F2048","v":0}]
[{"$f":"DataBase!C2049","v":0},{"$f":"DataBase!D2049","v":0},{"$f":"DataBase!E2049","v":0},{"$f":"DataBase!F2049","v":0}]
[{"$f":"DataBase!C2050","v":0},{"$f":"DataBase!D2050","v":0},{"$f":"DataBase!E2050","v":0},{"$f":"DataBase!F2050","v":0}]
[{"$f":"DataBase!C2051","v":0},{"$f":"DataBase!D2051","v":0},{"$f":"DataBase!E2051","v":0},{"$f":"DataBase!F2051","v":0}]
[{"$f":"DataBase!C2052","v":0},{"$f":"DataBase!D2052","v":0},{"$f":"DataBase!E2052","v":0},{"$f":"DataBase!F2052","v":0}]
[{"$f":"DataBase!C2053","v":0},{"$f":"DataBase!D2053","v":0},{"$f":"DataBase!E2053","v":0},{"$f":"DataBase!F2053","v":0}]
[{"$f":"DataBase!C2054","v":0},{"$f":"DataBase!D2054","v":0},{"$f":"DataBase!E2054","v":0},{"$f":"DataBase!F2054","v":0}]
[{"$f":"DataBase!C2055","v":0},{"$f":"DataBase!D2055","v":0},{"$f":"DataBase!E2055","v":0},{"$f":"DataBase!F2055","v":0}]
[{"$f":"DataBase!C2056","v":0},{"$f":"DataBase!D2056","v":0},{"$f":"DataBase!E2056","v":0},{"$f":"DataBase!F2056","v":0}]
[{"$f":"DataBase!C2057","v":0},{"$f":"DataBase!D2057","v":0},{"$f":"DataBase!E2057","v":0},{"$f":"DataBase!F2057","v":0}]
[{"$f":"DataBase!C2058","v":0},{"$f":"DataBase!D2058","v":0},{"$f":"DataBase!E2058","v":0},{"$f":"DataBase!F2058","v":0}]
[{"$f":"DataBase!C2059","v":0},{"$f":"DataBase!D2059","v":0},{"$f":"DataBase!E2059","v":0},{"$f":"DataBase!F2059","v":0}]
[{"$f":"DataBase!C2060","v":0},{"$f":"DataBase!D2060","v":0},{"$f":"DataBase!E2060","v":0},{"$f":"DataBase!F2060","v":0}]
[{"$f":"DataBase!C2061","v":0},{"$f":"DataBase!D2061","v":0},{"$f":"DataBase!E2061","v":0},{"$f":"DataBase!F2061","v":0}]
[{"$f":"DataBase!C2062","v":0},{"$f":"DataBase!D2062","v":0},{"$f":"DataBase!E2062","v":0},{"$f":"DataBase!F2062","v":0}]
[{"$f":"DataBase!C2063","v":0},{"$f":"DataBase!D2063","v":0},{"$f":"DataBase!E2063","v":0},{"$f":"DataBase!F2063","v":0}]
[{"$f":"DataBase!C2064","v":0},{"$f":"DataBase!D2064","v":0},{"$f":"DataBase!E2064","v":0},{"$f":"DataBase!F2064","v":0}]
[{"$f":"DataBase!C2065","v":0},{"$f":"DataBase!D2065","v":0},{"$f":"DataBase!E2065","v":0},{"$f":"DataBase!F2065","v":0}]
[{"$f":"DataBase!C2066","v":0},{"$f":"DataBase!D2066","v":0},{"$f":"DataBase!E2066","v":0},{"$f":"DataBase!F2066","v":0}]
[{"$f":"DataBase!C2067","v":0},{"$f":"DataBase!D2067","v":0},{"$f":"DataBase!E2067","v":0},{"$f":"DataBase!F2067","v":0}]
[{"$f":"DataBase!C2068","v":0},{"$f":"DataBase!D2068","v":0},{"$f":"DataBase!E2068","v":0},{"$f":"DataBase!F2068","v":0}]
[{"$f":"DataBase!C2069","v":0},{"$f":"DataBase!D2069","v":0},{"$f":"DataBase!E2069","v":0},{"$f":"DataBase!F2069","v":0}]
[{"$f":"DataBase!C2070","v":0},{"$f":"DataBase!D2070","v":0},{"$f":"DataBase!E2070","v":0},{"$f":"DataBase!F2070","v":0}]
[{"$f":"DataBase!C2071","v":0},{"$f":"DataBase!D2071","v":0},{"$f":"DataBase!E2071","v":0},{"$f":"DataBase!F2071","v":0}]
[{"$f":"DataBase!C2072","v":0},{"$f":"DataBase!D2072","v":0},{"$f":"DataBase!E2072","v":0},{"$f":"DataBase!F2072","v":0}]
[{"$f":"DataBase!C2073","v":0},{"$f":"DataBase!D2073","v":0},{"$f":"DataBase!E2073","v":0},{"$f":"DataBase!F2073","v":0}]
[{"$f":"DataBase!C2074","v":0},{"$f":"DataBase!D2074","v":0},{"$f":"DataBase!E2074","v":0},{"$f":"DataBase!F2074","v":0}]
[{"$f":"DataBase!C2075","v":0},{"$f":"DataBase!D2075","v":0},{"$f":"DataBase!E2075","v":0},{"$f":"DataBase!F2075","v":0}]
[{"$f":"DataBase!C2076","v":0},{"$f":"DataBase!D2076","v":0},{"$f":"DataBase!E2076","v":0},{"$f":"DataBase!F2076","v":0}]
[null,null,{"$f":"DataBase!E2077","v":0}]
[null,null,{"$f":"DataBase!E2078","v":0}]
[null,null,{"$f":"DataBase!E2079","v":0}]
[null,null,{"$f":"DataBase!E2080","v":0}]
[null,null,{"$f":"DataBase!E2081","v":0}]
[null,null,{"$f":"DataBase!E2082","v":0}]
[null,null,{"$f":"DataBase!E2083","v":0}]
[null,null,{"$f":"DataBase!E2084","v":0}]
[null,null,{"$f":"DataBase!E2085","v":0}]
[null,null,{"$f":"DataBase!E2086","v":0}]
[null,null,{"$f":"DataBase!E2087","v":0}]
[null,null,{"$f":"DataBase!E2088","v":0}]
[null,null,{"$f":"DataBase!E2089","v":0}]
[null,null,{"$f":"DataBase!E2090","v":0}]
[null,null,{"$f":"DataBase!E2091","v":0}]
[null,null,{"$f":"DataBase!E2092","v":0}]
[null,null,{"$f":"DataBase!E2093","v":0}]
[null,null,{"$f":"DataBase!E2094","v":0}]
[null,null,{"$f":"DataBase!E2095","v":0}]
[null,null,{"$f":"DataBase!E2096","v":0}]
[null,null,{"$f":"DataBase!E2097","v":0}]
[null,null,{"$f":"DataBase!E2098","v":0}]
[null,null,{"$f":"DataBase!E2099","v":0}]
[null,null,{"$f":"DataBase!E2100","v":0}]
[null,null,{"$f":"DataBase!E2101","v":0}]
[null,null,{"$f":"DataBase!E2102","v":0}]
[null,null,{"$f":"DataBase!E2103","v":0}]
[null,null,{"$f":"DataBase!E2104","v":0}]
[null,null,{"$f":"DataBase!E2105","v":0}]
[null,null,{"$f":"DataBase!E2106","v":0}]
[null,null,{"$f":"DataBase!E2107","v":0}]
[null,null,{"$f":"DataBase!E2108","v":0}]
[null,null,{"$f":"DataBase!E2109","v":0}]
[null,null,{"$f":"DataBase!E2110","v":0}]
[null,null,{"$f":"DataBase!E2111","v":0}]
[null,null,{"$f":"DataBase!E2112","v":0}]
[null,null,{"$f":"DataBase!E2113","v":0}]
[null,null,{"$f":"DataBase!E2114","v":0}]
[null,null,{"$f":"DataBase!E2115","v":0}]
[null,null,{"$f":"DataBase!E2116","v":0}]
[null,null,{"$f":"DataBase!E2117","v":0}]
[null,null,{"$f":"DataBase!E2118","v":0}]
[null,null,{"$f":"DataBase!E2119","v":0}]
[null,null,{"$f":"DataBase!E2120","v":0}]
[null,null,{"$f":"DataBase!E2121","v":0}]
[null,null,{"$f":"DataBase!E2122","v":0}]
[null,null,{"$f":"DataBase!E2123","v":0}]
[null,null,{"$f":"DataBase!E2124","v":0}]
[null,null,{"$f":"DataBase!E2125","v":0}]
[null,null,{"$f":"DataBase!E2126","v":0}]
[null,null,{"$f":"DataBase!E2127","v":0}]
[null,null,{"$f":"DataBase!E2128","v":0}]
[null,null,{"$f":"DataBase!E2129","v":0}]
[null,null,{"$f":"DataBase!E2130","v":0}]
[null,null,{"$f":"DataBase!E2131","v":0}]
[null,null,{"$f":"DataBase!E2132","v":0}]
[null,null,{"$f":"DataBase!E2133","v":0}]
[null,null,{"$f":"DataBase!E2134","v":0}]
[null,null,{"$f":"DataBase!E2135","v":0}]
[null,null,{"$f":"DataBase!E2136","v":0}]
[null,null,{"$f":"DataBase!E2137","v":0}]
[null,null,{"$f":"DataBase!E2138","v":0}]
[null,null,{"$f":"DataBase!E2139","v":0}]
[null,null,{"$f":"DataBase!E2140","v":0}]
[null,null,{"$f":"DataBase!E2141","v":0}]
[null,null,{"$f":"DataBase!E2142","v":0}]
[null,null,{"$f":"DataBase!E2143","v":0}]
[null,null,{"$f":"DataBase!E2144","v":0}]
[null,null,{"$f":"DataBase!E2145","v":0}]
[null,null,{"$f":"DataBase!E2146","v":0}]
[null,null,{"$f":"DataBase!E2147","v":0}]
[null,null,{"$f":"DataBase!E2148","v":0}]
[null,null,{"$f":"DataBase!E2149","v":0}]
[null,null,{"$f":"DataBase!E2150","v":0}]
[null,null,{"$f":"DataBase!E2151","v":0}]
[null,null,{"$f":"DataBase!E2152","v":0}]
[null,null,{"$f":"DataBase!E2153","v":0}]
[null,null,{"$f":"DataBase!E2154","v":0}]
[null,null,{"$f":"DataBase!E2155","v":0}]
[null,null,{"$f":"DataBase!E2156","v":0}]
[null,null,{"$f":"DataBase!E2157","v":0}]
[null,null,{"$f":"DataBase!E2158","v":0}]
[null,null,{"$f":"DataBase!E2159","v":0}]
[null,null,{"$f":"DataBase!E2160","v":0}]
[null,null,{"$f":"DataBase!E2161","v":0}]
[null,null,{"$f":"DataBase!E2162","v":0}]
[null,null,{"$f":"DataBase!E2163","v":0}]
[null,null,{"$f":"DataBase!E2164","v":0}]
[null,null,{"$f":"DataBase!E2165","v":0}]
[null,null,{"$f":"DataBase!E2166","v":0}]
[null,null,{"$f":"DataBase!E2167","v":0}]
[null,null,{"$f":"DataBase!E2168","v":0}]
[null,null,{"$f":"DataBase!E2169","v":0}]
[null,null,{"$f":"DataBase!E2170","v":0}]
[null,null,{"$f":"DataBase!E2171","v":0}]
[null,null,{"$f":"DataBase!E2172","v":0}]
[null,null,{"$f":"DataBase!E2173","v":0}]
[null,null,{"$f":"DataBase!E2174","v":0}]
[null,null,{"$f":"DataBase!E2175","v":0}]
[null,null,{"$f":"DataBase!E2176","v":0}]
[null,null,{"$f":"DataBase!E2177","v":0}]
[null,null,{"$f":"DataBase!E2178","v":0}]
[null,null,{"$f":"DataBase!E2179","v":0}]
[null,null,{"$f":"DataBase!E2180","v":0}]
[null,null,{"$f":"DataBase!E2181","v":0}]
[null,null,{"$f":"DataBase!E2182","v":0}]
[null,null,{"$f":"DataBase!E2183","v":0}]
[null,null,{"$f":"DataBase!E2184","v":0}]
[null,null,{"$f":"DataBase!E2185","v":0}]
[null,null,{"$f":"DataBase!E2186","v":0}]
[null,null,{"$f":"DataBase!E2187","v":0}]
[null,null,{"$f":"DataBase!E2188","v":0}]

{"sheet":"Version Control","index":9,"n_rows":20,"n_cols":5,"rows_kept":20,"cut":false,"hidden":false,"merged":[]}
[]
["Victorian Public Healthcare Services Waste Reporting Tool"]
[]
[]
["Change Log"]
[]
["Version ","Date","Description","Changed By","Reviewed By"]
[1,"2015-12-14","Waste Tool V1.00"]
[1.01,"2016-01-05","Health Service Name removed from file name structure at data provider request","AH","N/A"]
[1.02,"2016-02-01","Functionality to separate kg from QTY based measurements added","AH","JeH"]
[1.03,"2016-02-17","Refinements to Bulk upload tool","AH","JeH"]
[1.04,"2016-02-22","Removed N/A designation of empty fields at request of D.B. admin","AH"]
[1.1299999999999999,"2017-05-23","HPV updated DataBase (GLN map), Waste Types and Conversion Factors","JeH"]
[1.1399999999999999,"2017-06-26","HPV updated some Waste Types and Bin Names","JeH"]
[1.1499999999999999,"2017-08-04","changed date to text format in data submission tab to avoid excel reding date format incorrectly from other sheet","AH"]
[2.0099999999999998,"2017-08-28","Added a 'Custom Value' bin type so that the USER DEFINED option will work correctly","JeH"]
[2.02,"2017-09-21","Updated Database tab for an extra waste device at Northern Health - Bundoora Extended Care Centre","JeH"]
[2.0299999999999998,"2017-11-02","Updated Database tab for an extra waste device at Alpine Health - Hawthorne Village Hostel","JeH"]
[2.04,"2018-03-01","Updated Waste Types to enable more bin types","JeH"]
[2.0499999999999998,"2018-04-06","Updated Cohuna District Health and Calvary Health Care Bethlehelm","JeH"]